BEGIN:VCALENDAR
VERSION:2.0
PRODID:-//South Whitley Community Public Library - ECPv6.15.20//NONSGML v1.0//EN
CALSCALE:GREGORIAN
METHOD:PUBLISH
X-WR-CALNAME:South Whitley Community Public Library
X-ORIGINAL-URL:https://swcplib.com
X-WR-CALDESC:Events for South Whitley Community Public Library
REFRESH-INTERVAL;VALUE=DURATION:PT1H
X-Robots-Tag:noindex
X-PUBLISHED-TTL:PT1H
BEGIN:VTIMEZONE
TZID:America/Indiana/Indianapolis
BEGIN:DAYLIGHT
TZOFFSETFROM:-0500
TZOFFSETTO:-0400
TZNAME:EDT
DTSTART:20250309T070000
END:DAYLIGHT
BEGIN:STANDARD
TZOFFSETFROM:-0400
TZOFFSETTO:-0500
TZNAME:EST
DTSTART:20251102T060000
END:STANDARD
BEGIN:DAYLIGHT
TZOFFSETFROM:-0500
TZOFFSETTO:-0400
TZNAME:EDT
DTSTART:20260308T070000
END:DAYLIGHT
BEGIN:STANDARD
TZOFFSETFROM:-0400
TZOFFSETTO:-0500
TZNAME:EST
DTSTART:20261101T060000
END:STANDARD
BEGIN:DAYLIGHT
TZOFFSETFROM:-0500
TZOFFSETTO:-0400
TZNAME:EDT
DTSTART:20270314T070000
END:DAYLIGHT
BEGIN:STANDARD
TZOFFSETFROM:-0400
TZOFFSETTO:-0500
TZNAME:EST
DTSTART:20271107T060000
END:STANDARD
END:VTIMEZONE
BEGIN:VEVENT
DTSTART;TZID=America/Indiana/Indianapolis:20260512T103000
DTEND;TZID=America/Indiana/Indianapolis:20260512T103000
DTSTAMP:20260422T181922
CREATED:20250715T194525Z
LAST-MODIFIED:20260317T183531Z
UID:10009245-1778581800-1778581800@swcplib.com
SUMMARY:Story Time
DESCRIPTION:With the conclusion of the summer reading program\, story time moves back to its regular time of 10:30 a.m. Join Ms. Jen under the tree in the children’s room for songs and stories all summer long. After enjoying a story\, children are welcome to join the fun of making a project.
URL:https://swcplib.com/event/story-time/2026-05-12/
LOCATION:South Whitley Community Public Library\, 201 East Front Street\, South Whitley\, IN\, 46787\, United States
CATEGORIES:Children
ATTACH;FMTTYPE=image/png:https://swcplib.com/wp-content/uploads/2022/07/7.png
ORGANIZER;CN="South Whitley Community Public Library":MAILTO:info@swcplib.com
END:VEVENT
BEGIN:VEVENT
DTSTART;TZID=America/Indiana/Indianapolis:20260512T140000
DTEND;TZID=America/Indiana/Indianapolis:20260512T170000
DTSTAMP:20260422T181922
CREATED:20260226T200604Z
LAST-MODIFIED:20260226T200604Z
UID:10010852-1778594400-1778605200@swcplib.com
SUMMARY:Tech Tuesdays
DESCRIPTION:Have a question about your smartphone\, tablet or laptop? We’re here to help! Bring your device and its power cord to the library and a staff member will work with you on your issue. For extended help\, please schedule an appointment by contacting the front desk.
URL:https://swcplib.com/event/tech-tuesdays/2026-05-12/
LOCATION:South Whitley Community Public Library\, 201 East Front Street\, South Whitley\, IN\, 46787\, United States
CATEGORIES:All Ages/General Public,Technology
ATTACH;FMTTYPE=image/png:https://swcplib.com/wp-content/uploads/2023/01/2.png
ORGANIZER;CN="South Whitley Community Public Library":MAILTO:info@swcplib.com
END:VEVENT
BEGIN:VEVENT
DTSTART;TZID=America/Indiana/Indianapolis:20260513T103000
DTEND;TZID=America/Indiana/Indianapolis:20260513T103000
DTSTAMP:20260422T181922
CREATED:20240513T192619Z
LAST-MODIFIED:20251126T160413Z
UID:10005782-1778668200-1778668200@swcplib.com
SUMMARY:Tai Chi / Chair Yoga
DESCRIPTION:A video-led session that allows participants to choose between tai chi or chair yoga.
URL:https://swcplib.com/event/tai-chi-for-beginners/2026-05-13/
LOCATION:South Whitley Community Public Library\, 201 East Front Street\, South Whitley\, IN\, 46787\, United States
CATEGORIES:All Ages/General Public,Health & Wellness
ATTACH;FMTTYPE=image/png:https://swcplib.com/wp-content/uploads/2024/05/Tai-Chi.png
ORGANIZER;CN="South Whitley Community Public Library":MAILTO:info@swcplib.com
END:VEVENT
BEGIN:VEVENT
DTSTART;TZID=America/Indiana/Indianapolis:20260513T153000
DTEND;TZID=America/Indiana/Indianapolis:20260513T173000
DTSTAMP:20260422T181922
CREATED:20251023T194553Z
LAST-MODIFIED:20251126T160441Z
UID:10009847-1778686200-1778693400@swcplib.com
SUMMARY:Teen Hangout
DESCRIPTION:Are you a teen who likes to listen to music\, have snacks and hang out with your friends? Then Teen Hangout is right up your alley! This group will meet in the auditorium lobby each Wednesday for an unstructured gathering time. Snacks will be provided\, and there will be a variety of activities including crafts and games available for those interested. Our newest offering for young people is geared toward ages 13 to 19.
URL:https://swcplib.com/event/teen-hangout/2026-05-13/
LOCATION:South Whitley Community Public Library\, 201 East Front Street\, South Whitley\, IN\, 46787\, United States
CATEGORIES:Teens
ATTACH;FMTTYPE=image/png:https://swcplib.com/wp-content/uploads/2025/10/Teen-Hangout.png
ORGANIZER;CN="South Whitley Community Public Library":MAILTO:info@swcplib.com
END:VEVENT
BEGIN:VEVENT
DTSTART;TZID=America/Indiana/Indianapolis:20260514T180000
DTEND;TZID=America/Indiana/Indianapolis:20260514T190000
DTSTAMP:20260422T181922
CREATED:20221206T171534Z
LAST-MODIFIED:20250719T124258Z
UID:10008291-1778781600-1778785200@swcplib.com
SUMMARY:Library Board Meeting
DESCRIPTION:The regular meeting of the Board of Trustees.
URL:https://swcplib.com/event/library-board-meeting/2026-05-14/
LOCATION:South Whitley Community Public Library\, 201 East Front Street\, South Whitley\, IN\, 46787\, United States
CATEGORIES:All Ages/General Public
ATTACH;FMTTYPE=image/jpeg:https://swcplib.com/wp-content/uploads/2020/10/IMG_20201009_143203-scaled.jpg
ORGANIZER;CN="South Whitley Community Public Library":MAILTO:info@swcplib.com
END:VEVENT
BEGIN:VEVENT
DTSTART;TZID=America/Indiana/Indianapolis:20260516T100000
DTEND;TZID=America/Indiana/Indianapolis:20260516T100000
DTSTAMP:20260422T181922
CREATED:20230609T165132Z
LAST-MODIFIED:20260324T150929Z
UID:10011345-1778925600-1778925600@swcplib.com
SUMMARY:Beginner Yoga
DESCRIPTION:Our Saturday yoga class is expanding to every Saturday. Adults are welcome to join instructor Katie Shelby for a beginner yoga class that includes personal instruction as well as video instruction.
URL:https://swcplib.com/event/beginner-yoga-2-2/2026-05-16/
LOCATION:South Whitley Community Public Library\, 201 East Front Street\, South Whitley\, IN\, 46787\, United States
CATEGORIES:All Ages/General Public,Health & Wellness
ATTACH;FMTTYPE=image/png:https://swcplib.com/wp-content/uploads/2021/12/Summer-Reading-2022-7.png
ORGANIZER;CN="South Whitley Community Public Library":MAILTO:info@swcplib.com
END:VEVENT
BEGIN:VEVENT
DTSTART;TZID=America/Indiana/Indianapolis:20260519T103000
DTEND;TZID=America/Indiana/Indianapolis:20260519T103000
DTSTAMP:20260422T181922
CREATED:20250715T194525Z
LAST-MODIFIED:20260317T183531Z
UID:10009246-1779186600-1779186600@swcplib.com
SUMMARY:Story Time
DESCRIPTION:With the conclusion of the summer reading program\, story time moves back to its regular time of 10:30 a.m. Join Ms. Jen under the tree in the children’s room for songs and stories all summer long. After enjoying a story\, children are welcome to join the fun of making a project.
URL:https://swcplib.com/event/story-time/2026-05-19/
LOCATION:South Whitley Community Public Library\, 201 East Front Street\, South Whitley\, IN\, 46787\, United States
CATEGORIES:Children
ATTACH;FMTTYPE=image/png:https://swcplib.com/wp-content/uploads/2022/07/7.png
ORGANIZER;CN="South Whitley Community Public Library":MAILTO:info@swcplib.com
END:VEVENT
BEGIN:VEVENT
DTSTART;TZID=America/Indiana/Indianapolis:20260519T140000
DTEND;TZID=America/Indiana/Indianapolis:20260519T170000
DTSTAMP:20260422T181922
CREATED:20260226T200604Z
LAST-MODIFIED:20260226T200604Z
UID:10010853-1779199200-1779210000@swcplib.com
SUMMARY:Tech Tuesdays
DESCRIPTION:Have a question about your smartphone\, tablet or laptop? We’re here to help! Bring your device and its power cord to the library and a staff member will work with you on your issue. For extended help\, please schedule an appointment by contacting the front desk.
URL:https://swcplib.com/event/tech-tuesdays/2026-05-19/
LOCATION:South Whitley Community Public Library\, 201 East Front Street\, South Whitley\, IN\, 46787\, United States
CATEGORIES:All Ages/General Public,Technology
ATTACH;FMTTYPE=image/png:https://swcplib.com/wp-content/uploads/2023/01/2.png
ORGANIZER;CN="South Whitley Community Public Library":MAILTO:info@swcplib.com
END:VEVENT
BEGIN:VEVENT
DTSTART;TZID=America/Indiana/Indianapolis:20260520T103000
DTEND;TZID=America/Indiana/Indianapolis:20260520T103000
DTSTAMP:20260422T181922
CREATED:20240513T192619Z
LAST-MODIFIED:20251126T160413Z
UID:10005783-1779273000-1779273000@swcplib.com
SUMMARY:Tai Chi / Chair Yoga
DESCRIPTION:A video-led session that allows participants to choose between tai chi or chair yoga.
URL:https://swcplib.com/event/tai-chi-for-beginners/2026-05-20/
LOCATION:South Whitley Community Public Library\, 201 East Front Street\, South Whitley\, IN\, 46787\, United States
CATEGORIES:All Ages/General Public,Health & Wellness
ATTACH;FMTTYPE=image/png:https://swcplib.com/wp-content/uploads/2024/05/Tai-Chi.png
ORGANIZER;CN="South Whitley Community Public Library":MAILTO:info@swcplib.com
END:VEVENT
BEGIN:VEVENT
DTSTART;TZID=America/Indiana/Indianapolis:20260520T153000
DTEND;TZID=America/Indiana/Indianapolis:20260520T173000
DTSTAMP:20260422T181922
CREATED:20251023T194553Z
LAST-MODIFIED:20251126T160441Z
UID:10009848-1779291000-1779298200@swcplib.com
SUMMARY:Teen Hangout
DESCRIPTION:Are you a teen who likes to listen to music\, have snacks and hang out with your friends? Then Teen Hangout is right up your alley! This group will meet in the auditorium lobby each Wednesday for an unstructured gathering time. Snacks will be provided\, and there will be a variety of activities including crafts and games available for those interested. Our newest offering for young people is geared toward ages 13 to 19.
URL:https://swcplib.com/event/teen-hangout/2026-05-20/
LOCATION:South Whitley Community Public Library\, 201 East Front Street\, South Whitley\, IN\, 46787\, United States
CATEGORIES:Teens
ATTACH;FMTTYPE=image/png:https://swcplib.com/wp-content/uploads/2025/10/Teen-Hangout.png
ORGANIZER;CN="South Whitley Community Public Library":MAILTO:info@swcplib.com
END:VEVENT
BEGIN:VEVENT
DTSTART;TZID=America/Indiana/Indianapolis:20260522T183000
DTEND;TZID=America/Indiana/Indianapolis:20260522T183000
DTSTAMP:20260422T181922
CREATED:20251208T184046Z
LAST-MODIFIED:20251208T184046Z
UID:10010735-1779474600-1779474600@swcplib.com
SUMMARY:South Whitley Cinema
DESCRIPTION:This month\, we’ll be showing Crocodile Dundee.
URL:https://swcplib.com/event/south-whitley-cinema-9/
LOCATION:South Whitley Community Public Library\, 201 East Front Street\, South Whitley\, IN\, 46787\, United States
CATEGORIES:All Ages/General Public,Movie
ATTACH;FMTTYPE=image/jpeg:https://swcplib.com/wp-content/uploads/2025/09/South-Whitley-Cinema-logo.jpg
ORGANIZER;CN="South Whitley Community Public Library":MAILTO:info@swcplib.com
END:VEVENT
BEGIN:VEVENT
DTSTART;TZID=America/Indiana/Indianapolis:20260523T100000
DTEND;TZID=America/Indiana/Indianapolis:20260523T100000
DTSTAMP:20260422T181922
CREATED:20230609T165132Z
LAST-MODIFIED:20260324T150929Z
UID:10011346-1779530400-1779530400@swcplib.com
SUMMARY:Beginner Yoga
DESCRIPTION:Our Saturday yoga class is expanding to every Saturday. Adults are welcome to join instructor Katie Shelby for a beginner yoga class that includes personal instruction as well as video instruction.
URL:https://swcplib.com/event/beginner-yoga-2-2/2026-05-23/
LOCATION:South Whitley Community Public Library\, 201 East Front Street\, South Whitley\, IN\, 46787\, United States
CATEGORIES:All Ages/General Public,Health & Wellness
ATTACH;FMTTYPE=image/png:https://swcplib.com/wp-content/uploads/2021/12/Summer-Reading-2022-7.png
ORGANIZER;CN="South Whitley Community Public Library":MAILTO:info@swcplib.com
END:VEVENT
BEGIN:VEVENT
DTSTART;TZID=America/Indiana/Indianapolis:20260526T103000
DTEND;TZID=America/Indiana/Indianapolis:20260526T103000
DTSTAMP:20260422T181922
CREATED:20250715T194525Z
LAST-MODIFIED:20260317T183531Z
UID:10009247-1779791400-1779791400@swcplib.com
SUMMARY:Story Time
DESCRIPTION:With the conclusion of the summer reading program\, story time moves back to its regular time of 10:30 a.m. Join Ms. Jen under the tree in the children’s room for songs and stories all summer long. After enjoying a story\, children are welcome to join the fun of making a project.
URL:https://swcplib.com/event/story-time/2026-05-26/
LOCATION:South Whitley Community Public Library\, 201 East Front Street\, South Whitley\, IN\, 46787\, United States
CATEGORIES:Children
ATTACH;FMTTYPE=image/png:https://swcplib.com/wp-content/uploads/2022/07/7.png
ORGANIZER;CN="South Whitley Community Public Library":MAILTO:info@swcplib.com
END:VEVENT
BEGIN:VEVENT
DTSTART;TZID=America/Indiana/Indianapolis:20260526T140000
DTEND;TZID=America/Indiana/Indianapolis:20260526T170000
DTSTAMP:20260422T181922
CREATED:20260226T200604Z
LAST-MODIFIED:20260226T200604Z
UID:10010854-1779804000-1779814800@swcplib.com
SUMMARY:Tech Tuesdays
DESCRIPTION:Have a question about your smartphone\, tablet or laptop? We’re here to help! Bring your device and its power cord to the library and a staff member will work with you on your issue. For extended help\, please schedule an appointment by contacting the front desk.
URL:https://swcplib.com/event/tech-tuesdays/2026-05-26/
LOCATION:South Whitley Community Public Library\, 201 East Front Street\, South Whitley\, IN\, 46787\, United States
CATEGORIES:All Ages/General Public,Technology
ATTACH;FMTTYPE=image/png:https://swcplib.com/wp-content/uploads/2023/01/2.png
ORGANIZER;CN="South Whitley Community Public Library":MAILTO:info@swcplib.com
END:VEVENT
BEGIN:VEVENT
DTSTART;TZID=America/Indiana/Indianapolis:20260527T103000
DTEND;TZID=America/Indiana/Indianapolis:20260527T103000
DTSTAMP:20260422T181922
CREATED:20240513T192619Z
LAST-MODIFIED:20251126T160413Z
UID:10005784-1779877800-1779877800@swcplib.com
SUMMARY:Tai Chi / Chair Yoga
DESCRIPTION:A video-led session that allows participants to choose between tai chi or chair yoga.
URL:https://swcplib.com/event/tai-chi-for-beginners/2026-05-27/
LOCATION:South Whitley Community Public Library\, 201 East Front Street\, South Whitley\, IN\, 46787\, United States
CATEGORIES:All Ages/General Public,Health & Wellness
ATTACH;FMTTYPE=image/png:https://swcplib.com/wp-content/uploads/2024/05/Tai-Chi.png
ORGANIZER;CN="South Whitley Community Public Library":MAILTO:info@swcplib.com
END:VEVENT
BEGIN:VEVENT
DTSTART;TZID=America/Indiana/Indianapolis:20260527T153000
DTEND;TZID=America/Indiana/Indianapolis:20260527T173000
DTSTAMP:20260422T181922
CREATED:20251023T194553Z
LAST-MODIFIED:20251126T160441Z
UID:10009849-1779895800-1779903000@swcplib.com
SUMMARY:Teen Hangout
DESCRIPTION:Are you a teen who likes to listen to music\, have snacks and hang out with your friends? Then Teen Hangout is right up your alley! This group will meet in the auditorium lobby each Wednesday for an unstructured gathering time. Snacks will be provided\, and there will be a variety of activities including crafts and games available for those interested. Our newest offering for young people is geared toward ages 13 to 19.
URL:https://swcplib.com/event/teen-hangout/2026-05-27/
LOCATION:South Whitley Community Public Library\, 201 East Front Street\, South Whitley\, IN\, 46787\, United States
CATEGORIES:Teens
ATTACH;FMTTYPE=image/png:https://swcplib.com/wp-content/uploads/2025/10/Teen-Hangout.png
ORGANIZER;CN="South Whitley Community Public Library":MAILTO:info@swcplib.com
END:VEVENT
BEGIN:VEVENT
DTSTART;TZID=America/Indiana/Indianapolis:20260530T100000
DTEND;TZID=America/Indiana/Indianapolis:20260530T100000
DTSTAMP:20260422T181922
CREATED:20230609T165132Z
LAST-MODIFIED:20260324T150929Z
UID:10011347-1780135200-1780135200@swcplib.com
SUMMARY:Beginner Yoga
DESCRIPTION:Our Saturday yoga class is expanding to every Saturday. Adults are welcome to join instructor Katie Shelby for a beginner yoga class that includes personal instruction as well as video instruction.
URL:https://swcplib.com/event/beginner-yoga-2-2/2026-05-30/
LOCATION:South Whitley Community Public Library\, 201 East Front Street\, South Whitley\, IN\, 46787\, United States
CATEGORIES:All Ages/General Public,Health & Wellness
ATTACH;FMTTYPE=image/png:https://swcplib.com/wp-content/uploads/2021/12/Summer-Reading-2022-7.png
ORGANIZER;CN="South Whitley Community Public Library":MAILTO:info@swcplib.com
END:VEVENT
BEGIN:VEVENT
DTSTART;TZID=America/Indiana/Indianapolis:20260602T103000
DTEND;TZID=America/Indiana/Indianapolis:20260602T103000
DTSTAMP:20260422T181922
CREATED:20250715T194525Z
LAST-MODIFIED:20260317T183531Z
UID:10009248-1780396200-1780396200@swcplib.com
SUMMARY:Story Time
DESCRIPTION:With the conclusion of the summer reading program\, story time moves back to its regular time of 10:30 a.m. Join Ms. Jen under the tree in the children’s room for songs and stories all summer long. After enjoying a story\, children are welcome to join the fun of making a project.
URL:https://swcplib.com/event/story-time/2026-06-02/
LOCATION:South Whitley Community Public Library\, 201 East Front Street\, South Whitley\, IN\, 46787\, United States
CATEGORIES:Children
ATTACH;FMTTYPE=image/png:https://swcplib.com/wp-content/uploads/2022/07/7.png
ORGANIZER;CN="South Whitley Community Public Library":MAILTO:info@swcplib.com
END:VEVENT
BEGIN:VEVENT
DTSTART;TZID=America/Indiana/Indianapolis:20260602T140000
DTEND;TZID=America/Indiana/Indianapolis:20260602T170000
DTSTAMP:20260422T181922
CREATED:20260226T200604Z
LAST-MODIFIED:20260226T200604Z
UID:10010855-1780408800-1780419600@swcplib.com
SUMMARY:Tech Tuesdays
DESCRIPTION:Have a question about your smartphone\, tablet or laptop? We’re here to help! Bring your device and its power cord to the library and a staff member will work with you on your issue. For extended help\, please schedule an appointment by contacting the front desk.
URL:https://swcplib.com/event/tech-tuesdays/2026-06-02/
LOCATION:South Whitley Community Public Library\, 201 East Front Street\, South Whitley\, IN\, 46787\, United States
CATEGORIES:All Ages/General Public,Technology
ATTACH;FMTTYPE=image/png:https://swcplib.com/wp-content/uploads/2023/01/2.png
ORGANIZER;CN="South Whitley Community Public Library":MAILTO:info@swcplib.com
END:VEVENT
BEGIN:VEVENT
DTSTART;TZID=America/Indiana/Indianapolis:20260603T103000
DTEND;TZID=America/Indiana/Indianapolis:20260603T103000
DTSTAMP:20260422T181922
CREATED:20240513T192619Z
LAST-MODIFIED:20251126T160413Z
UID:10005785-1780482600-1780482600@swcplib.com
SUMMARY:Tai Chi / Chair Yoga
DESCRIPTION:A video-led session that allows participants to choose between tai chi or chair yoga.
URL:https://swcplib.com/event/tai-chi-for-beginners/2026-06-03/
LOCATION:South Whitley Community Public Library\, 201 East Front Street\, South Whitley\, IN\, 46787\, United States
CATEGORIES:All Ages/General Public,Health & Wellness
ATTACH;FMTTYPE=image/png:https://swcplib.com/wp-content/uploads/2024/05/Tai-Chi.png
ORGANIZER;CN="South Whitley Community Public Library":MAILTO:info@swcplib.com
END:VEVENT
BEGIN:VEVENT
DTSTART;TZID=America/Indiana/Indianapolis:20260603T153000
DTEND;TZID=America/Indiana/Indianapolis:20260603T173000
DTSTAMP:20260422T181922
CREATED:20251023T194553Z
LAST-MODIFIED:20251126T160441Z
UID:10009850-1780500600-1780507800@swcplib.com
SUMMARY:Teen Hangout
DESCRIPTION:Are you a teen who likes to listen to music\, have snacks and hang out with your friends? Then Teen Hangout is right up your alley! This group will meet in the auditorium lobby each Wednesday for an unstructured gathering time. Snacks will be provided\, and there will be a variety of activities including crafts and games available for those interested. Our newest offering for young people is geared toward ages 13 to 19.
URL:https://swcplib.com/event/teen-hangout/2026-06-03/
LOCATION:South Whitley Community Public Library\, 201 East Front Street\, South Whitley\, IN\, 46787\, United States
CATEGORIES:Teens
ATTACH;FMTTYPE=image/png:https://swcplib.com/wp-content/uploads/2025/10/Teen-Hangout.png
ORGANIZER;CN="South Whitley Community Public Library":MAILTO:info@swcplib.com
END:VEVENT
BEGIN:VEVENT
DTSTART;TZID=America/Indiana/Indianapolis:20260606T100000
DTEND;TZID=America/Indiana/Indianapolis:20260606T100000
DTSTAMP:20260422T181922
CREATED:20230609T165132Z
LAST-MODIFIED:20260324T150929Z
UID:10011348-1780740000-1780740000@swcplib.com
SUMMARY:Beginner Yoga
DESCRIPTION:Our Saturday yoga class is expanding to every Saturday. Adults are welcome to join instructor Katie Shelby for a beginner yoga class that includes personal instruction as well as video instruction.
URL:https://swcplib.com/event/beginner-yoga-2-2/2026-06-06/
LOCATION:South Whitley Community Public Library\, 201 East Front Street\, South Whitley\, IN\, 46787\, United States
CATEGORIES:All Ages/General Public,Health & Wellness
ATTACH;FMTTYPE=image/png:https://swcplib.com/wp-content/uploads/2021/12/Summer-Reading-2022-7.png
ORGANIZER;CN="South Whitley Community Public Library":MAILTO:info@swcplib.com
END:VEVENT
BEGIN:VEVENT
DTSTART;TZID=America/Indiana/Indianapolis:20260609T103000
DTEND;TZID=America/Indiana/Indianapolis:20260609T103000
DTSTAMP:20260422T181922
CREATED:20250715T194525Z
LAST-MODIFIED:20260317T183531Z
UID:10009249-1781001000-1781001000@swcplib.com
SUMMARY:Story Time
DESCRIPTION:With the conclusion of the summer reading program\, story time moves back to its regular time of 10:30 a.m. Join Ms. Jen under the tree in the children’s room for songs and stories all summer long. After enjoying a story\, children are welcome to join the fun of making a project.
URL:https://swcplib.com/event/story-time/2026-06-09/
LOCATION:South Whitley Community Public Library\, 201 East Front Street\, South Whitley\, IN\, 46787\, United States
CATEGORIES:Children
ATTACH;FMTTYPE=image/png:https://swcplib.com/wp-content/uploads/2022/07/7.png
ORGANIZER;CN="South Whitley Community Public Library":MAILTO:info@swcplib.com
END:VEVENT
BEGIN:VEVENT
DTSTART;TZID=America/Indiana/Indianapolis:20260609T140000
DTEND;TZID=America/Indiana/Indianapolis:20260609T170000
DTSTAMP:20260422T181922
CREATED:20260226T200604Z
LAST-MODIFIED:20260226T200604Z
UID:10010856-1781013600-1781024400@swcplib.com
SUMMARY:Tech Tuesdays
DESCRIPTION:Have a question about your smartphone\, tablet or laptop? We’re here to help! Bring your device and its power cord to the library and a staff member will work with you on your issue. For extended help\, please schedule an appointment by contacting the front desk.
URL:https://swcplib.com/event/tech-tuesdays/2026-06-09/
LOCATION:South Whitley Community Public Library\, 201 East Front Street\, South Whitley\, IN\, 46787\, United States
CATEGORIES:All Ages/General Public,Technology
ATTACH;FMTTYPE=image/png:https://swcplib.com/wp-content/uploads/2023/01/2.png
ORGANIZER;CN="South Whitley Community Public Library":MAILTO:info@swcplib.com
END:VEVENT
BEGIN:VEVENT
DTSTART;TZID=America/Indiana/Indianapolis:20260610T103000
DTEND;TZID=America/Indiana/Indianapolis:20260610T103000
DTSTAMP:20260422T181922
CREATED:20240513T192619Z
LAST-MODIFIED:20251126T160413Z
UID:10005786-1781087400-1781087400@swcplib.com
SUMMARY:Tai Chi / Chair Yoga
DESCRIPTION:A video-led session that allows participants to choose between tai chi or chair yoga.
URL:https://swcplib.com/event/tai-chi-for-beginners/2026-06-10/
LOCATION:South Whitley Community Public Library\, 201 East Front Street\, South Whitley\, IN\, 46787\, United States
CATEGORIES:All Ages/General Public,Health & Wellness
ATTACH;FMTTYPE=image/png:https://swcplib.com/wp-content/uploads/2024/05/Tai-Chi.png
ORGANIZER;CN="South Whitley Community Public Library":MAILTO:info@swcplib.com
END:VEVENT
BEGIN:VEVENT
DTSTART;TZID=America/Indiana/Indianapolis:20260610T153000
DTEND;TZID=America/Indiana/Indianapolis:20260610T173000
DTSTAMP:20260422T181922
CREATED:20251023T194553Z
LAST-MODIFIED:20251126T160441Z
UID:10009851-1781105400-1781112600@swcplib.com
SUMMARY:Teen Hangout
DESCRIPTION:Are you a teen who likes to listen to music\, have snacks and hang out with your friends? Then Teen Hangout is right up your alley! This group will meet in the auditorium lobby each Wednesday for an unstructured gathering time. Snacks will be provided\, and there will be a variety of activities including crafts and games available for those interested. Our newest offering for young people is geared toward ages 13 to 19.
URL:https://swcplib.com/event/teen-hangout/2026-06-10/
LOCATION:South Whitley Community Public Library\, 201 East Front Street\, South Whitley\, IN\, 46787\, United States
CATEGORIES:Teens
ATTACH;FMTTYPE=image/png:https://swcplib.com/wp-content/uploads/2025/10/Teen-Hangout.png
ORGANIZER;CN="South Whitley Community Public Library":MAILTO:info@swcplib.com
END:VEVENT
BEGIN:VEVENT
DTSTART;TZID=America/Indiana/Indianapolis:20260611T180000
DTEND;TZID=America/Indiana/Indianapolis:20260611T190000
DTSTAMP:20260422T181922
CREATED:20221206T171534Z
LAST-MODIFIED:20250719T124258Z
UID:10008292-1781200800-1781204400@swcplib.com
SUMMARY:Library Board Meeting
DESCRIPTION:The regular meeting of the Board of Trustees.
URL:https://swcplib.com/event/library-board-meeting/2026-06-11/
LOCATION:South Whitley Community Public Library\, 201 East Front Street\, South Whitley\, IN\, 46787\, United States
CATEGORIES:All Ages/General Public
ATTACH;FMTTYPE=image/jpeg:https://swcplib.com/wp-content/uploads/2020/10/IMG_20201009_143203-scaled.jpg
ORGANIZER;CN="South Whitley Community Public Library":MAILTO:info@swcplib.com
END:VEVENT
BEGIN:VEVENT
DTSTART;TZID=America/Indiana/Indianapolis:20260613T100000
DTEND;TZID=America/Indiana/Indianapolis:20260613T100000
DTSTAMP:20260422T181922
CREATED:20230609T165132Z
LAST-MODIFIED:20260324T150929Z
UID:10011349-1781344800-1781344800@swcplib.com
SUMMARY:Beginner Yoga
DESCRIPTION:Our Saturday yoga class is expanding to every Saturday. Adults are welcome to join instructor Katie Shelby for a beginner yoga class that includes personal instruction as well as video instruction.
URL:https://swcplib.com/event/beginner-yoga-2-2/2026-06-13/
LOCATION:South Whitley Community Public Library\, 201 East Front Street\, South Whitley\, IN\, 46787\, United States
CATEGORIES:All Ages/General Public,Health & Wellness
ATTACH;FMTTYPE=image/png:https://swcplib.com/wp-content/uploads/2021/12/Summer-Reading-2022-7.png
ORGANIZER;CN="South Whitley Community Public Library":MAILTO:info@swcplib.com
END:VEVENT
BEGIN:VEVENT
DTSTART;TZID=America/Indiana/Indianapolis:20260616T103000
DTEND;TZID=America/Indiana/Indianapolis:20260616T103000
DTSTAMP:20260422T181922
CREATED:20250715T194525Z
LAST-MODIFIED:20260317T183531Z
UID:10009250-1781605800-1781605800@swcplib.com
SUMMARY:Story Time
DESCRIPTION:With the conclusion of the summer reading program\, story time moves back to its regular time of 10:30 a.m. Join Ms. Jen under the tree in the children’s room for songs and stories all summer long. After enjoying a story\, children are welcome to join the fun of making a project.
URL:https://swcplib.com/event/story-time/2026-06-16/
LOCATION:South Whitley Community Public Library\, 201 East Front Street\, South Whitley\, IN\, 46787\, United States
CATEGORIES:Children
ATTACH;FMTTYPE=image/png:https://swcplib.com/wp-content/uploads/2022/07/7.png
ORGANIZER;CN="South Whitley Community Public Library":MAILTO:info@swcplib.com
END:VEVENT
BEGIN:VEVENT
DTSTART;TZID=America/Indiana/Indianapolis:20260616T140000
DTEND;TZID=America/Indiana/Indianapolis:20260616T170000
DTSTAMP:20260422T181922
CREATED:20260226T200604Z
LAST-MODIFIED:20260226T200604Z
UID:10010857-1781618400-1781629200@swcplib.com
SUMMARY:Tech Tuesdays
DESCRIPTION:Have a question about your smartphone\, tablet or laptop? We’re here to help! Bring your device and its power cord to the library and a staff member will work with you on your issue. For extended help\, please schedule an appointment by contacting the front desk.
URL:https://swcplib.com/event/tech-tuesdays/2026-06-16/
LOCATION:South Whitley Community Public Library\, 201 East Front Street\, South Whitley\, IN\, 46787\, United States
CATEGORIES:All Ages/General Public,Technology
ATTACH;FMTTYPE=image/png:https://swcplib.com/wp-content/uploads/2023/01/2.png
ORGANIZER;CN="South Whitley Community Public Library":MAILTO:info@swcplib.com
END:VEVENT
END:VCALENDAR