BEGIN:VCALENDAR
VERSION:2.0
PRODID:-//South Whitley Community Public Library - ECPv6.15.20//NONSGML v1.0//EN
CALSCALE:GREGORIAN
METHOD:PUBLISH
X-ORIGINAL-URL:https://swcplib.com
X-WR-CALDESC:Events for South Whitley Community Public Library
REFRESH-INTERVAL;VALUE=DURATION:PT1H
X-Robots-Tag:noindex
X-PUBLISHED-TTL:PT1H
BEGIN:VTIMEZONE
TZID:America/Indiana/Indianapolis
BEGIN:DAYLIGHT
TZOFFSETFROM:-0500
TZOFFSETTO:-0400
TZNAME:EDT
DTSTART:20300310T070000
END:DAYLIGHT
BEGIN:STANDARD
TZOFFSETFROM:-0400
TZOFFSETTO:-0500
TZNAME:EST
DTSTART:20301103T060000
END:STANDARD
BEGIN:DAYLIGHT
TZOFFSETFROM:-0500
TZOFFSETTO:-0400
TZNAME:EDT
DTSTART:20310309T070000
END:DAYLIGHT
BEGIN:STANDARD
TZOFFSETFROM:-0400
TZOFFSETTO:-0500
TZNAME:EST
DTSTART:20311102T060000
END:STANDARD
BEGIN:DAYLIGHT
TZOFFSETFROM:-0500
TZOFFSETTO:-0400
TZNAME:EDT
DTSTART:20320314T070000
END:DAYLIGHT
BEGIN:STANDARD
TZOFFSETFROM:-0400
TZOFFSETTO:-0500
TZNAME:EST
DTSTART:20321107T060000
END:STANDARD
END:VTIMEZONE
BEGIN:VEVENT
DTSTART;TZID=America/Indiana/Indianapolis:20310101T103000
DTEND;TZID=America/Indiana/Indianapolis:20310101T103000
DTSTAMP:20260422T181726
CREATED:20240513T192619Z
LAST-MODIFIED:20251126T160413Z
UID:10010766-1925029800-1925029800@swcplib.com
SUMMARY:Tai Chi / Chair Yoga
DESCRIPTION:A video-led session that allows participants to choose between tai chi or chair yoga.
URL:https://swcplib.com/event/tai-chi-for-beginners/2031-01-01/
LOCATION:South Whitley Community Public Library\, 201 East Front Street\, South Whitley\, IN\, 46787\, United States
CATEGORIES:All Ages/General Public,Health & Wellness
ATTACH;FMTTYPE=image/png:https://swcplib.com/wp-content/uploads/2024/05/Tai-Chi.png
ORGANIZER;CN="South Whitley Community Public Library":MAILTO:info@swcplib.com
END:VEVENT
BEGIN:VEVENT
DTSTART;TZID=America/Indiana/Indianapolis:20310101T153000
DTEND;TZID=America/Indiana/Indianapolis:20310101T173000
DTSTAMP:20260422T181726
CREATED:20251023T194553Z
LAST-MODIFIED:20251126T160441Z
UID:10010814-1925047800-1925055000@swcplib.com
SUMMARY:Teen Hangout
DESCRIPTION:Are you a teen who likes to listen to music\, have snacks and hang out with your friends? Then Teen Hangout is right up your alley! This group will meet in the auditorium lobby each Wednesday for an unstructured gathering time. Snacks will be provided\, and there will be a variety of activities including crafts and games available for those interested. Our newest offering for young people is geared toward ages 13 to 19.
URL:https://swcplib.com/event/teen-hangout/2031-01-01/
LOCATION:South Whitley Community Public Library\, 201 East Front Street\, South Whitley\, IN\, 46787\, United States
CATEGORIES:Teens
ATTACH;FMTTYPE=image/png:https://swcplib.com/wp-content/uploads/2025/10/Teen-Hangout.png
ORGANIZER;CN="South Whitley Community Public Library":MAILTO:info@swcplib.com
END:VEVENT
BEGIN:VEVENT
DTSTART;TZID=America/Indiana/Indianapolis:20310103T103000
DTEND;TZID=America/Indiana/Indianapolis:20310103T103000
DTSTAMP:20260422T181726
CREATED:20251204T191556Z
LAST-MODIFIED:20260122T203052Z
UID:10010795-1925202600-1925202600@swcplib.com
SUMMARY:Fitness Fridays
DESCRIPTION:Adults of all ages and fitness levels are welcome to join us for a high-energy\, low-impact workout including warm-up\, strength\, cardio and balance exercises. Please enter through the auditorium doors.
URL:https://swcplib.com/event/morning-workout-2/2031-01-03/
LOCATION:IN
CATEGORIES:All Ages/General Public,Health & Wellness
ATTACH;FMTTYPE=image/png:https://swcplib.com/wp-content/uploads/2023/11/Exercise.png
END:VEVENT
BEGIN:VEVENT
DTSTART;TZID=America/Indiana/Indianapolis:20310104T100000
DTEND;TZID=America/Indiana/Indianapolis:20310104T100000
DTSTAMP:20260422T181726
CREATED:20230609T165132Z
LAST-MODIFIED:20260324T150929Z
UID:10011587-1925287200-1925287200@swcplib.com
SUMMARY:Beginner Yoga
DESCRIPTION:Our Saturday yoga class is expanding to every Saturday. Adults are welcome to join instructor Katie Shelby for a beginner yoga class that includes personal instruction as well as video instruction.
URL:https://swcplib.com/event/beginner-yoga-2-2/2031-01-04/
LOCATION:South Whitley Community Public Library\, 201 East Front Street\, South Whitley\, IN\, 46787\, United States
CATEGORIES:All Ages/General Public,Health & Wellness
ATTACH;FMTTYPE=image/png:https://swcplib.com/wp-content/uploads/2021/12/Summer-Reading-2022-7.png
ORGANIZER;CN="South Whitley Community Public Library":MAILTO:info@swcplib.com
END:VEVENT
BEGIN:VEVENT
DTSTART;TZID=America/Indiana/Indianapolis:20310106T093000
DTEND;TZID=America/Indiana/Indianapolis:20310106T093000
DTSTAMP:20260422T181726
CREATED:20231116T215517Z
LAST-MODIFIED:20250520T182058Z
UID:10010771-1925458200-1925458200@swcplib.com
SUMMARY:Morning Workout
DESCRIPTION:Adults of all ages and fitness levels are welcome to join us for a high-energy\, low-impact workout including warm-up\, strength\, cardio and balance exercises.
URL:https://swcplib.com/event/morning-workout/2031-01-06/
LOCATION:IN
CATEGORIES:All Ages/General Public,Health & Wellness
ATTACH;FMTTYPE=image/png:https://swcplib.com/wp-content/uploads/2023/11/Exercise.png
END:VEVENT
BEGIN:VEVENT
DTSTART;TZID=America/Indiana/Indianapolis:20310107T103000
DTEND;TZID=America/Indiana/Indianapolis:20310107T103000
DTSTAMP:20260422T181726
CREATED:20250715T194525Z
LAST-MODIFIED:20260317T183531Z
UID:10010779-1925548200-1925548200@swcplib.com
SUMMARY:Story Time
DESCRIPTION:With the conclusion of the summer reading program\, story time moves back to its regular time of 10:30 a.m. Join Ms. Jen under the tree in the children’s room for songs and stories all summer long. After enjoying a story\, children are welcome to join the fun of making a project.
URL:https://swcplib.com/event/story-time/2031-01-07/
LOCATION:South Whitley Community Public Library\, 201 East Front Street\, South Whitley\, IN\, 46787\, United States
CATEGORIES:Children
ATTACH;FMTTYPE=image/png:https://swcplib.com/wp-content/uploads/2022/07/7.png
ORGANIZER;CN="South Whitley Community Public Library":MAILTO:info@swcplib.com
END:VEVENT
BEGIN:VEVENT
DTSTART;TZID=America/Indiana/Indianapolis:20310107T140000
DTEND;TZID=America/Indiana/Indianapolis:20310107T170000
DTSTAMP:20260422T181726
CREATED:20260226T200604Z
LAST-MODIFIED:20260226T200604Z
UID:10011095-1925560800-1925571600@swcplib.com
SUMMARY:Tech Tuesdays
DESCRIPTION:Have a question about your smartphone\, tablet or laptop? We’re here to help! Bring your device and its power cord to the library and a staff member will work with you on your issue. For extended help\, please schedule an appointment by contacting the front desk.
URL:https://swcplib.com/event/tech-tuesdays/2031-01-07/
LOCATION:South Whitley Community Public Library\, 201 East Front Street\, South Whitley\, IN\, 46787\, United States
CATEGORIES:All Ages/General Public,Technology
ATTACH;FMTTYPE=image/png:https://swcplib.com/wp-content/uploads/2023/01/2.png
ORGANIZER;CN="South Whitley Community Public Library":MAILTO:info@swcplib.com
END:VEVENT
BEGIN:VEVENT
DTSTART;TZID=America/Indiana/Indianapolis:20310108T103000
DTEND;TZID=America/Indiana/Indianapolis:20310108T103000
DTSTAMP:20260422T181726
CREATED:20240513T192619Z
LAST-MODIFIED:20251126T160413Z
UID:10010780-1925634600-1925634600@swcplib.com
SUMMARY:Tai Chi / Chair Yoga
DESCRIPTION:A video-led session that allows participants to choose between tai chi or chair yoga.
URL:https://swcplib.com/event/tai-chi-for-beginners/2031-01-08/
LOCATION:South Whitley Community Public Library\, 201 East Front Street\, South Whitley\, IN\, 46787\, United States
CATEGORIES:All Ages/General Public,Health & Wellness
ATTACH;FMTTYPE=image/png:https://swcplib.com/wp-content/uploads/2024/05/Tai-Chi.png
ORGANIZER;CN="South Whitley Community Public Library":MAILTO:info@swcplib.com
END:VEVENT
BEGIN:VEVENT
DTSTART;TZID=America/Indiana/Indianapolis:20310108T153000
DTEND;TZID=America/Indiana/Indianapolis:20310108T173000
DTSTAMP:20260422T181726
CREATED:20251023T194553Z
LAST-MODIFIED:20251126T160441Z
UID:10010815-1925652600-1925659800@swcplib.com
SUMMARY:Teen Hangout
DESCRIPTION:Are you a teen who likes to listen to music\, have snacks and hang out with your friends? Then Teen Hangout is right up your alley! This group will meet in the auditorium lobby each Wednesday for an unstructured gathering time. Snacks will be provided\, and there will be a variety of activities including crafts and games available for those interested. Our newest offering for young people is geared toward ages 13 to 19.
URL:https://swcplib.com/event/teen-hangout/2031-01-08/
LOCATION:South Whitley Community Public Library\, 201 East Front Street\, South Whitley\, IN\, 46787\, United States
CATEGORIES:Teens
ATTACH;FMTTYPE=image/png:https://swcplib.com/wp-content/uploads/2025/10/Teen-Hangout.png
ORGANIZER;CN="South Whitley Community Public Library":MAILTO:info@swcplib.com
END:VEVENT
BEGIN:VEVENT
DTSTART;TZID=America/Indiana/Indianapolis:20310110T103000
DTEND;TZID=America/Indiana/Indianapolis:20310110T103000
DTSTAMP:20260422T181726
CREATED:20251204T191556Z
LAST-MODIFIED:20260122T203052Z
UID:10010796-1925807400-1925807400@swcplib.com
SUMMARY:Fitness Fridays
DESCRIPTION:Adults of all ages and fitness levels are welcome to join us for a high-energy\, low-impact workout including warm-up\, strength\, cardio and balance exercises. Please enter through the auditorium doors.
URL:https://swcplib.com/event/morning-workout-2/2031-01-10/
LOCATION:IN
CATEGORIES:All Ages/General Public,Health & Wellness
ATTACH;FMTTYPE=image/png:https://swcplib.com/wp-content/uploads/2023/11/Exercise.png
END:VEVENT
BEGIN:VEVENT
DTSTART;TZID=America/Indiana/Indianapolis:20310111T100000
DTEND;TZID=America/Indiana/Indianapolis:20310111T100000
DTSTAMP:20260422T181726
CREATED:20230609T165132Z
LAST-MODIFIED:20260324T150929Z
UID:10011588-1925892000-1925892000@swcplib.com
SUMMARY:Beginner Yoga
DESCRIPTION:Our Saturday yoga class is expanding to every Saturday. Adults are welcome to join instructor Katie Shelby for a beginner yoga class that includes personal instruction as well as video instruction.
URL:https://swcplib.com/event/beginner-yoga-2-2/2031-01-11/
LOCATION:South Whitley Community Public Library\, 201 East Front Street\, South Whitley\, IN\, 46787\, United States
CATEGORIES:All Ages/General Public,Health & Wellness
ATTACH;FMTTYPE=image/png:https://swcplib.com/wp-content/uploads/2021/12/Summer-Reading-2022-7.png
ORGANIZER;CN="South Whitley Community Public Library":MAILTO:info@swcplib.com
END:VEVENT
BEGIN:VEVENT
DTSTART;TZID=America/Indiana/Indianapolis:20310113T093000
DTEND;TZID=America/Indiana/Indianapolis:20310113T093000
DTSTAMP:20260422T181726
CREATED:20231116T215517Z
LAST-MODIFIED:20250520T182058Z
UID:10010782-1926063000-1926063000@swcplib.com
SUMMARY:Morning Workout
DESCRIPTION:Adults of all ages and fitness levels are welcome to join us for a high-energy\, low-impact workout including warm-up\, strength\, cardio and balance exercises.
URL:https://swcplib.com/event/morning-workout/2031-01-13/
LOCATION:IN
CATEGORIES:All Ages/General Public,Health & Wellness
ATTACH;FMTTYPE=image/png:https://swcplib.com/wp-content/uploads/2023/11/Exercise.png
END:VEVENT
BEGIN:VEVENT
DTSTART;TZID=America/Indiana/Indianapolis:20310114T103000
DTEND;TZID=America/Indiana/Indianapolis:20310114T103000
DTSTAMP:20260422T181726
CREATED:20250715T194525Z
LAST-MODIFIED:20260317T183531Z
UID:10010783-1926153000-1926153000@swcplib.com
SUMMARY:Story Time
DESCRIPTION:With the conclusion of the summer reading program\, story time moves back to its regular time of 10:30 a.m. Join Ms. Jen under the tree in the children’s room for songs and stories all summer long. After enjoying a story\, children are welcome to join the fun of making a project.
URL:https://swcplib.com/event/story-time/2031-01-14/
LOCATION:South Whitley Community Public Library\, 201 East Front Street\, South Whitley\, IN\, 46787\, United States
CATEGORIES:Children
ATTACH;FMTTYPE=image/png:https://swcplib.com/wp-content/uploads/2022/07/7.png
ORGANIZER;CN="South Whitley Community Public Library":MAILTO:info@swcplib.com
END:VEVENT
BEGIN:VEVENT
DTSTART;TZID=America/Indiana/Indianapolis:20310114T140000
DTEND;TZID=America/Indiana/Indianapolis:20310114T170000
DTSTAMP:20260422T181726
CREATED:20260226T200604Z
LAST-MODIFIED:20260226T200604Z
UID:10011096-1926165600-1926176400@swcplib.com
SUMMARY:Tech Tuesdays
DESCRIPTION:Have a question about your smartphone\, tablet or laptop? We’re here to help! Bring your device and its power cord to the library and a staff member will work with you on your issue. For extended help\, please schedule an appointment by contacting the front desk.
URL:https://swcplib.com/event/tech-tuesdays/2031-01-14/
LOCATION:South Whitley Community Public Library\, 201 East Front Street\, South Whitley\, IN\, 46787\, United States
CATEGORIES:All Ages/General Public,Technology
ATTACH;FMTTYPE=image/png:https://swcplib.com/wp-content/uploads/2023/01/2.png
ORGANIZER;CN="South Whitley Community Public Library":MAILTO:info@swcplib.com
END:VEVENT
BEGIN:VEVENT
DTSTART;TZID=America/Indiana/Indianapolis:20310115T103000
DTEND;TZID=America/Indiana/Indianapolis:20310115T103000
DTSTAMP:20260422T181726
CREATED:20240513T192619Z
LAST-MODIFIED:20251126T160413Z
UID:10010784-1926239400-1926239400@swcplib.com
SUMMARY:Tai Chi / Chair Yoga
DESCRIPTION:A video-led session that allows participants to choose between tai chi or chair yoga.
URL:https://swcplib.com/event/tai-chi-for-beginners/2031-01-15/
LOCATION:South Whitley Community Public Library\, 201 East Front Street\, South Whitley\, IN\, 46787\, United States
CATEGORIES:All Ages/General Public,Health & Wellness
ATTACH;FMTTYPE=image/png:https://swcplib.com/wp-content/uploads/2024/05/Tai-Chi.png
ORGANIZER;CN="South Whitley Community Public Library":MAILTO:info@swcplib.com
END:VEVENT
BEGIN:VEVENT
DTSTART;TZID=America/Indiana/Indianapolis:20310115T153000
DTEND;TZID=America/Indiana/Indianapolis:20310115T173000
DTSTAMP:20260422T181726
CREATED:20251023T194553Z
LAST-MODIFIED:20251126T160441Z
UID:10010816-1926257400-1926264600@swcplib.com
SUMMARY:Teen Hangout
DESCRIPTION:Are you a teen who likes to listen to music\, have snacks and hang out with your friends? Then Teen Hangout is right up your alley! This group will meet in the auditorium lobby each Wednesday for an unstructured gathering time. Snacks will be provided\, and there will be a variety of activities including crafts and games available for those interested. Our newest offering for young people is geared toward ages 13 to 19.
URL:https://swcplib.com/event/teen-hangout/2031-01-15/
LOCATION:South Whitley Community Public Library\, 201 East Front Street\, South Whitley\, IN\, 46787\, United States
CATEGORIES:Teens
ATTACH;FMTTYPE=image/png:https://swcplib.com/wp-content/uploads/2025/10/Teen-Hangout.png
ORGANIZER;CN="South Whitley Community Public Library":MAILTO:info@swcplib.com
END:VEVENT
BEGIN:VEVENT
DTSTART;TZID=America/Indiana/Indianapolis:20310117T103000
DTEND;TZID=America/Indiana/Indianapolis:20310117T103000
DTSTAMP:20260422T181726
CREATED:20251204T191556Z
LAST-MODIFIED:20260122T203052Z
UID:10010797-1926412200-1926412200@swcplib.com
SUMMARY:Fitness Fridays
DESCRIPTION:Adults of all ages and fitness levels are welcome to join us for a high-energy\, low-impact workout including warm-up\, strength\, cardio and balance exercises. Please enter through the auditorium doors.
URL:https://swcplib.com/event/morning-workout-2/2031-01-17/
LOCATION:IN
CATEGORIES:All Ages/General Public,Health & Wellness
ATTACH;FMTTYPE=image/png:https://swcplib.com/wp-content/uploads/2023/11/Exercise.png
END:VEVENT
BEGIN:VEVENT
DTSTART;TZID=America/Indiana/Indianapolis:20310118T100000
DTEND;TZID=America/Indiana/Indianapolis:20310118T100000
DTSTAMP:20260422T181726
CREATED:20230609T165132Z
LAST-MODIFIED:20260324T150929Z
UID:10011589-1926496800-1926496800@swcplib.com
SUMMARY:Beginner Yoga
DESCRIPTION:Our Saturday yoga class is expanding to every Saturday. Adults are welcome to join instructor Katie Shelby for a beginner yoga class that includes personal instruction as well as video instruction.
URL:https://swcplib.com/event/beginner-yoga-2-2/2031-01-18/
LOCATION:South Whitley Community Public Library\, 201 East Front Street\, South Whitley\, IN\, 46787\, United States
CATEGORIES:All Ages/General Public,Health & Wellness
ATTACH;FMTTYPE=image/png:https://swcplib.com/wp-content/uploads/2021/12/Summer-Reading-2022-7.png
ORGANIZER;CN="South Whitley Community Public Library":MAILTO:info@swcplib.com
END:VEVENT
BEGIN:VEVENT
DTSTART;TZID=America/Indiana/Indianapolis:20310120T093000
DTEND;TZID=America/Indiana/Indianapolis:20310120T093000
DTSTAMP:20260422T181726
CREATED:20231116T215517Z
LAST-MODIFIED:20250520T182058Z
UID:10010788-1926667800-1926667800@swcplib.com
SUMMARY:Morning Workout
DESCRIPTION:Adults of all ages and fitness levels are welcome to join us for a high-energy\, low-impact workout including warm-up\, strength\, cardio and balance exercises.
URL:https://swcplib.com/event/morning-workout/2031-01-20/
LOCATION:IN
CATEGORIES:All Ages/General Public,Health & Wellness
ATTACH;FMTTYPE=image/png:https://swcplib.com/wp-content/uploads/2023/11/Exercise.png
END:VEVENT
BEGIN:VEVENT
DTSTART;TZID=America/Indiana/Indianapolis:20310121T103000
DTEND;TZID=America/Indiana/Indianapolis:20310121T103000
DTSTAMP:20260422T181726
CREATED:20250715T194525Z
LAST-MODIFIED:20260317T183531Z
UID:10010789-1926757800-1926757800@swcplib.com
SUMMARY:Story Time
DESCRIPTION:With the conclusion of the summer reading program\, story time moves back to its regular time of 10:30 a.m. Join Ms. Jen under the tree in the children’s room for songs and stories all summer long. After enjoying a story\, children are welcome to join the fun of making a project.
URL:https://swcplib.com/event/story-time/2031-01-21/
LOCATION:South Whitley Community Public Library\, 201 East Front Street\, South Whitley\, IN\, 46787\, United States
CATEGORIES:Children
ATTACH;FMTTYPE=image/png:https://swcplib.com/wp-content/uploads/2022/07/7.png
ORGANIZER;CN="South Whitley Community Public Library":MAILTO:info@swcplib.com
END:VEVENT
BEGIN:VEVENT
DTSTART;TZID=America/Indiana/Indianapolis:20310121T140000
DTEND;TZID=America/Indiana/Indianapolis:20310121T170000
DTSTAMP:20260422T181726
CREATED:20260226T200604Z
LAST-MODIFIED:20260226T200604Z
UID:10011097-1926770400-1926781200@swcplib.com
SUMMARY:Tech Tuesdays
DESCRIPTION:Have a question about your smartphone\, tablet or laptop? We’re here to help! Bring your device and its power cord to the library and a staff member will work with you on your issue. For extended help\, please schedule an appointment by contacting the front desk.
URL:https://swcplib.com/event/tech-tuesdays/2031-01-21/
LOCATION:South Whitley Community Public Library\, 201 East Front Street\, South Whitley\, IN\, 46787\, United States
CATEGORIES:All Ages/General Public,Technology
ATTACH;FMTTYPE=image/png:https://swcplib.com/wp-content/uploads/2023/01/2.png
ORGANIZER;CN="South Whitley Community Public Library":MAILTO:info@swcplib.com
END:VEVENT
BEGIN:VEVENT
DTSTART;TZID=America/Indiana/Indianapolis:20310122T103000
DTEND;TZID=America/Indiana/Indianapolis:20310122T103000
DTSTAMP:20260422T181727
CREATED:20240513T192619Z
LAST-MODIFIED:20251126T160413Z
UID:10010790-1926844200-1926844200@swcplib.com
SUMMARY:Tai Chi / Chair Yoga
DESCRIPTION:A video-led session that allows participants to choose between tai chi or chair yoga.
URL:https://swcplib.com/event/tai-chi-for-beginners/2031-01-22/
LOCATION:South Whitley Community Public Library\, 201 East Front Street\, South Whitley\, IN\, 46787\, United States
CATEGORIES:All Ages/General Public,Health & Wellness
ATTACH;FMTTYPE=image/png:https://swcplib.com/wp-content/uploads/2024/05/Tai-Chi.png
ORGANIZER;CN="South Whitley Community Public Library":MAILTO:info@swcplib.com
END:VEVENT
BEGIN:VEVENT
DTSTART;TZID=America/Indiana/Indianapolis:20310122T153000
DTEND;TZID=America/Indiana/Indianapolis:20310122T173000
DTSTAMP:20260422T181727
CREATED:20251023T194553Z
LAST-MODIFIED:20251126T160441Z
UID:10010817-1926862200-1926869400@swcplib.com
SUMMARY:Teen Hangout
DESCRIPTION:Are you a teen who likes to listen to music\, have snacks and hang out with your friends? Then Teen Hangout is right up your alley! This group will meet in the auditorium lobby each Wednesday for an unstructured gathering time. Snacks will be provided\, and there will be a variety of activities including crafts and games available for those interested. Our newest offering for young people is geared toward ages 13 to 19.
URL:https://swcplib.com/event/teen-hangout/2031-01-22/
LOCATION:South Whitley Community Public Library\, 201 East Front Street\, South Whitley\, IN\, 46787\, United States
CATEGORIES:Teens
ATTACH;FMTTYPE=image/png:https://swcplib.com/wp-content/uploads/2025/10/Teen-Hangout.png
ORGANIZER;CN="South Whitley Community Public Library":MAILTO:info@swcplib.com
END:VEVENT
BEGIN:VEVENT
DTSTART;TZID=America/Indiana/Indianapolis:20310124T103000
DTEND;TZID=America/Indiana/Indianapolis:20310124T103000
DTSTAMP:20260422T181727
CREATED:20251204T191556Z
LAST-MODIFIED:20260122T203052Z
UID:10011607-1927017000-1927017000@swcplib.com
SUMMARY:Fitness Fridays
DESCRIPTION:Adults of all ages and fitness levels are welcome to join us for a high-energy\, low-impact workout including warm-up\, strength\, cardio and balance exercises. Please enter through the auditorium doors.
URL:https://swcplib.com/event/morning-workout-2/2031-01-24/
LOCATION:IN
CATEGORIES:All Ages/General Public,Health & Wellness
ATTACH;FMTTYPE=image/png:https://swcplib.com/wp-content/uploads/2023/11/Exercise.png
END:VEVENT
BEGIN:VEVENT
DTSTART;TZID=America/Indiana/Indianapolis:20310125T100000
DTEND;TZID=America/Indiana/Indianapolis:20310125T100000
DTSTAMP:20260422T181727
CREATED:20230609T165132Z
LAST-MODIFIED:20260324T150929Z
UID:10011590-1927101600-1927101600@swcplib.com
SUMMARY:Beginner Yoga
DESCRIPTION:Our Saturday yoga class is expanding to every Saturday. Adults are welcome to join instructor Katie Shelby for a beginner yoga class that includes personal instruction as well as video instruction.
URL:https://swcplib.com/event/beginner-yoga-2-2/2031-01-25/
LOCATION:South Whitley Community Public Library\, 201 East Front Street\, South Whitley\, IN\, 46787\, United States
CATEGORIES:All Ages/General Public,Health & Wellness
ATTACH;FMTTYPE=image/png:https://swcplib.com/wp-content/uploads/2021/12/Summer-Reading-2022-7.png
ORGANIZER;CN="South Whitley Community Public Library":MAILTO:info@swcplib.com
END:VEVENT
BEGIN:VEVENT
DTSTART;TZID=America/Indiana/Indianapolis:20310127T093000
DTEND;TZID=America/Indiana/Indianapolis:20310127T093000
DTSTAMP:20260422T181727
CREATED:20231116T215517Z
LAST-MODIFIED:20250520T182058Z
UID:10010804-1927272600-1927272600@swcplib.com
SUMMARY:Morning Workout
DESCRIPTION:Adults of all ages and fitness levels are welcome to join us for a high-energy\, low-impact workout including warm-up\, strength\, cardio and balance exercises.
URL:https://swcplib.com/event/morning-workout/2031-01-27/
LOCATION:IN
CATEGORIES:All Ages/General Public,Health & Wellness
ATTACH;FMTTYPE=image/png:https://swcplib.com/wp-content/uploads/2023/11/Exercise.png
END:VEVENT
BEGIN:VEVENT
DTSTART;TZID=America/Indiana/Indianapolis:20310128T103000
DTEND;TZID=America/Indiana/Indianapolis:20310128T103000
DTSTAMP:20260422T181727
CREATED:20250715T194525Z
LAST-MODIFIED:20260317T183531Z
UID:10010807-1927362600-1927362600@swcplib.com
SUMMARY:Story Time
DESCRIPTION:With the conclusion of the summer reading program\, story time moves back to its regular time of 10:30 a.m. Join Ms. Jen under the tree in the children’s room for songs and stories all summer long. After enjoying a story\, children are welcome to join the fun of making a project.
URL:https://swcplib.com/event/story-time/2031-01-28/
LOCATION:South Whitley Community Public Library\, 201 East Front Street\, South Whitley\, IN\, 46787\, United States
CATEGORIES:Children
ATTACH;FMTTYPE=image/png:https://swcplib.com/wp-content/uploads/2022/07/7.png
ORGANIZER;CN="South Whitley Community Public Library":MAILTO:info@swcplib.com
END:VEVENT
BEGIN:VEVENT
DTSTART;TZID=America/Indiana/Indianapolis:20310128T140000
DTEND;TZID=America/Indiana/Indianapolis:20310128T170000
DTSTAMP:20260422T181727
CREATED:20260226T200604Z
LAST-MODIFIED:20260226T200604Z
UID:10011098-1927375200-1927386000@swcplib.com
SUMMARY:Tech Tuesdays
DESCRIPTION:Have a question about your smartphone\, tablet or laptop? We’re here to help! Bring your device and its power cord to the library and a staff member will work with you on your issue. For extended help\, please schedule an appointment by contacting the front desk.
URL:https://swcplib.com/event/tech-tuesdays/2031-01-28/
LOCATION:South Whitley Community Public Library\, 201 East Front Street\, South Whitley\, IN\, 46787\, United States
CATEGORIES:All Ages/General Public,Technology
ATTACH;FMTTYPE=image/png:https://swcplib.com/wp-content/uploads/2023/01/2.png
ORGANIZER;CN="South Whitley Community Public Library":MAILTO:info@swcplib.com
END:VEVENT
BEGIN:VEVENT
DTSTART;TZID=America/Indiana/Indianapolis:20310129T103000
DTEND;TZID=America/Indiana/Indianapolis:20310129T103000
DTSTAMP:20260422T181727
CREATED:20240513T192619Z
LAST-MODIFIED:20251126T160413Z
UID:10010808-1927449000-1927449000@swcplib.com
SUMMARY:Tai Chi / Chair Yoga
DESCRIPTION:A video-led session that allows participants to choose between tai chi or chair yoga.
URL:https://swcplib.com/event/tai-chi-for-beginners/2031-01-29/
LOCATION:South Whitley Community Public Library\, 201 East Front Street\, South Whitley\, IN\, 46787\, United States
CATEGORIES:All Ages/General Public,Health & Wellness
ATTACH;FMTTYPE=image/png:https://swcplib.com/wp-content/uploads/2024/05/Tai-Chi.png
ORGANIZER;CN="South Whitley Community Public Library":MAILTO:info@swcplib.com
END:VEVENT
BEGIN:VEVENT
DTSTART;TZID=America/Indiana/Indianapolis:20310129T153000
DTEND;TZID=America/Indiana/Indianapolis:20310129T173000
DTSTAMP:20260422T181727
CREATED:20251023T194553Z
LAST-MODIFIED:20251126T160441Z
UID:10010818-1927467000-1927474200@swcplib.com
SUMMARY:Teen Hangout
DESCRIPTION:Are you a teen who likes to listen to music\, have snacks and hang out with your friends? Then Teen Hangout is right up your alley! This group will meet in the auditorium lobby each Wednesday for an unstructured gathering time. Snacks will be provided\, and there will be a variety of activities including crafts and games available for those interested. Our newest offering for young people is geared toward ages 13 to 19.
URL:https://swcplib.com/event/teen-hangout/2031-01-29/
LOCATION:South Whitley Community Public Library\, 201 East Front Street\, South Whitley\, IN\, 46787\, United States
CATEGORIES:Teens
ATTACH;FMTTYPE=image/png:https://swcplib.com/wp-content/uploads/2025/10/Teen-Hangout.png
ORGANIZER;CN="South Whitley Community Public Library":MAILTO:info@swcplib.com
END:VEVENT
END:VCALENDAR