BEGIN:VCALENDAR
VERSION:2.0
PRODID:-//South Whitley Community Public Library - ECPv6.15.20//NONSGML v1.0//EN
CALSCALE:GREGORIAN
METHOD:PUBLISH
X-ORIGINAL-URL:https://swcplib.com
X-WR-CALDESC:Events for South Whitley Community Public Library
REFRESH-INTERVAL;VALUE=DURATION:PT1H
X-Robots-Tag:noindex
X-PUBLISHED-TTL:PT1H
BEGIN:VTIMEZONE
TZID:America/Indiana/Indianapolis
BEGIN:DAYLIGHT
TZOFFSETFROM:-0500
TZOFFSETTO:-0400
TZNAME:EDT
DTSTART:20290311T070000
END:DAYLIGHT
BEGIN:STANDARD
TZOFFSETFROM:-0400
TZOFFSETTO:-0500
TZNAME:EST
DTSTART:20291104T060000
END:STANDARD
BEGIN:DAYLIGHT
TZOFFSETFROM:-0500
TZOFFSETTO:-0400
TZNAME:EDT
DTSTART:20300310T070000
END:DAYLIGHT
BEGIN:STANDARD
TZOFFSETFROM:-0400
TZOFFSETTO:-0500
TZNAME:EST
DTSTART:20301103T060000
END:STANDARD
BEGIN:DAYLIGHT
TZOFFSETFROM:-0500
TZOFFSETTO:-0400
TZNAME:EDT
DTSTART:20310309T070000
END:DAYLIGHT
BEGIN:STANDARD
TZOFFSETFROM:-0400
TZOFFSETTO:-0500
TZNAME:EST
DTSTART:20311102T060000
END:STANDARD
END:VTIMEZONE
BEGIN:VEVENT
DTSTART;TZID=America/Indiana/Indianapolis:20301101T103000
DTEND;TZID=America/Indiana/Indianapolis:20301101T103000
DTSTAMP:20260422T153432
CREATED:20251204T191556Z
LAST-MODIFIED:20260122T203052Z
UID:10010726-1919759400-1919759400@swcplib.com
SUMMARY:Fitness Fridays
DESCRIPTION:Adults of all ages and fitness levels are welcome to join us for a high-energy\, low-impact workout including warm-up\, strength\, cardio and balance exercises. Please enter through the auditorium doors.
URL:https://swcplib.com/event/morning-workout-2/2030-11-01/
LOCATION:IN
CATEGORIES:All Ages/General Public,Health & Wellness
ATTACH;FMTTYPE=image/png:https://swcplib.com/wp-content/uploads/2023/11/Exercise.png
END:VEVENT
BEGIN:VEVENT
DTSTART;TZID=America/Indiana/Indianapolis:20301102T100000
DTEND;TZID=America/Indiana/Indianapolis:20301102T100000
DTSTAMP:20260422T153432
CREATED:20230609T165132Z
LAST-MODIFIED:20260324T150929Z
UID:10011578-1919844000-1919844000@swcplib.com
SUMMARY:Beginner Yoga
DESCRIPTION:Our Saturday yoga class is expanding to every Saturday. Adults are welcome to join instructor Katie Shelby for a beginner yoga class that includes personal instruction as well as video instruction.
URL:https://swcplib.com/event/beginner-yoga-2-2/2030-11-02/
LOCATION:South Whitley Community Public Library\, 201 East Front Street\, South Whitley\, IN\, 46787\, United States
CATEGORIES:All Ages/General Public,Health & Wellness
ATTACH;FMTTYPE=image/png:https://swcplib.com/wp-content/uploads/2021/12/Summer-Reading-2022-7.png
ORGANIZER;CN="South Whitley Community Public Library":MAILTO:info@swcplib.com
END:VEVENT
BEGIN:VEVENT
DTSTART;TZID=America/Indiana/Indianapolis:20301104T093000
DTEND;TZID=America/Indiana/Indianapolis:20301104T093000
DTSTAMP:20260422T153432
CREATED:20231116T215517Z
LAST-MODIFIED:20250520T182058Z
UID:10010089-1920015000-1920015000@swcplib.com
SUMMARY:Morning Workout
DESCRIPTION:Adults of all ages and fitness levels are welcome to join us for a high-energy\, low-impact workout including warm-up\, strength\, cardio and balance exercises.
URL:https://swcplib.com/event/morning-workout/2030-11-04/
LOCATION:IN
CATEGORIES:All Ages/General Public,Health & Wellness
ATTACH;FMTTYPE=image/png:https://swcplib.com/wp-content/uploads/2023/11/Exercise.png
END:VEVENT
BEGIN:VEVENT
DTSTART;TZID=America/Indiana/Indianapolis:20301105T103000
DTEND;TZID=America/Indiana/Indianapolis:20301105T103000
DTSTAMP:20260422T153432
CREATED:20250715T194525Z
LAST-MODIFIED:20260317T183531Z
UID:10010106-1920105000-1920105000@swcplib.com
SUMMARY:Story Time
DESCRIPTION:With the conclusion of the summer reading program\, story time moves back to its regular time of 10:30 a.m. Join Ms. Jen under the tree in the children’s room for songs and stories all summer long. After enjoying a story\, children are welcome to join the fun of making a project.
URL:https://swcplib.com/event/story-time/2030-11-05/
LOCATION:South Whitley Community Public Library\, 201 East Front Street\, South Whitley\, IN\, 46787\, United States
CATEGORIES:Children
ATTACH;FMTTYPE=image/png:https://swcplib.com/wp-content/uploads/2022/07/7.png
ORGANIZER;CN="South Whitley Community Public Library":MAILTO:info@swcplib.com
END:VEVENT
BEGIN:VEVENT
DTSTART;TZID=America/Indiana/Indianapolis:20301105T140000
DTEND;TZID=America/Indiana/Indianapolis:20301105T170000
DTSTAMP:20260422T153432
CREATED:20260226T200604Z
LAST-MODIFIED:20260226T200604Z
UID:10011086-1920117600-1920128400@swcplib.com
SUMMARY:Tech Tuesdays
DESCRIPTION:Have a question about your smartphone\, tablet or laptop? We’re here to help! Bring your device and its power cord to the library and a staff member will work with you on your issue. For extended help\, please schedule an appointment by contacting the front desk.
URL:https://swcplib.com/event/tech-tuesdays/2030-11-05/
LOCATION:South Whitley Community Public Library\, 201 East Front Street\, South Whitley\, IN\, 46787\, United States
CATEGORIES:All Ages/General Public,Technology
ATTACH;FMTTYPE=image/png:https://swcplib.com/wp-content/uploads/2023/01/2.png
ORGANIZER;CN="South Whitley Community Public Library":MAILTO:info@swcplib.com
END:VEVENT
BEGIN:VEVENT
DTSTART;TZID=America/Indiana/Indianapolis:20301106T103000
DTEND;TZID=America/Indiana/Indianapolis:20301106T103000
DTSTAMP:20260422T153432
CREATED:20240513T192619Z
LAST-MODIFIED:20251126T160413Z
UID:10010107-1920191400-1920191400@swcplib.com
SUMMARY:Tai Chi / Chair Yoga
DESCRIPTION:A video-led session that allows participants to choose between tai chi or chair yoga.
URL:https://swcplib.com/event/tai-chi-for-beginners/2030-11-06/
LOCATION:South Whitley Community Public Library\, 201 East Front Street\, South Whitley\, IN\, 46787\, United States
CATEGORIES:All Ages/General Public,Health & Wellness
ATTACH;FMTTYPE=image/png:https://swcplib.com/wp-content/uploads/2024/05/Tai-Chi.png
ORGANIZER;CN="South Whitley Community Public Library":MAILTO:info@swcplib.com
END:VEVENT
BEGIN:VEVENT
DTSTART;TZID=America/Indiana/Indianapolis:20301106T153000
DTEND;TZID=America/Indiana/Indianapolis:20301106T173000
DTSTAMP:20260422T153432
CREATED:20251023T194553Z
LAST-MODIFIED:20251126T160441Z
UID:10010190-1920209400-1920216600@swcplib.com
SUMMARY:Teen Hangout
DESCRIPTION:Are you a teen who likes to listen to music\, have snacks and hang out with your friends? Then Teen Hangout is right up your alley! This group will meet in the auditorium lobby each Wednesday for an unstructured gathering time. Snacks will be provided\, and there will be a variety of activities including crafts and games available for those interested. Our newest offering for young people is geared toward ages 13 to 19.
URL:https://swcplib.com/event/teen-hangout/2030-11-06/
LOCATION:South Whitley Community Public Library\, 201 East Front Street\, South Whitley\, IN\, 46787\, United States
CATEGORIES:Teens
ATTACH;FMTTYPE=image/png:https://swcplib.com/wp-content/uploads/2025/10/Teen-Hangout.png
ORGANIZER;CN="South Whitley Community Public Library":MAILTO:info@swcplib.com
END:VEVENT
BEGIN:VEVENT
DTSTART;TZID=America/Indiana/Indianapolis:20301108T103000
DTEND;TZID=America/Indiana/Indianapolis:20301108T103000
DTSTAMP:20260422T153432
CREATED:20251204T191556Z
LAST-MODIFIED:20260122T203052Z
UID:10010727-1920364200-1920364200@swcplib.com
SUMMARY:Fitness Fridays
DESCRIPTION:Adults of all ages and fitness levels are welcome to join us for a high-energy\, low-impact workout including warm-up\, strength\, cardio and balance exercises. Please enter through the auditorium doors.
URL:https://swcplib.com/event/morning-workout-2/2030-11-08/
LOCATION:IN
CATEGORIES:All Ages/General Public,Health & Wellness
ATTACH;FMTTYPE=image/png:https://swcplib.com/wp-content/uploads/2023/11/Exercise.png
END:VEVENT
BEGIN:VEVENT
DTSTART;TZID=America/Indiana/Indianapolis:20301109T100000
DTEND;TZID=America/Indiana/Indianapolis:20301109T100000
DTSTAMP:20260422T153432
CREATED:20230609T165132Z
LAST-MODIFIED:20260324T150929Z
UID:10011579-1920448800-1920448800@swcplib.com
SUMMARY:Beginner Yoga
DESCRIPTION:Our Saturday yoga class is expanding to every Saturday. Adults are welcome to join instructor Katie Shelby for a beginner yoga class that includes personal instruction as well as video instruction.
URL:https://swcplib.com/event/beginner-yoga-2-2/2030-11-09/
LOCATION:South Whitley Community Public Library\, 201 East Front Street\, South Whitley\, IN\, 46787\, United States
CATEGORIES:All Ages/General Public,Health & Wellness
ATTACH;FMTTYPE=image/png:https://swcplib.com/wp-content/uploads/2021/12/Summer-Reading-2022-7.png
ORGANIZER;CN="South Whitley Community Public Library":MAILTO:info@swcplib.com
END:VEVENT
BEGIN:VEVENT
DTSTART;TZID=America/Indiana/Indianapolis:20301111T093000
DTEND;TZID=America/Indiana/Indianapolis:20301111T093000
DTSTAMP:20260422T153432
CREATED:20231116T215517Z
LAST-MODIFIED:20250520T182058Z
UID:10010109-1920619800-1920619800@swcplib.com
SUMMARY:Morning Workout
DESCRIPTION:Adults of all ages and fitness levels are welcome to join us for a high-energy\, low-impact workout including warm-up\, strength\, cardio and balance exercises.
URL:https://swcplib.com/event/morning-workout/2030-11-11/
LOCATION:IN
CATEGORIES:All Ages/General Public,Health & Wellness
ATTACH;FMTTYPE=image/png:https://swcplib.com/wp-content/uploads/2023/11/Exercise.png
END:VEVENT
BEGIN:VEVENT
DTSTART;TZID=America/Indiana/Indianapolis:20301112T103000
DTEND;TZID=America/Indiana/Indianapolis:20301112T103000
DTSTAMP:20260422T153432
CREATED:20250715T194525Z
LAST-MODIFIED:20260317T183531Z
UID:10010110-1920709800-1920709800@swcplib.com
SUMMARY:Story Time
DESCRIPTION:With the conclusion of the summer reading program\, story time moves back to its regular time of 10:30 a.m. Join Ms. Jen under the tree in the children’s room for songs and stories all summer long. After enjoying a story\, children are welcome to join the fun of making a project.
URL:https://swcplib.com/event/story-time/2030-11-12/
LOCATION:South Whitley Community Public Library\, 201 East Front Street\, South Whitley\, IN\, 46787\, United States
CATEGORIES:Children
ATTACH;FMTTYPE=image/png:https://swcplib.com/wp-content/uploads/2022/07/7.png
ORGANIZER;CN="South Whitley Community Public Library":MAILTO:info@swcplib.com
END:VEVENT
BEGIN:VEVENT
DTSTART;TZID=America/Indiana/Indianapolis:20301112T140000
DTEND;TZID=America/Indiana/Indianapolis:20301112T170000
DTSTAMP:20260422T153432
CREATED:20260226T200604Z
LAST-MODIFIED:20260226T200604Z
UID:10011087-1920722400-1920733200@swcplib.com
SUMMARY:Tech Tuesdays
DESCRIPTION:Have a question about your smartphone\, tablet or laptop? We’re here to help! Bring your device and its power cord to the library and a staff member will work with you on your issue. For extended help\, please schedule an appointment by contacting the front desk.
URL:https://swcplib.com/event/tech-tuesdays/2030-11-12/
LOCATION:South Whitley Community Public Library\, 201 East Front Street\, South Whitley\, IN\, 46787\, United States
CATEGORIES:All Ages/General Public,Technology
ATTACH;FMTTYPE=image/png:https://swcplib.com/wp-content/uploads/2023/01/2.png
ORGANIZER;CN="South Whitley Community Public Library":MAILTO:info@swcplib.com
END:VEVENT
BEGIN:VEVENT
DTSTART;TZID=America/Indiana/Indianapolis:20301113T103000
DTEND;TZID=America/Indiana/Indianapolis:20301113T103000
DTSTAMP:20260422T153432
CREATED:20240513T192619Z
LAST-MODIFIED:20251126T160413Z
UID:10010111-1920796200-1920796200@swcplib.com
SUMMARY:Tai Chi / Chair Yoga
DESCRIPTION:A video-led session that allows participants to choose between tai chi or chair yoga.
URL:https://swcplib.com/event/tai-chi-for-beginners/2030-11-13/
LOCATION:South Whitley Community Public Library\, 201 East Front Street\, South Whitley\, IN\, 46787\, United States
CATEGORIES:All Ages/General Public,Health & Wellness
ATTACH;FMTTYPE=image/png:https://swcplib.com/wp-content/uploads/2024/05/Tai-Chi.png
ORGANIZER;CN="South Whitley Community Public Library":MAILTO:info@swcplib.com
END:VEVENT
BEGIN:VEVENT
DTSTART;TZID=America/Indiana/Indianapolis:20301113T153000
DTEND;TZID=America/Indiana/Indianapolis:20301113T173000
DTSTAMP:20260422T153432
CREATED:20251023T194553Z
LAST-MODIFIED:20251126T160441Z
UID:10010191-1920814200-1920821400@swcplib.com
SUMMARY:Teen Hangout
DESCRIPTION:Are you a teen who likes to listen to music\, have snacks and hang out with your friends? Then Teen Hangout is right up your alley! This group will meet in the auditorium lobby each Wednesday for an unstructured gathering time. Snacks will be provided\, and there will be a variety of activities including crafts and games available for those interested. Our newest offering for young people is geared toward ages 13 to 19.
URL:https://swcplib.com/event/teen-hangout/2030-11-13/
LOCATION:South Whitley Community Public Library\, 201 East Front Street\, South Whitley\, IN\, 46787\, United States
CATEGORIES:Teens
ATTACH;FMTTYPE=image/png:https://swcplib.com/wp-content/uploads/2025/10/Teen-Hangout.png
ORGANIZER;CN="South Whitley Community Public Library":MAILTO:info@swcplib.com
END:VEVENT
BEGIN:VEVENT
DTSTART;TZID=America/Indiana/Indianapolis:20301115T103000
DTEND;TZID=America/Indiana/Indianapolis:20301115T103000
DTSTAMP:20260422T153432
CREATED:20251204T191556Z
LAST-MODIFIED:20260122T203052Z
UID:10010728-1920969000-1920969000@swcplib.com
SUMMARY:Fitness Fridays
DESCRIPTION:Adults of all ages and fitness levels are welcome to join us for a high-energy\, low-impact workout including warm-up\, strength\, cardio and balance exercises. Please enter through the auditorium doors.
URL:https://swcplib.com/event/morning-workout-2/2030-11-15/
LOCATION:IN
CATEGORIES:All Ages/General Public,Health & Wellness
ATTACH;FMTTYPE=image/png:https://swcplib.com/wp-content/uploads/2023/11/Exercise.png
END:VEVENT
BEGIN:VEVENT
DTSTART;TZID=America/Indiana/Indianapolis:20301116T100000
DTEND;TZID=America/Indiana/Indianapolis:20301116T100000
DTSTAMP:20260422T153432
CREATED:20230609T165132Z
LAST-MODIFIED:20260324T150929Z
UID:10011580-1921053600-1921053600@swcplib.com
SUMMARY:Beginner Yoga
DESCRIPTION:Our Saturday yoga class is expanding to every Saturday. Adults are welcome to join instructor Katie Shelby for a beginner yoga class that includes personal instruction as well as video instruction.
URL:https://swcplib.com/event/beginner-yoga-2-2/2030-11-16/
LOCATION:South Whitley Community Public Library\, 201 East Front Street\, South Whitley\, IN\, 46787\, United States
CATEGORIES:All Ages/General Public,Health & Wellness
ATTACH;FMTTYPE=image/png:https://swcplib.com/wp-content/uploads/2021/12/Summer-Reading-2022-7.png
ORGANIZER;CN="South Whitley Community Public Library":MAILTO:info@swcplib.com
END:VEVENT
BEGIN:VEVENT
DTSTART;TZID=America/Indiana/Indianapolis:20301118T093000
DTEND;TZID=America/Indiana/Indianapolis:20301118T093000
DTSTAMP:20260422T153432
CREATED:20231116T215517Z
LAST-MODIFIED:20250520T182058Z
UID:10010114-1921224600-1921224600@swcplib.com
SUMMARY:Morning Workout
DESCRIPTION:Adults of all ages and fitness levels are welcome to join us for a high-energy\, low-impact workout including warm-up\, strength\, cardio and balance exercises.
URL:https://swcplib.com/event/morning-workout/2030-11-18/
LOCATION:IN
CATEGORIES:All Ages/General Public,Health & Wellness
ATTACH;FMTTYPE=image/png:https://swcplib.com/wp-content/uploads/2023/11/Exercise.png
END:VEVENT
BEGIN:VEVENT
DTSTART;TZID=America/Indiana/Indianapolis:20301119T103000
DTEND;TZID=America/Indiana/Indianapolis:20301119T103000
DTSTAMP:20260422T153432
CREATED:20250715T194525Z
LAST-MODIFIED:20260317T183531Z
UID:10010115-1921314600-1921314600@swcplib.com
SUMMARY:Story Time
DESCRIPTION:With the conclusion of the summer reading program\, story time moves back to its regular time of 10:30 a.m. Join Ms. Jen under the tree in the children’s room for songs and stories all summer long. After enjoying a story\, children are welcome to join the fun of making a project.
URL:https://swcplib.com/event/story-time/2030-11-19/
LOCATION:South Whitley Community Public Library\, 201 East Front Street\, South Whitley\, IN\, 46787\, United States
CATEGORIES:Children
ATTACH;FMTTYPE=image/png:https://swcplib.com/wp-content/uploads/2022/07/7.png
ORGANIZER;CN="South Whitley Community Public Library":MAILTO:info@swcplib.com
END:VEVENT
BEGIN:VEVENT
DTSTART;TZID=America/Indiana/Indianapolis:20301119T140000
DTEND;TZID=America/Indiana/Indianapolis:20301119T170000
DTSTAMP:20260422T153432
CREATED:20260226T200604Z
LAST-MODIFIED:20260226T200604Z
UID:10011088-1921327200-1921338000@swcplib.com
SUMMARY:Tech Tuesdays
DESCRIPTION:Have a question about your smartphone\, tablet or laptop? We’re here to help! Bring your device and its power cord to the library and a staff member will work with you on your issue. For extended help\, please schedule an appointment by contacting the front desk.
URL:https://swcplib.com/event/tech-tuesdays/2030-11-19/
LOCATION:South Whitley Community Public Library\, 201 East Front Street\, South Whitley\, IN\, 46787\, United States
CATEGORIES:All Ages/General Public,Technology
ATTACH;FMTTYPE=image/png:https://swcplib.com/wp-content/uploads/2023/01/2.png
ORGANIZER;CN="South Whitley Community Public Library":MAILTO:info@swcplib.com
END:VEVENT
BEGIN:VEVENT
DTSTART;TZID=America/Indiana/Indianapolis:20301120T103000
DTEND;TZID=America/Indiana/Indianapolis:20301120T103000
DTSTAMP:20260422T153432
CREATED:20240513T192619Z
LAST-MODIFIED:20251126T160413Z
UID:10010116-1921401000-1921401000@swcplib.com
SUMMARY:Tai Chi / Chair Yoga
DESCRIPTION:A video-led session that allows participants to choose between tai chi or chair yoga.
URL:https://swcplib.com/event/tai-chi-for-beginners/2030-11-20/
LOCATION:South Whitley Community Public Library\, 201 East Front Street\, South Whitley\, IN\, 46787\, United States
CATEGORIES:All Ages/General Public,Health & Wellness
ATTACH;FMTTYPE=image/png:https://swcplib.com/wp-content/uploads/2024/05/Tai-Chi.png
ORGANIZER;CN="South Whitley Community Public Library":MAILTO:info@swcplib.com
END:VEVENT
BEGIN:VEVENT
DTSTART;TZID=America/Indiana/Indianapolis:20301120T153000
DTEND;TZID=America/Indiana/Indianapolis:20301120T173000
DTSTAMP:20260422T153432
CREATED:20251023T194553Z
LAST-MODIFIED:20251126T160441Z
UID:10010192-1921419000-1921426200@swcplib.com
SUMMARY:Teen Hangout
DESCRIPTION:Are you a teen who likes to listen to music\, have snacks and hang out with your friends? Then Teen Hangout is right up your alley! This group will meet in the auditorium lobby each Wednesday for an unstructured gathering time. Snacks will be provided\, and there will be a variety of activities including crafts and games available for those interested. Our newest offering for young people is geared toward ages 13 to 19.
URL:https://swcplib.com/event/teen-hangout/2030-11-20/
LOCATION:South Whitley Community Public Library\, 201 East Front Street\, South Whitley\, IN\, 46787\, United States
CATEGORIES:Teens
ATTACH;FMTTYPE=image/png:https://swcplib.com/wp-content/uploads/2025/10/Teen-Hangout.png
ORGANIZER;CN="South Whitley Community Public Library":MAILTO:info@swcplib.com
END:VEVENT
BEGIN:VEVENT
DTSTART;TZID=America/Indiana/Indianapolis:20301122T103000
DTEND;TZID=America/Indiana/Indianapolis:20301122T103000
DTSTAMP:20260422T153432
CREATED:20251204T191556Z
LAST-MODIFIED:20260122T203052Z
UID:10010729-1921573800-1921573800@swcplib.com
SUMMARY:Fitness Fridays
DESCRIPTION:Adults of all ages and fitness levels are welcome to join us for a high-energy\, low-impact workout including warm-up\, strength\, cardio and balance exercises. Please enter through the auditorium doors.
URL:https://swcplib.com/event/morning-workout-2/2030-11-22/
LOCATION:IN
CATEGORIES:All Ages/General Public,Health & Wellness
ATTACH;FMTTYPE=image/png:https://swcplib.com/wp-content/uploads/2023/11/Exercise.png
END:VEVENT
BEGIN:VEVENT
DTSTART;TZID=America/Indiana/Indianapolis:20301123T100000
DTEND;TZID=America/Indiana/Indianapolis:20301123T100000
DTSTAMP:20260422T153432
CREATED:20230609T165132Z
LAST-MODIFIED:20260324T150929Z
UID:10011581-1921658400-1921658400@swcplib.com
SUMMARY:Beginner Yoga
DESCRIPTION:Our Saturday yoga class is expanding to every Saturday. Adults are welcome to join instructor Katie Shelby for a beginner yoga class that includes personal instruction as well as video instruction.
URL:https://swcplib.com/event/beginner-yoga-2-2/2030-11-23/
LOCATION:South Whitley Community Public Library\, 201 East Front Street\, South Whitley\, IN\, 46787\, United States
CATEGORIES:All Ages/General Public,Health & Wellness
ATTACH;FMTTYPE=image/png:https://swcplib.com/wp-content/uploads/2021/12/Summer-Reading-2022-7.png
ORGANIZER;CN="South Whitley Community Public Library":MAILTO:info@swcplib.com
END:VEVENT
BEGIN:VEVENT
DTSTART;TZID=America/Indiana/Indianapolis:20301125T093000
DTEND;TZID=America/Indiana/Indianapolis:20301125T093000
DTSTAMP:20260422T153432
CREATED:20231116T215517Z
LAST-MODIFIED:20250520T182058Z
UID:10010118-1921829400-1921829400@swcplib.com
SUMMARY:Morning Workout
DESCRIPTION:Adults of all ages and fitness levels are welcome to join us for a high-energy\, low-impact workout including warm-up\, strength\, cardio and balance exercises.
URL:https://swcplib.com/event/morning-workout/2030-11-25/
LOCATION:IN
CATEGORIES:All Ages/General Public,Health & Wellness
ATTACH;FMTTYPE=image/png:https://swcplib.com/wp-content/uploads/2023/11/Exercise.png
END:VEVENT
BEGIN:VEVENT
DTSTART;TZID=America/Indiana/Indianapolis:20301126T103000
DTEND;TZID=America/Indiana/Indianapolis:20301126T103000
DTSTAMP:20260422T153432
CREATED:20250715T194525Z
LAST-MODIFIED:20260317T183531Z
UID:10010194-1921919400-1921919400@swcplib.com
SUMMARY:Story Time
DESCRIPTION:With the conclusion of the summer reading program\, story time moves back to its regular time of 10:30 a.m. Join Ms. Jen under the tree in the children’s room for songs and stories all summer long. After enjoying a story\, children are welcome to join the fun of making a project.
URL:https://swcplib.com/event/story-time/2030-11-26/
LOCATION:South Whitley Community Public Library\, 201 East Front Street\, South Whitley\, IN\, 46787\, United States
CATEGORIES:Children
ATTACH;FMTTYPE=image/png:https://swcplib.com/wp-content/uploads/2022/07/7.png
ORGANIZER;CN="South Whitley Community Public Library":MAILTO:info@swcplib.com
END:VEVENT
BEGIN:VEVENT
DTSTART;TZID=America/Indiana/Indianapolis:20301126T140000
DTEND;TZID=America/Indiana/Indianapolis:20301126T170000
DTSTAMP:20260422T153432
CREATED:20260226T200604Z
LAST-MODIFIED:20260226T200604Z
UID:10011089-1921932000-1921942800@swcplib.com
SUMMARY:Tech Tuesdays
DESCRIPTION:Have a question about your smartphone\, tablet or laptop? We’re here to help! Bring your device and its power cord to the library and a staff member will work with you on your issue. For extended help\, please schedule an appointment by contacting the front desk.
URL:https://swcplib.com/event/tech-tuesdays/2030-11-26/
LOCATION:South Whitley Community Public Library\, 201 East Front Street\, South Whitley\, IN\, 46787\, United States
CATEGORIES:All Ages/General Public,Technology
ATTACH;FMTTYPE=image/png:https://swcplib.com/wp-content/uploads/2023/01/2.png
ORGANIZER;CN="South Whitley Community Public Library":MAILTO:info@swcplib.com
END:VEVENT
BEGIN:VEVENT
DTSTART;TZID=America/Indiana/Indianapolis:20301127T103000
DTEND;TZID=America/Indiana/Indianapolis:20301127T103000
DTSTAMP:20260422T153432
CREATED:20240513T192619Z
LAST-MODIFIED:20251126T160413Z
UID:10010195-1922005800-1922005800@swcplib.com
SUMMARY:Tai Chi / Chair Yoga
DESCRIPTION:A video-led session that allows participants to choose between tai chi or chair yoga.
URL:https://swcplib.com/event/tai-chi-for-beginners/2030-11-27/
LOCATION:South Whitley Community Public Library\, 201 East Front Street\, South Whitley\, IN\, 46787\, United States
CATEGORIES:All Ages/General Public,Health & Wellness
ATTACH;FMTTYPE=image/png:https://swcplib.com/wp-content/uploads/2024/05/Tai-Chi.png
ORGANIZER;CN="South Whitley Community Public Library":MAILTO:info@swcplib.com
END:VEVENT
BEGIN:VEVENT
DTSTART;TZID=America/Indiana/Indianapolis:20301127T153000
DTEND;TZID=America/Indiana/Indianapolis:20301127T173000
DTSTAMP:20260422T153432
CREATED:20251023T194553Z
LAST-MODIFIED:20251126T160441Z
UID:10010809-1922023800-1922031000@swcplib.com
SUMMARY:Teen Hangout
DESCRIPTION:Are you a teen who likes to listen to music\, have snacks and hang out with your friends? Then Teen Hangout is right up your alley! This group will meet in the auditorium lobby each Wednesday for an unstructured gathering time. Snacks will be provided\, and there will be a variety of activities including crafts and games available for those interested. Our newest offering for young people is geared toward ages 13 to 19.
URL:https://swcplib.com/event/teen-hangout/2030-11-27/
LOCATION:South Whitley Community Public Library\, 201 East Front Street\, South Whitley\, IN\, 46787\, United States
CATEGORIES:Teens
ATTACH;FMTTYPE=image/png:https://swcplib.com/wp-content/uploads/2025/10/Teen-Hangout.png
ORGANIZER;CN="South Whitley Community Public Library":MAILTO:info@swcplib.com
END:VEVENT
BEGIN:VEVENT
DTSTART;TZID=America/Indiana/Indianapolis:20301129T103000
DTEND;TZID=America/Indiana/Indianapolis:20301129T103000
DTSTAMP:20260422T153432
CREATED:20251204T191556Z
LAST-MODIFIED:20260122T203052Z
UID:10010730-1922178600-1922178600@swcplib.com
SUMMARY:Fitness Fridays
DESCRIPTION:Adults of all ages and fitness levels are welcome to join us for a high-energy\, low-impact workout including warm-up\, strength\, cardio and balance exercises. Please enter through the auditorium doors.
URL:https://swcplib.com/event/morning-workout-2/2030-11-29/
LOCATION:IN
CATEGORIES:All Ages/General Public,Health & Wellness
ATTACH;FMTTYPE=image/png:https://swcplib.com/wp-content/uploads/2023/11/Exercise.png
END:VEVENT
BEGIN:VEVENT
DTSTART;TZID=America/Indiana/Indianapolis:20301130T100000
DTEND;TZID=America/Indiana/Indianapolis:20301130T100000
DTSTAMP:20260422T153432
CREATED:20230609T165132Z
LAST-MODIFIED:20260324T150929Z
UID:10011582-1922263200-1922263200@swcplib.com
SUMMARY:Beginner Yoga
DESCRIPTION:Our Saturday yoga class is expanding to every Saturday. Adults are welcome to join instructor Katie Shelby for a beginner yoga class that includes personal instruction as well as video instruction.
URL:https://swcplib.com/event/beginner-yoga-2-2/2030-11-30/
LOCATION:South Whitley Community Public Library\, 201 East Front Street\, South Whitley\, IN\, 46787\, United States
CATEGORIES:All Ages/General Public,Health & Wellness
ATTACH;FMTTYPE=image/png:https://swcplib.com/wp-content/uploads/2021/12/Summer-Reading-2022-7.png
ORGANIZER;CN="South Whitley Community Public Library":MAILTO:info@swcplib.com
END:VEVENT
END:VCALENDAR