BEGIN:VCALENDAR
VERSION:2.0
PRODID:-//South Whitley Community Public Library - ECPv6.15.20//NONSGML v1.0//EN
CALSCALE:GREGORIAN
METHOD:PUBLISH
X-WR-CALNAME:South Whitley Community Public Library
X-ORIGINAL-URL:https://swcplib.com
X-WR-CALDESC:Events for South Whitley Community Public Library
REFRESH-INTERVAL;VALUE=DURATION:PT1H
X-Robots-Tag:noindex
X-PUBLISHED-TTL:PT1H
BEGIN:VTIMEZONE
TZID:America/Indiana/Indianapolis
BEGIN:DAYLIGHT
TZOFFSETFROM:-0500
TZOFFSETTO:-0400
TZNAME:EDT
DTSTART:20270314T070000
END:DAYLIGHT
BEGIN:STANDARD
TZOFFSETFROM:-0400
TZOFFSETTO:-0500
TZNAME:EST
DTSTART:20271107T060000
END:STANDARD
BEGIN:DAYLIGHT
TZOFFSETFROM:-0500
TZOFFSETTO:-0400
TZNAME:EDT
DTSTART:20280312T070000
END:DAYLIGHT
BEGIN:STANDARD
TZOFFSETFROM:-0400
TZOFFSETTO:-0500
TZNAME:EST
DTSTART:20281105T060000
END:STANDARD
BEGIN:DAYLIGHT
TZOFFSETFROM:-0500
TZOFFSETTO:-0400
TZNAME:EDT
DTSTART:20290311T070000
END:DAYLIGHT
BEGIN:STANDARD
TZOFFSETFROM:-0400
TZOFFSETTO:-0500
TZNAME:EST
DTSTART:20291104T060000
END:STANDARD
END:VTIMEZONE
BEGIN:VEVENT
DTSTART;TZID=America/Indiana/Indianapolis:20281002T093000
DTEND;TZID=America/Indiana/Indianapolis:20281002T093000
DTSTAMP:20260420T235920
CREATED:20231116T215517Z
LAST-MODIFIED:20250520T182058Z
UID:10004745-1854091800-1854091800@swcplib.com
SUMMARY:Morning Workout
DESCRIPTION:Adults of all ages and fitness levels are welcome to join us for a high-energy\, low-impact workout including warm-up\, strength\, cardio and balance exercises.
URL:https://swcplib.com/event/morning-workout/2028-10-02/
LOCATION:IN
CATEGORIES:All Ages/General Public,Health & Wellness
ATTACH;FMTTYPE=image/png:https://swcplib.com/wp-content/uploads/2023/11/Exercise.png
END:VEVENT
BEGIN:VEVENT
DTSTART;TZID=America/Indiana/Indianapolis:20281003T103000
DTEND;TZID=America/Indiana/Indianapolis:20281003T103000
DTSTAMP:20260420T235920
CREATED:20250715T194525Z
LAST-MODIFIED:20260317T183531Z
UID:10009370-1854181800-1854181800@swcplib.com
SUMMARY:Story Time
DESCRIPTION:With the conclusion of the summer reading program\, story time moves back to its regular time of 10:30 a.m. Join Ms. Jen under the tree in the children’s room for songs and stories all summer long. After enjoying a story\, children are welcome to join the fun of making a project.
URL:https://swcplib.com/event/story-time/2028-10-03/
LOCATION:South Whitley Community Public Library\, 201 East Front Street\, South Whitley\, IN\, 46787\, United States
CATEGORIES:Children
ATTACH;FMTTYPE=image/png:https://swcplib.com/wp-content/uploads/2022/07/7.png
ORGANIZER;CN="South Whitley Community Public Library":MAILTO:info@swcplib.com
END:VEVENT
BEGIN:VEVENT
DTSTART;TZID=America/Indiana/Indianapolis:20281003T140000
DTEND;TZID=America/Indiana/Indianapolis:20281003T170000
DTSTAMP:20260420T235920
CREATED:20260226T200604Z
LAST-MODIFIED:20260226T200604Z
UID:10010977-1854194400-1854205200@swcplib.com
SUMMARY:Tech Tuesdays
DESCRIPTION:Have a question about your smartphone\, tablet or laptop? We’re here to help! Bring your device and its power cord to the library and a staff member will work with you on your issue. For extended help\, please schedule an appointment by contacting the front desk.
URL:https://swcplib.com/event/tech-tuesdays/2028-10-03/
LOCATION:South Whitley Community Public Library\, 201 East Front Street\, South Whitley\, IN\, 46787\, United States
CATEGORIES:All Ages/General Public,Technology
ATTACH;FMTTYPE=image/png:https://swcplib.com/wp-content/uploads/2023/01/2.png
ORGANIZER;CN="South Whitley Community Public Library":MAILTO:info@swcplib.com
END:VEVENT
BEGIN:VEVENT
DTSTART;TZID=America/Indiana/Indianapolis:20281004T103000
DTEND;TZID=America/Indiana/Indianapolis:20281004T103000
DTSTAMP:20260420T235920
CREATED:20240513T192619Z
LAST-MODIFIED:20251126T160413Z
UID:10005907-1854268200-1854268200@swcplib.com
SUMMARY:Tai Chi / Chair Yoga
DESCRIPTION:A video-led session that allows participants to choose between tai chi or chair yoga.
URL:https://swcplib.com/event/tai-chi-for-beginners/2028-10-04/
LOCATION:South Whitley Community Public Library\, 201 East Front Street\, South Whitley\, IN\, 46787\, United States
CATEGORIES:All Ages/General Public,Health & Wellness
ATTACH;FMTTYPE=image/png:https://swcplib.com/wp-content/uploads/2024/05/Tai-Chi.png
ORGANIZER;CN="South Whitley Community Public Library":MAILTO:info@swcplib.com
END:VEVENT
BEGIN:VEVENT
DTSTART;TZID=America/Indiana/Indianapolis:20281004T153000
DTEND;TZID=America/Indiana/Indianapolis:20281004T173000
DTSTAMP:20260420T235920
CREATED:20251023T194553Z
LAST-MODIFIED:20251126T160441Z
UID:10009972-1854286200-1854293400@swcplib.com
SUMMARY:Teen Hangout
DESCRIPTION:Are you a teen who likes to listen to music\, have snacks and hang out with your friends? Then Teen Hangout is right up your alley! This group will meet in the auditorium lobby each Wednesday for an unstructured gathering time. Snacks will be provided\, and there will be a variety of activities including crafts and games available for those interested. Our newest offering for young people is geared toward ages 13 to 19.
URL:https://swcplib.com/event/teen-hangout/2028-10-04/
LOCATION:South Whitley Community Public Library\, 201 East Front Street\, South Whitley\, IN\, 46787\, United States
CATEGORIES:Teens
ATTACH;FMTTYPE=image/png:https://swcplib.com/wp-content/uploads/2025/10/Teen-Hangout.png
ORGANIZER;CN="South Whitley Community Public Library":MAILTO:info@swcplib.com
END:VEVENT
BEGIN:VEVENT
DTSTART;TZID=America/Indiana/Indianapolis:20281006T103000
DTEND;TZID=America/Indiana/Indianapolis:20281006T103000
DTSTAMP:20260420T235920
CREATED:20251204T191556Z
LAST-MODIFIED:20260122T203052Z
UID:10010618-1854441000-1854441000@swcplib.com
SUMMARY:Fitness Fridays
DESCRIPTION:Adults of all ages and fitness levels are welcome to join us for a high-energy\, low-impact workout including warm-up\, strength\, cardio and balance exercises. Please enter through the auditorium doors.
URL:https://swcplib.com/event/morning-workout-2/2028-10-06/
LOCATION:IN
CATEGORIES:All Ages/General Public,Health & Wellness
ATTACH;FMTTYPE=image/png:https://swcplib.com/wp-content/uploads/2023/11/Exercise.png
END:VEVENT
BEGIN:VEVENT
DTSTART;TZID=America/Indiana/Indianapolis:20281007T100000
DTEND;TZID=America/Indiana/Indianapolis:20281007T100000
DTSTAMP:20260420T235920
CREATED:20230609T165132Z
LAST-MODIFIED:20260324T150929Z
UID:10011470-1854525600-1854525600@swcplib.com
SUMMARY:Beginner Yoga
DESCRIPTION:Our Saturday yoga class is expanding to every Saturday. Adults are welcome to join instructor Katie Shelby for a beginner yoga class that includes personal instruction as well as video instruction.
URL:https://swcplib.com/event/beginner-yoga-2-2/2028-10-07/
LOCATION:South Whitley Community Public Library\, 201 East Front Street\, South Whitley\, IN\, 46787\, United States
CATEGORIES:All Ages/General Public,Health & Wellness
ATTACH;FMTTYPE=image/png:https://swcplib.com/wp-content/uploads/2021/12/Summer-Reading-2022-7.png
ORGANIZER;CN="South Whitley Community Public Library":MAILTO:info@swcplib.com
END:VEVENT
BEGIN:VEVENT
DTSTART;TZID=America/Indiana/Indianapolis:20281009T093000
DTEND;TZID=America/Indiana/Indianapolis:20281009T093000
DTSTAMP:20260420T235920
CREATED:20231116T215517Z
LAST-MODIFIED:20250520T182058Z
UID:10004746-1854696600-1854696600@swcplib.com
SUMMARY:Morning Workout
DESCRIPTION:Adults of all ages and fitness levels are welcome to join us for a high-energy\, low-impact workout including warm-up\, strength\, cardio and balance exercises.
URL:https://swcplib.com/event/morning-workout/2028-10-09/
LOCATION:IN
CATEGORIES:All Ages/General Public,Health & Wellness
ATTACH;FMTTYPE=image/png:https://swcplib.com/wp-content/uploads/2023/11/Exercise.png
END:VEVENT
BEGIN:VEVENT
DTSTART;TZID=America/Indiana/Indianapolis:20281010T103000
DTEND;TZID=America/Indiana/Indianapolis:20281010T103000
DTSTAMP:20260420T235920
CREATED:20250715T194525Z
LAST-MODIFIED:20260317T183531Z
UID:10009371-1854786600-1854786600@swcplib.com
SUMMARY:Story Time
DESCRIPTION:With the conclusion of the summer reading program\, story time moves back to its regular time of 10:30 a.m. Join Ms. Jen under the tree in the children’s room for songs and stories all summer long. After enjoying a story\, children are welcome to join the fun of making a project.
URL:https://swcplib.com/event/story-time/2028-10-10/
LOCATION:South Whitley Community Public Library\, 201 East Front Street\, South Whitley\, IN\, 46787\, United States
CATEGORIES:Children
ATTACH;FMTTYPE=image/png:https://swcplib.com/wp-content/uploads/2022/07/7.png
ORGANIZER;CN="South Whitley Community Public Library":MAILTO:info@swcplib.com
END:VEVENT
BEGIN:VEVENT
DTSTART;TZID=America/Indiana/Indianapolis:20281010T140000
DTEND;TZID=America/Indiana/Indianapolis:20281010T170000
DTSTAMP:20260420T235920
CREATED:20260226T200604Z
LAST-MODIFIED:20260226T200604Z
UID:10010978-1854799200-1854810000@swcplib.com
SUMMARY:Tech Tuesdays
DESCRIPTION:Have a question about your smartphone\, tablet or laptop? We’re here to help! Bring your device and its power cord to the library and a staff member will work with you on your issue. For extended help\, please schedule an appointment by contacting the front desk.
URL:https://swcplib.com/event/tech-tuesdays/2028-10-10/
LOCATION:South Whitley Community Public Library\, 201 East Front Street\, South Whitley\, IN\, 46787\, United States
CATEGORIES:All Ages/General Public,Technology
ATTACH;FMTTYPE=image/png:https://swcplib.com/wp-content/uploads/2023/01/2.png
ORGANIZER;CN="South Whitley Community Public Library":MAILTO:info@swcplib.com
END:VEVENT
BEGIN:VEVENT
DTSTART;TZID=America/Indiana/Indianapolis:20281011T103000
DTEND;TZID=America/Indiana/Indianapolis:20281011T103000
DTSTAMP:20260420T235920
CREATED:20240513T192619Z
LAST-MODIFIED:20251126T160413Z
UID:10005908-1854873000-1854873000@swcplib.com
SUMMARY:Tai Chi / Chair Yoga
DESCRIPTION:A video-led session that allows participants to choose between tai chi or chair yoga.
URL:https://swcplib.com/event/tai-chi-for-beginners/2028-10-11/
LOCATION:South Whitley Community Public Library\, 201 East Front Street\, South Whitley\, IN\, 46787\, United States
CATEGORIES:All Ages/General Public,Health & Wellness
ATTACH;FMTTYPE=image/png:https://swcplib.com/wp-content/uploads/2024/05/Tai-Chi.png
ORGANIZER;CN="South Whitley Community Public Library":MAILTO:info@swcplib.com
END:VEVENT
BEGIN:VEVENT
DTSTART;TZID=America/Indiana/Indianapolis:20281011T153000
DTEND;TZID=America/Indiana/Indianapolis:20281011T173000
DTSTAMP:20260420T235920
CREATED:20251023T194553Z
LAST-MODIFIED:20251126T160441Z
UID:10009973-1854891000-1854898200@swcplib.com
SUMMARY:Teen Hangout
DESCRIPTION:Are you a teen who likes to listen to music\, have snacks and hang out with your friends? Then Teen Hangout is right up your alley! This group will meet in the auditorium lobby each Wednesday for an unstructured gathering time. Snacks will be provided\, and there will be a variety of activities including crafts and games available for those interested. Our newest offering for young people is geared toward ages 13 to 19.
URL:https://swcplib.com/event/teen-hangout/2028-10-11/
LOCATION:South Whitley Community Public Library\, 201 East Front Street\, South Whitley\, IN\, 46787\, United States
CATEGORIES:Teens
ATTACH;FMTTYPE=image/png:https://swcplib.com/wp-content/uploads/2025/10/Teen-Hangout.png
ORGANIZER;CN="South Whitley Community Public Library":MAILTO:info@swcplib.com
END:VEVENT
BEGIN:VEVENT
DTSTART;TZID=America/Indiana/Indianapolis:20281012T180000
DTEND;TZID=America/Indiana/Indianapolis:20281012T190000
DTSTAMP:20260420T235920
CREATED:20221206T171534Z
LAST-MODIFIED:20250719T124258Z
UID:10008320-1854986400-1854990000@swcplib.com
SUMMARY:Library Board Meeting
DESCRIPTION:The regular meeting of the Board of Trustees.
URL:https://swcplib.com/event/library-board-meeting/2028-10-12/
LOCATION:South Whitley Community Public Library\, 201 East Front Street\, South Whitley\, IN\, 46787\, United States
CATEGORIES:All Ages/General Public
ATTACH;FMTTYPE=image/jpeg:https://swcplib.com/wp-content/uploads/2020/10/IMG_20201009_143203-scaled.jpg
ORGANIZER;CN="South Whitley Community Public Library":MAILTO:info@swcplib.com
END:VEVENT
BEGIN:VEVENT
DTSTART;TZID=America/Indiana/Indianapolis:20281013T103000
DTEND;TZID=America/Indiana/Indianapolis:20281013T103000
DTSTAMP:20260420T235920
CREATED:20251204T191556Z
LAST-MODIFIED:20260122T203052Z
UID:10010619-1855045800-1855045800@swcplib.com
SUMMARY:Fitness Fridays
DESCRIPTION:Adults of all ages and fitness levels are welcome to join us for a high-energy\, low-impact workout including warm-up\, strength\, cardio and balance exercises. Please enter through the auditorium doors.
URL:https://swcplib.com/event/morning-workout-2/2028-10-13/
LOCATION:IN
CATEGORIES:All Ages/General Public,Health & Wellness
ATTACH;FMTTYPE=image/png:https://swcplib.com/wp-content/uploads/2023/11/Exercise.png
END:VEVENT
BEGIN:VEVENT
DTSTART;TZID=America/Indiana/Indianapolis:20281014T100000
DTEND;TZID=America/Indiana/Indianapolis:20281014T100000
DTSTAMP:20260420T235920
CREATED:20230609T165132Z
LAST-MODIFIED:20260324T150929Z
UID:10011471-1855130400-1855130400@swcplib.com
SUMMARY:Beginner Yoga
DESCRIPTION:Our Saturday yoga class is expanding to every Saturday. Adults are welcome to join instructor Katie Shelby for a beginner yoga class that includes personal instruction as well as video instruction.
URL:https://swcplib.com/event/beginner-yoga-2-2/2028-10-14/
LOCATION:South Whitley Community Public Library\, 201 East Front Street\, South Whitley\, IN\, 46787\, United States
CATEGORIES:All Ages/General Public,Health & Wellness
ATTACH;FMTTYPE=image/png:https://swcplib.com/wp-content/uploads/2021/12/Summer-Reading-2022-7.png
ORGANIZER;CN="South Whitley Community Public Library":MAILTO:info@swcplib.com
END:VEVENT
BEGIN:VEVENT
DTSTART;TZID=America/Indiana/Indianapolis:20281016T093000
DTEND;TZID=America/Indiana/Indianapolis:20281016T093000
DTSTAMP:20260420T235920
CREATED:20231116T215517Z
LAST-MODIFIED:20250520T182058Z
UID:10004747-1855301400-1855301400@swcplib.com
SUMMARY:Morning Workout
DESCRIPTION:Adults of all ages and fitness levels are welcome to join us for a high-energy\, low-impact workout including warm-up\, strength\, cardio and balance exercises.
URL:https://swcplib.com/event/morning-workout/2028-10-16/
LOCATION:IN
CATEGORIES:All Ages/General Public,Health & Wellness
ATTACH;FMTTYPE=image/png:https://swcplib.com/wp-content/uploads/2023/11/Exercise.png
END:VEVENT
BEGIN:VEVENT
DTSTART;TZID=America/Indiana/Indianapolis:20281017T103000
DTEND;TZID=America/Indiana/Indianapolis:20281017T103000
DTSTAMP:20260420T235920
CREATED:20250715T194525Z
LAST-MODIFIED:20260317T183531Z
UID:10009372-1855391400-1855391400@swcplib.com
SUMMARY:Story Time
DESCRIPTION:With the conclusion of the summer reading program\, story time moves back to its regular time of 10:30 a.m. Join Ms. Jen under the tree in the children’s room for songs and stories all summer long. After enjoying a story\, children are welcome to join the fun of making a project.
URL:https://swcplib.com/event/story-time/2028-10-17/
LOCATION:South Whitley Community Public Library\, 201 East Front Street\, South Whitley\, IN\, 46787\, United States
CATEGORIES:Children
ATTACH;FMTTYPE=image/png:https://swcplib.com/wp-content/uploads/2022/07/7.png
ORGANIZER;CN="South Whitley Community Public Library":MAILTO:info@swcplib.com
END:VEVENT
BEGIN:VEVENT
DTSTART;TZID=America/Indiana/Indianapolis:20281017T140000
DTEND;TZID=America/Indiana/Indianapolis:20281017T170000
DTSTAMP:20260420T235920
CREATED:20260226T200604Z
LAST-MODIFIED:20260226T200604Z
UID:10010979-1855404000-1855414800@swcplib.com
SUMMARY:Tech Tuesdays
DESCRIPTION:Have a question about your smartphone\, tablet or laptop? We’re here to help! Bring your device and its power cord to the library and a staff member will work with you on your issue. For extended help\, please schedule an appointment by contacting the front desk.
URL:https://swcplib.com/event/tech-tuesdays/2028-10-17/
LOCATION:South Whitley Community Public Library\, 201 East Front Street\, South Whitley\, IN\, 46787\, United States
CATEGORIES:All Ages/General Public,Technology
ATTACH;FMTTYPE=image/png:https://swcplib.com/wp-content/uploads/2023/01/2.png
ORGANIZER;CN="South Whitley Community Public Library":MAILTO:info@swcplib.com
END:VEVENT
BEGIN:VEVENT
DTSTART;TZID=America/Indiana/Indianapolis:20281018T103000
DTEND;TZID=America/Indiana/Indianapolis:20281018T103000
DTSTAMP:20260420T235920
CREATED:20240513T192619Z
LAST-MODIFIED:20251126T160413Z
UID:10005909-1855477800-1855477800@swcplib.com
SUMMARY:Tai Chi / Chair Yoga
DESCRIPTION:A video-led session that allows participants to choose between tai chi or chair yoga.
URL:https://swcplib.com/event/tai-chi-for-beginners/2028-10-18/
LOCATION:South Whitley Community Public Library\, 201 East Front Street\, South Whitley\, IN\, 46787\, United States
CATEGORIES:All Ages/General Public,Health & Wellness
ATTACH;FMTTYPE=image/png:https://swcplib.com/wp-content/uploads/2024/05/Tai-Chi.png
ORGANIZER;CN="South Whitley Community Public Library":MAILTO:info@swcplib.com
END:VEVENT
BEGIN:VEVENT
DTSTART;TZID=America/Indiana/Indianapolis:20281018T153000
DTEND;TZID=America/Indiana/Indianapolis:20281018T173000
DTSTAMP:20260420T235920
CREATED:20251023T194553Z
LAST-MODIFIED:20251126T160441Z
UID:10009974-1855495800-1855503000@swcplib.com
SUMMARY:Teen Hangout
DESCRIPTION:Are you a teen who likes to listen to music\, have snacks and hang out with your friends? Then Teen Hangout is right up your alley! This group will meet in the auditorium lobby each Wednesday for an unstructured gathering time. Snacks will be provided\, and there will be a variety of activities including crafts and games available for those interested. Our newest offering for young people is geared toward ages 13 to 19.
URL:https://swcplib.com/event/teen-hangout/2028-10-18/
LOCATION:South Whitley Community Public Library\, 201 East Front Street\, South Whitley\, IN\, 46787\, United States
CATEGORIES:Teens
ATTACH;FMTTYPE=image/png:https://swcplib.com/wp-content/uploads/2025/10/Teen-Hangout.png
ORGANIZER;CN="South Whitley Community Public Library":MAILTO:info@swcplib.com
END:VEVENT
BEGIN:VEVENT
DTSTART;TZID=America/Indiana/Indianapolis:20281020T103000
DTEND;TZID=America/Indiana/Indianapolis:20281020T103000
DTSTAMP:20260420T235920
CREATED:20251204T191556Z
LAST-MODIFIED:20260122T203052Z
UID:10010620-1855650600-1855650600@swcplib.com
SUMMARY:Fitness Fridays
DESCRIPTION:Adults of all ages and fitness levels are welcome to join us for a high-energy\, low-impact workout including warm-up\, strength\, cardio and balance exercises. Please enter through the auditorium doors.
URL:https://swcplib.com/event/morning-workout-2/2028-10-20/
LOCATION:IN
CATEGORIES:All Ages/General Public,Health & Wellness
ATTACH;FMTTYPE=image/png:https://swcplib.com/wp-content/uploads/2023/11/Exercise.png
END:VEVENT
BEGIN:VEVENT
DTSTART;TZID=America/Indiana/Indianapolis:20281021T100000
DTEND;TZID=America/Indiana/Indianapolis:20281021T100000
DTSTAMP:20260420T235920
CREATED:20230609T165132Z
LAST-MODIFIED:20260324T150929Z
UID:10011472-1855735200-1855735200@swcplib.com
SUMMARY:Beginner Yoga
DESCRIPTION:Our Saturday yoga class is expanding to every Saturday. Adults are welcome to join instructor Katie Shelby for a beginner yoga class that includes personal instruction as well as video instruction.
URL:https://swcplib.com/event/beginner-yoga-2-2/2028-10-21/
LOCATION:South Whitley Community Public Library\, 201 East Front Street\, South Whitley\, IN\, 46787\, United States
CATEGORIES:All Ages/General Public,Health & Wellness
ATTACH;FMTTYPE=image/png:https://swcplib.com/wp-content/uploads/2021/12/Summer-Reading-2022-7.png
ORGANIZER;CN="South Whitley Community Public Library":MAILTO:info@swcplib.com
END:VEVENT
BEGIN:VEVENT
DTSTART;TZID=America/Indiana/Indianapolis:20281023T093000
DTEND;TZID=America/Indiana/Indianapolis:20281023T093000
DTSTAMP:20260420T235920
CREATED:20231116T215517Z
LAST-MODIFIED:20250520T182058Z
UID:10004748-1855906200-1855906200@swcplib.com
SUMMARY:Morning Workout
DESCRIPTION:Adults of all ages and fitness levels are welcome to join us for a high-energy\, low-impact workout including warm-up\, strength\, cardio and balance exercises.
URL:https://swcplib.com/event/morning-workout/2028-10-23/
LOCATION:IN
CATEGORIES:All Ages/General Public,Health & Wellness
ATTACH;FMTTYPE=image/png:https://swcplib.com/wp-content/uploads/2023/11/Exercise.png
END:VEVENT
BEGIN:VEVENT
DTSTART;TZID=America/Indiana/Indianapolis:20281024T103000
DTEND;TZID=America/Indiana/Indianapolis:20281024T103000
DTSTAMP:20260420T235920
CREATED:20250715T194525Z
LAST-MODIFIED:20260317T183531Z
UID:10009373-1855996200-1855996200@swcplib.com
SUMMARY:Story Time
DESCRIPTION:With the conclusion of the summer reading program\, story time moves back to its regular time of 10:30 a.m. Join Ms. Jen under the tree in the children’s room for songs and stories all summer long. After enjoying a story\, children are welcome to join the fun of making a project.
URL:https://swcplib.com/event/story-time/2028-10-24/
LOCATION:South Whitley Community Public Library\, 201 East Front Street\, South Whitley\, IN\, 46787\, United States
CATEGORIES:Children
ATTACH;FMTTYPE=image/png:https://swcplib.com/wp-content/uploads/2022/07/7.png
ORGANIZER;CN="South Whitley Community Public Library":MAILTO:info@swcplib.com
END:VEVENT
BEGIN:VEVENT
DTSTART;TZID=America/Indiana/Indianapolis:20281024T140000
DTEND;TZID=America/Indiana/Indianapolis:20281024T170000
DTSTAMP:20260420T235920
CREATED:20260226T200604Z
LAST-MODIFIED:20260226T200604Z
UID:10010980-1856008800-1856019600@swcplib.com
SUMMARY:Tech Tuesdays
DESCRIPTION:Have a question about your smartphone\, tablet or laptop? We’re here to help! Bring your device and its power cord to the library and a staff member will work with you on your issue. For extended help\, please schedule an appointment by contacting the front desk.
URL:https://swcplib.com/event/tech-tuesdays/2028-10-24/
LOCATION:South Whitley Community Public Library\, 201 East Front Street\, South Whitley\, IN\, 46787\, United States
CATEGORIES:All Ages/General Public,Technology
ATTACH;FMTTYPE=image/png:https://swcplib.com/wp-content/uploads/2023/01/2.png
ORGANIZER;CN="South Whitley Community Public Library":MAILTO:info@swcplib.com
END:VEVENT
BEGIN:VEVENT
DTSTART;TZID=America/Indiana/Indianapolis:20281025T103000
DTEND;TZID=America/Indiana/Indianapolis:20281025T103000
DTSTAMP:20260420T235920
CREATED:20240513T192619Z
LAST-MODIFIED:20251126T160413Z
UID:10005910-1856082600-1856082600@swcplib.com
SUMMARY:Tai Chi / Chair Yoga
DESCRIPTION:A video-led session that allows participants to choose between tai chi or chair yoga.
URL:https://swcplib.com/event/tai-chi-for-beginners/2028-10-25/
LOCATION:South Whitley Community Public Library\, 201 East Front Street\, South Whitley\, IN\, 46787\, United States
CATEGORIES:All Ages/General Public,Health & Wellness
ATTACH;FMTTYPE=image/png:https://swcplib.com/wp-content/uploads/2024/05/Tai-Chi.png
ORGANIZER;CN="South Whitley Community Public Library":MAILTO:info@swcplib.com
END:VEVENT
BEGIN:VEVENT
DTSTART;TZID=America/Indiana/Indianapolis:20281025T153000
DTEND;TZID=America/Indiana/Indianapolis:20281025T173000
DTSTAMP:20260420T235920
CREATED:20251023T194553Z
LAST-MODIFIED:20251126T160441Z
UID:10009975-1856100600-1856107800@swcplib.com
SUMMARY:Teen Hangout
DESCRIPTION:Are you a teen who likes to listen to music\, have snacks and hang out with your friends? Then Teen Hangout is right up your alley! This group will meet in the auditorium lobby each Wednesday for an unstructured gathering time. Snacks will be provided\, and there will be a variety of activities including crafts and games available for those interested. Our newest offering for young people is geared toward ages 13 to 19.
URL:https://swcplib.com/event/teen-hangout/2028-10-25/
LOCATION:South Whitley Community Public Library\, 201 East Front Street\, South Whitley\, IN\, 46787\, United States
CATEGORIES:Teens
ATTACH;FMTTYPE=image/png:https://swcplib.com/wp-content/uploads/2025/10/Teen-Hangout.png
ORGANIZER;CN="South Whitley Community Public Library":MAILTO:info@swcplib.com
END:VEVENT
BEGIN:VEVENT
DTSTART;TZID=America/Indiana/Indianapolis:20281027T103000
DTEND;TZID=America/Indiana/Indianapolis:20281027T103000
DTSTAMP:20260420T235920
CREATED:20251204T191556Z
LAST-MODIFIED:20260122T203052Z
UID:10010621-1856255400-1856255400@swcplib.com
SUMMARY:Fitness Fridays
DESCRIPTION:Adults of all ages and fitness levels are welcome to join us for a high-energy\, low-impact workout including warm-up\, strength\, cardio and balance exercises. Please enter through the auditorium doors.
URL:https://swcplib.com/event/morning-workout-2/2028-10-27/
LOCATION:IN
CATEGORIES:All Ages/General Public,Health & Wellness
ATTACH;FMTTYPE=image/png:https://swcplib.com/wp-content/uploads/2023/11/Exercise.png
END:VEVENT
BEGIN:VEVENT
DTSTART;TZID=America/Indiana/Indianapolis:20281028T100000
DTEND;TZID=America/Indiana/Indianapolis:20281028T100000
DTSTAMP:20260420T235920
CREATED:20230609T165132Z
LAST-MODIFIED:20260324T150929Z
UID:10011473-1856340000-1856340000@swcplib.com
SUMMARY:Beginner Yoga
DESCRIPTION:Our Saturday yoga class is expanding to every Saturday. Adults are welcome to join instructor Katie Shelby for a beginner yoga class that includes personal instruction as well as video instruction.
URL:https://swcplib.com/event/beginner-yoga-2-2/2028-10-28/
LOCATION:South Whitley Community Public Library\, 201 East Front Street\, South Whitley\, IN\, 46787\, United States
CATEGORIES:All Ages/General Public,Health & Wellness
ATTACH;FMTTYPE=image/png:https://swcplib.com/wp-content/uploads/2021/12/Summer-Reading-2022-7.png
ORGANIZER;CN="South Whitley Community Public Library":MAILTO:info@swcplib.com
END:VEVENT
BEGIN:VEVENT
DTSTART;TZID=America/Indiana/Indianapolis:20281030T093000
DTEND;TZID=America/Indiana/Indianapolis:20281030T093000
DTSTAMP:20260420T235920
CREATED:20231116T215517Z
LAST-MODIFIED:20250520T182058Z
UID:10004749-1856511000-1856511000@swcplib.com
SUMMARY:Morning Workout
DESCRIPTION:Adults of all ages and fitness levels are welcome to join us for a high-energy\, low-impact workout including warm-up\, strength\, cardio and balance exercises.
URL:https://swcplib.com/event/morning-workout/2028-10-30/
LOCATION:IN
CATEGORIES:All Ages/General Public,Health & Wellness
ATTACH;FMTTYPE=image/png:https://swcplib.com/wp-content/uploads/2023/11/Exercise.png
END:VEVENT
END:VCALENDAR