BEGIN:VCALENDAR
VERSION:2.0
PRODID:-//South Whitley Community Public Library - ECPv6.15.20//NONSGML v1.0//EN
CALSCALE:GREGORIAN
METHOD:PUBLISH
X-ORIGINAL-URL:https://swcplib.com
X-WR-CALDESC:Events for South Whitley Community Public Library
REFRESH-INTERVAL;VALUE=DURATION:PT1H
X-Robots-Tag:noindex
X-PUBLISHED-TTL:PT1H
BEGIN:VTIMEZONE
TZID:America/Indiana/Indianapolis
BEGIN:DAYLIGHT
TZOFFSETFROM:-0500
TZOFFSETTO:-0400
TZNAME:EDT
DTSTART:20250309T070000
END:DAYLIGHT
BEGIN:STANDARD
TZOFFSETFROM:-0400
TZOFFSETTO:-0500
TZNAME:EST
DTSTART:20251102T060000
END:STANDARD
BEGIN:DAYLIGHT
TZOFFSETFROM:-0500
TZOFFSETTO:-0400
TZNAME:EDT
DTSTART:20260308T070000
END:DAYLIGHT
BEGIN:STANDARD
TZOFFSETFROM:-0400
TZOFFSETTO:-0500
TZNAME:EST
DTSTART:20261101T060000
END:STANDARD
BEGIN:DAYLIGHT
TZOFFSETFROM:-0500
TZOFFSETTO:-0400
TZNAME:EDT
DTSTART:20270314T070000
END:DAYLIGHT
BEGIN:STANDARD
TZOFFSETFROM:-0400
TZOFFSETTO:-0500
TZNAME:EST
DTSTART:20271107T060000
END:STANDARD
END:VTIMEZONE
BEGIN:VEVENT
DTSTART;TZID=America/Indiana/Indianapolis:20260805T153000
DTEND;TZID=America/Indiana/Indianapolis:20260805T173000
DTSTAMP:20260423T180810
CREATED:20251023T194553Z
LAST-MODIFIED:20251126T160441Z
UID:10009859-1785943800-1785951000@swcplib.com
SUMMARY:Teen Hangout
DESCRIPTION:Are you a teen who likes to listen to music\, have snacks and hang out with your friends? Then Teen Hangout is right up your alley! This group will meet in the auditorium lobby each Wednesday for an unstructured gathering time. Snacks will be provided\, and there will be a variety of activities including crafts and games available for those interested. Our newest offering for young people is geared toward ages 13 to 19.
URL:https://swcplib.com/event/teen-hangout/2026-08-05/
LOCATION:South Whitley Community Public Library\, 201 East Front Street\, South Whitley\, IN\, 46787\, United States
CATEGORIES:Teens
ATTACH;FMTTYPE=image/png:https://swcplib.com/wp-content/uploads/2025/10/Teen-Hangout.png
ORGANIZER;CN="South Whitley Community Public Library":MAILTO:info@swcplib.com
END:VEVENT
BEGIN:VEVENT
DTSTART;TZID=America/Indiana/Indianapolis:20260812T153000
DTEND;TZID=America/Indiana/Indianapolis:20260812T173000
DTSTAMP:20260423T180811
CREATED:20251023T194553Z
LAST-MODIFIED:20251126T160441Z
UID:10009860-1786548600-1786555800@swcplib.com
SUMMARY:Teen Hangout
DESCRIPTION:Are you a teen who likes to listen to music\, have snacks and hang out with your friends? Then Teen Hangout is right up your alley! This group will meet in the auditorium lobby each Wednesday for an unstructured gathering time. Snacks will be provided\, and there will be a variety of activities including crafts and games available for those interested. Our newest offering for young people is geared toward ages 13 to 19.
URL:https://swcplib.com/event/teen-hangout/2026-08-12/
LOCATION:South Whitley Community Public Library\, 201 East Front Street\, South Whitley\, IN\, 46787\, United States
CATEGORIES:Teens
ATTACH;FMTTYPE=image/png:https://swcplib.com/wp-content/uploads/2025/10/Teen-Hangout.png
ORGANIZER;CN="South Whitley Community Public Library":MAILTO:info@swcplib.com
END:VEVENT
BEGIN:VEVENT
DTSTART;TZID=America/Indiana/Indianapolis:20260819T153000
DTEND;TZID=America/Indiana/Indianapolis:20260819T173000
DTSTAMP:20260423T180811
CREATED:20251023T194553Z
LAST-MODIFIED:20251126T160441Z
UID:10009861-1787153400-1787160600@swcplib.com
SUMMARY:Teen Hangout
DESCRIPTION:Are you a teen who likes to listen to music\, have snacks and hang out with your friends? Then Teen Hangout is right up your alley! This group will meet in the auditorium lobby each Wednesday for an unstructured gathering time. Snacks will be provided\, and there will be a variety of activities including crafts and games available for those interested. Our newest offering for young people is geared toward ages 13 to 19.
URL:https://swcplib.com/event/teen-hangout/2026-08-19/
LOCATION:South Whitley Community Public Library\, 201 East Front Street\, South Whitley\, IN\, 46787\, United States
CATEGORIES:Teens
ATTACH;FMTTYPE=image/png:https://swcplib.com/wp-content/uploads/2025/10/Teen-Hangout.png
ORGANIZER;CN="South Whitley Community Public Library":MAILTO:info@swcplib.com
END:VEVENT
BEGIN:VEVENT
DTSTART;TZID=America/Indiana/Indianapolis:20260826T153000
DTEND;TZID=America/Indiana/Indianapolis:20260826T173000
DTSTAMP:20260423T180811
CREATED:20251023T194553Z
LAST-MODIFIED:20251126T160441Z
UID:10009862-1787758200-1787765400@swcplib.com
SUMMARY:Teen Hangout
DESCRIPTION:Are you a teen who likes to listen to music\, have snacks and hang out with your friends? Then Teen Hangout is right up your alley! This group will meet in the auditorium lobby each Wednesday for an unstructured gathering time. Snacks will be provided\, and there will be a variety of activities including crafts and games available for those interested. Our newest offering for young people is geared toward ages 13 to 19.
URL:https://swcplib.com/event/teen-hangout/2026-08-26/
LOCATION:South Whitley Community Public Library\, 201 East Front Street\, South Whitley\, IN\, 46787\, United States
CATEGORIES:Teens
ATTACH;FMTTYPE=image/png:https://swcplib.com/wp-content/uploads/2025/10/Teen-Hangout.png
ORGANIZER;CN="South Whitley Community Public Library":MAILTO:info@swcplib.com
END:VEVENT
END:VCALENDAR