BEGIN:VCALENDAR
VERSION:2.0
PRODID:-//South Whitley Community Public Library - ECPv6.15.20//NONSGML v1.0//EN
CALSCALE:GREGORIAN
METHOD:PUBLISH
X-WR-CALNAME:South Whitley Community Public Library
X-ORIGINAL-URL:https://swcplib.com
X-WR-CALDESC:Events for South Whitley Community Public Library
REFRESH-INTERVAL;VALUE=DURATION:PT1H
X-Robots-Tag:noindex
X-PUBLISHED-TTL:PT1H
BEGIN:VTIMEZONE
TZID:America/Indiana/Indianapolis
BEGIN:DAYLIGHT
TZOFFSETFROM:-0500
TZOFFSETTO:-0400
TZNAME:EDT
DTSTART:20250309T070000
END:DAYLIGHT
BEGIN:STANDARD
TZOFFSETFROM:-0400
TZOFFSETTO:-0500
TZNAME:EST
DTSTART:20251102T060000
END:STANDARD
BEGIN:DAYLIGHT
TZOFFSETFROM:-0500
TZOFFSETTO:-0400
TZNAME:EDT
DTSTART:20260308T070000
END:DAYLIGHT
BEGIN:STANDARD
TZOFFSETFROM:-0400
TZOFFSETTO:-0500
TZNAME:EST
DTSTART:20261101T060000
END:STANDARD
BEGIN:DAYLIGHT
TZOFFSETFROM:-0500
TZOFFSETTO:-0400
TZNAME:EDT
DTSTART:20270314T070000
END:DAYLIGHT
BEGIN:STANDARD
TZOFFSETFROM:-0400
TZOFFSETTO:-0500
TZNAME:EST
DTSTART:20271107T060000
END:STANDARD
END:VTIMEZONE
BEGIN:VEVENT
DTSTART;TZID=America/Indiana/Indianapolis:20260319T180000
DTEND;TZID=America/Indiana/Indianapolis:20260319T180000
DTSTAMP:20260424T071410
CREATED:20260226T203954Z
LAST-MODIFIED:20260226T203954Z
UID:10011596-1773943200-1773943200@swcplib.com
SUMMARY:Hands-Only CPR Class
DESCRIPTION:Heart attacks can happen in a moment to anyone. Darcy Hoopingarner of the Whitley County Health Department and Emily Banks from the American Heart Association will teach a one-hour\, hands-only CPR class to help you prepare for that moment. There is no fee for the class\, but please register by calling or stopping by the library.
URL:https://swcplib.com/event/hands-only-cpr-class/
LOCATION:South Whitley Community Public Library\, 201 East Front Street\, South Whitley\, IN\, 46787\, United States
CATEGORIES:Adult,Guest Speaker,Health & Wellness
ATTACH;FMTTYPE=image/png:https://swcplib.com/wp-content/uploads/2024/01/library-lovers.png
ORGANIZER;CN="South Whitley Community Public Library":MAILTO:info@swcplib.com
END:VEVENT
BEGIN:VEVENT
DTSTART;TZID=America/Indiana/Indianapolis:20260321T130000
DTEND;TZID=America/Indiana/Indianapolis:20260321T130000
DTSTAMP:20260424T071410
CREATED:20260226T204441Z
LAST-MODIFIED:20260226T204441Z
UID:10011597-1774098000-1774098000@swcplib.com
SUMMARY:Soarin' Hawk Raptor Rehab
DESCRIPTION:Jefferson the Bald Eagle and some of his friends will be here when Soarin’ Hawk Raptor Rehab visits. During their presentation\, learn more about the falcons\, hawks\, owls\, kestrels and eagles that inhabit Indiana and their role in our environment.
URL:https://swcplib.com/event/soarin-hawk-raptor-rehab/
LOCATION:South Whitley Community Public Library\, 201 East Front Street\, South Whitley\, IN\, 46787\, United States
CATEGORIES:All Ages/General Public,Guest Speaker,Science & Technology
ATTACH;FMTTYPE=image/png:https://swcplib.com/wp-content/uploads/2026/02/Bald-eagle.png
ORGANIZER;CN="South Whitley Community Public Library":MAILTO:info@swcplib.com
END:VEVENT
BEGIN:VEVENT
DTSTART;TZID=America/Indiana/Indianapolis:20260325T180000
DTEND;TZID=America/Indiana/Indianapolis:20260325T180000
DTSTAMP:20260424T071410
CREATED:20260226T205803Z
LAST-MODIFIED:20260226T205803Z
UID:10011598-1774461600-1774461600@swcplib.com
SUMMARY:Local Author Visit
DESCRIPTION:Join us for a conversation with Kyle “Goes Wild” Egolf who will be here to talk about his book Between Fire and Ink. Egolf is a forest school educator\, a wilderness skills instructor and a storyteller. His book is a collection of stories\, poetry and drawings inspired by life in the woods and the lessons learned around the fire. He writes stories shaped by flame and memory – tales of resilience\, adventure\, fatherhood and the wild places within us.
URL:https://swcplib.com/event/local-author-visit/
LOCATION:South Whitley Community Public Library\, 201 East Front Street\, South Whitley\, IN\, 46787\, United States
CATEGORIES:All Ages/General Public,Guest Speaker
ATTACH;FMTTYPE=image/png:https://swcplib.com/wp-content/uploads/2026/02/Between-fire-and-ink-author-visit.png
ORGANIZER;CN="South Whitley Community Public Library":MAILTO:info@swcplib.com
END:VEVENT
END:VCALENDAR