BEGIN:VCALENDAR
VERSION:2.0
PRODID:-//South Whitley Community Public Library - ECPv6.15.20//NONSGML v1.0//EN
CALSCALE:GREGORIAN
METHOD:PUBLISH
X-WR-CALNAME:South Whitley Community Public Library
X-ORIGINAL-URL:https://swcplib.com
X-WR-CALDESC:Events for South Whitley Community Public Library
REFRESH-INTERVAL;VALUE=DURATION:PT1H
X-Robots-Tag:noindex
X-PUBLISHED-TTL:PT1H
BEGIN:VTIMEZONE
TZID:America/Indiana/Indianapolis
BEGIN:DAYLIGHT
TZOFFSETFROM:-0500
TZOFFSETTO:-0400
TZNAME:EDT
DTSTART:20250309T070000
END:DAYLIGHT
BEGIN:STANDARD
TZOFFSETFROM:-0400
TZOFFSETTO:-0500
TZNAME:EST
DTSTART:20251102T060000
END:STANDARD
BEGIN:DAYLIGHT
TZOFFSETFROM:-0500
TZOFFSETTO:-0400
TZNAME:EDT
DTSTART:20260308T070000
END:DAYLIGHT
BEGIN:STANDARD
TZOFFSETFROM:-0400
TZOFFSETTO:-0500
TZNAME:EST
DTSTART:20261101T060000
END:STANDARD
BEGIN:DAYLIGHT
TZOFFSETFROM:-0500
TZOFFSETTO:-0400
TZNAME:EDT
DTSTART:20270314T070000
END:DAYLIGHT
BEGIN:STANDARD
TZOFFSETFROM:-0400
TZOFFSETTO:-0500
TZNAME:EST
DTSTART:20271107T060000
END:STANDARD
END:VTIMEZONE
BEGIN:VEVENT
DTSTART;VALUE=DATE:20260202
DTEND;VALUE=DATE:20260208
DTSTAMP:20260423T234738
CREATED:20260122T203333Z
LAST-MODIFIED:20260122T203333Z
UID:10010798-1769990400-1770508799@swcplib.com
SUMMARY:Indoor Pickleball
DESCRIPTION:Our indoor pickleball court is set up in the auditorium for anyone who wants to come in and play. Sign up for an hour at a time and enjoy some fun. The court is available Monday through Thursday noon to 6 p.m.\, Friday\, 11 a.m. to 3 p.m. and Saturday\, 10 a.m. to 1 p.m.
URL:https://swcplib.com/event/indoor-pickleball/
LOCATION:South Whitley Community Public Library\, 201 East Front Street\, South Whitley\, IN\, 46787\, United States
CATEGORIES:All Ages/General Public,Fun & Games
ATTACH;FMTTYPE=image/png:https://swcplib.com/wp-content/uploads/2026/01/pickleball.png
ORGANIZER;CN="South Whitley Community Public Library":MAILTO:info@swcplib.com
END:VEVENT
BEGIN:VEVENT
DTSTART;TZID=America/Indiana/Indianapolis:20260203T100000
DTEND;TZID=America/Indiana/Indianapolis:20260203T103000
DTSTAMP:20260423T234738
CREATED:20251218T204729Z
LAST-MODIFIED:20260226T200659Z
UID:10010774-1770112800-1770114600@swcplib.com
SUMMARY:Shake Your Sillies Out
DESCRIPTION:Winter weather can mean more time “stuck” indoors – and that can be tough for our youngest patrons. Starting Jan. 6\, Shake Your Sillies Out will be held every Tuesday in the auditorium and will encourage our young friends to do just that! Children ages 6 and under are invited to participate in active games\, dancing and more for this 30-minute program designed to let that pent-up energy out in positive ways. Come for Shake Your Sillies Out and stay for Story Time at 10:30 a.m.!
URL:https://swcplib.com/event/shake-your-sillies-out/2026-02-03/
LOCATION:South Whitley Community Public Library\, 201 East Front Street\, South Whitley\, IN\, 46787\, United States
CATEGORIES:Children,Fun & Games
ATTACH;FMTTYPE=image/png:https://swcplib.com/wp-content/uploads/2025/12/shake-your-sillies-out.png
ORGANIZER;CN="South Whitley Community Public Library":MAILTO:info@swcplib.com
END:VEVENT
BEGIN:VEVENT
DTSTART;TZID=America/Indiana/Indianapolis:20260210T100000
DTEND;TZID=America/Indiana/Indianapolis:20260210T103000
DTSTAMP:20260423T234738
CREATED:20251218T204729Z
LAST-MODIFIED:20260226T200659Z
UID:10010775-1770717600-1770719400@swcplib.com
SUMMARY:Shake Your Sillies Out
DESCRIPTION:Winter weather can mean more time “stuck” indoors – and that can be tough for our youngest patrons. Starting Jan. 6\, Shake Your Sillies Out will be held every Tuesday in the auditorium and will encourage our young friends to do just that! Children ages 6 and under are invited to participate in active games\, dancing and more for this 30-minute program designed to let that pent-up energy out in positive ways. Come for Shake Your Sillies Out and stay for Story Time at 10:30 a.m.!
URL:https://swcplib.com/event/shake-your-sillies-out/2026-02-10/
LOCATION:South Whitley Community Public Library\, 201 East Front Street\, South Whitley\, IN\, 46787\, United States
CATEGORIES:Children,Fun & Games
ATTACH;FMTTYPE=image/png:https://swcplib.com/wp-content/uploads/2025/12/shake-your-sillies-out.png
ORGANIZER;CN="South Whitley Community Public Library":MAILTO:info@swcplib.com
END:VEVENT
BEGIN:VEVENT
DTSTART;TZID=America/Indiana/Indianapolis:20260217T100000
DTEND;TZID=America/Indiana/Indianapolis:20260217T103000
DTSTAMP:20260423T234738
CREATED:20251218T204729Z
LAST-MODIFIED:20260226T200659Z
UID:10010776-1771322400-1771324200@swcplib.com
SUMMARY:Shake Your Sillies Out
DESCRIPTION:Winter weather can mean more time “stuck” indoors – and that can be tough for our youngest patrons. Starting Jan. 6\, Shake Your Sillies Out will be held every Tuesday in the auditorium and will encourage our young friends to do just that! Children ages 6 and under are invited to participate in active games\, dancing and more for this 30-minute program designed to let that pent-up energy out in positive ways. Come for Shake Your Sillies Out and stay for Story Time at 10:30 a.m.!
URL:https://swcplib.com/event/shake-your-sillies-out/2026-02-17/
LOCATION:South Whitley Community Public Library\, 201 East Front Street\, South Whitley\, IN\, 46787\, United States
CATEGORIES:Children,Fun & Games
ATTACH;FMTTYPE=image/png:https://swcplib.com/wp-content/uploads/2025/12/shake-your-sillies-out.png
ORGANIZER;CN="South Whitley Community Public Library":MAILTO:info@swcplib.com
END:VEVENT
BEGIN:VEVENT
DTSTART;TZID=America/Indiana/Indianapolis:20260217T173000
DTEND;TZID=America/Indiana/Indianapolis:20260217T173000
DTSTAMP:20260423T234738
CREATED:20260122T203645Z
LAST-MODIFIED:20260122T203645Z
UID:10010799-1771349400-1771349400@swcplib.com
SUMMARY:Family Trivia
DESCRIPTION:Do you know where the first Winter Olympics were held? Join us for an evening of trivia\, snacks and fun with questions about the Winter Olympics.
URL:https://swcplib.com/event/family-trivia/
LOCATION:South Whitley Community Public Library\, 201 East Front Street\, South Whitley\, IN\, 46787\, United States
CATEGORIES:All Ages/General Public,Fun & Games
ATTACH;FMTTYPE=image/jpeg:https://swcplib.com/wp-content/uploads/2023/03/Trivia.jpg
ORGANIZER;CN="South Whitley Community Public Library":MAILTO:info@swcplib.com
END:VEVENT
BEGIN:VEVENT
DTSTART;TZID=America/Indiana/Indianapolis:20260224T100000
DTEND;TZID=America/Indiana/Indianapolis:20260224T103000
DTSTAMP:20260423T234738
CREATED:20251218T204729Z
LAST-MODIFIED:20260226T200659Z
UID:10010777-1771927200-1771929000@swcplib.com
SUMMARY:Shake Your Sillies Out
DESCRIPTION:Winter weather can mean more time “stuck” indoors – and that can be tough for our youngest patrons. Starting Jan. 6\, Shake Your Sillies Out will be held every Tuesday in the auditorium and will encourage our young friends to do just that! Children ages 6 and under are invited to participate in active games\, dancing and more for this 30-minute program designed to let that pent-up energy out in positive ways. Come for Shake Your Sillies Out and stay for Story Time at 10:30 a.m.!
URL:https://swcplib.com/event/shake-your-sillies-out/2026-02-24/
LOCATION:South Whitley Community Public Library\, 201 East Front Street\, South Whitley\, IN\, 46787\, United States
CATEGORIES:Children,Fun & Games
ATTACH;FMTTYPE=image/png:https://swcplib.com/wp-content/uploads/2025/12/shake-your-sillies-out.png
ORGANIZER;CN="South Whitley Community Public Library":MAILTO:info@swcplib.com
END:VEVENT
BEGIN:VEVENT
DTSTART;TZID=America/Indiana/Indianapolis:20260224T170000
DTEND;TZID=America/Indiana/Indianapolis:20260224T170000
DTSTAMP:20260423T234738
CREATED:20260122T211309Z
LAST-MODIFIED:20260122T211309Z
UID:10010801-1771952400-1771952400@swcplib.com
SUMMARY:Family Game Night
DESCRIPTION:Winter is hanging around for a bit longer\, and you’ve binge watched all the TV shows you can\, so it’s time to get out and have some fun at board game night. We’ll have tables of board games set up for adults\, families and kids for an evening of fun. Enjoy snacks while you have fun with family and friends and maybe discover a new board game you like to play.
URL:https://swcplib.com/event/family-game-night/
LOCATION:South Whitley Community Public Library\, 201 East Front Street\, South Whitley\, IN\, 46787\, United States
CATEGORIES:All Ages/General Public,Fun & Games
ATTACH;FMTTYPE=image/png:https://swcplib.com/wp-content/uploads/2023/12/Board-Games.png
ORGANIZER;CN="South Whitley Community Public Library":MAILTO:info@swcplib.com
END:VEVENT
END:VCALENDAR