BEGIN:VCALENDAR
VERSION:2.0
PRODID:-//South Whitley Community Public Library - ECPv6.15.20//NONSGML v1.0//EN
CALSCALE:GREGORIAN
METHOD:PUBLISH
X-WR-CALNAME:South Whitley Community Public Library
X-ORIGINAL-URL:https://swcplib.com
X-WR-CALDESC:Events for South Whitley Community Public Library
REFRESH-INTERVAL;VALUE=DURATION:PT1H
X-Robots-Tag:noindex
X-PUBLISHED-TTL:PT1H
BEGIN:VTIMEZONE
TZID:America/Indiana/Indianapolis
BEGIN:DAYLIGHT
TZOFFSETFROM:-0500
TZOFFSETTO:-0400
TZNAME:EDT
DTSTART:20250309T070000
END:DAYLIGHT
BEGIN:STANDARD
TZOFFSETFROM:-0400
TZOFFSETTO:-0500
TZNAME:EST
DTSTART:20251102T060000
END:STANDARD
BEGIN:DAYLIGHT
TZOFFSETFROM:-0500
TZOFFSETTO:-0400
TZNAME:EDT
DTSTART:20260308T070000
END:DAYLIGHT
BEGIN:STANDARD
TZOFFSETFROM:-0400
TZOFFSETTO:-0500
TZNAME:EST
DTSTART:20261101T060000
END:STANDARD
BEGIN:DAYLIGHT
TZOFFSETFROM:-0500
TZOFFSETTO:-0400
TZNAME:EDT
DTSTART:20270314T070000
END:DAYLIGHT
BEGIN:STANDARD
TZOFFSETFROM:-0400
TZOFFSETTO:-0500
TZNAME:EST
DTSTART:20271107T060000
END:STANDARD
END:VTIMEZONE
BEGIN:VEVENT
DTSTART;TZID=America/Indiana/Indianapolis:20260707T103000
DTEND;TZID=America/Indiana/Indianapolis:20260707T103000
DTSTAMP:20260423T233424
CREATED:20250715T194525Z
LAST-MODIFIED:20260317T183531Z
UID:10009253-1783420200-1783420200@swcplib.com
SUMMARY:Story Time
DESCRIPTION:With the conclusion of the summer reading program\, story time moves back to its regular time of 10:30 a.m. Join Ms. Jen under the tree in the children’s room for songs and stories all summer long. After enjoying a story\, children are welcome to join the fun of making a project.
URL:https://swcplib.com/event/story-time/2026-07-07/
LOCATION:South Whitley Community Public Library\, 201 East Front Street\, South Whitley\, IN\, 46787\, United States
CATEGORIES:Children
ATTACH;FMTTYPE=image/png:https://swcplib.com/wp-content/uploads/2022/07/7.png
ORGANIZER;CN="South Whitley Community Public Library":MAILTO:info@swcplib.com
END:VEVENT
BEGIN:VEVENT
DTSTART;TZID=America/Indiana/Indianapolis:20260714T103000
DTEND;TZID=America/Indiana/Indianapolis:20260714T103000
DTSTAMP:20260423T233424
CREATED:20250715T194525Z
LAST-MODIFIED:20260317T183531Z
UID:10009254-1784025000-1784025000@swcplib.com
SUMMARY:Story Time
DESCRIPTION:With the conclusion of the summer reading program\, story time moves back to its regular time of 10:30 a.m. Join Ms. Jen under the tree in the children’s room for songs and stories all summer long. After enjoying a story\, children are welcome to join the fun of making a project.
URL:https://swcplib.com/event/story-time/2026-07-14/
LOCATION:South Whitley Community Public Library\, 201 East Front Street\, South Whitley\, IN\, 46787\, United States
CATEGORIES:Children
ATTACH;FMTTYPE=image/png:https://swcplib.com/wp-content/uploads/2022/07/7.png
ORGANIZER;CN="South Whitley Community Public Library":MAILTO:info@swcplib.com
END:VEVENT
BEGIN:VEVENT
DTSTART;TZID=America/Indiana/Indianapolis:20260721T103000
DTEND;TZID=America/Indiana/Indianapolis:20260721T103000
DTSTAMP:20260423T233424
CREATED:20250715T194525Z
LAST-MODIFIED:20260317T183531Z
UID:10009255-1784629800-1784629800@swcplib.com
SUMMARY:Story Time
DESCRIPTION:With the conclusion of the summer reading program\, story time moves back to its regular time of 10:30 a.m. Join Ms. Jen under the tree in the children’s room for songs and stories all summer long. After enjoying a story\, children are welcome to join the fun of making a project.
URL:https://swcplib.com/event/story-time/2026-07-21/
LOCATION:South Whitley Community Public Library\, 201 East Front Street\, South Whitley\, IN\, 46787\, United States
CATEGORIES:Children
ATTACH;FMTTYPE=image/png:https://swcplib.com/wp-content/uploads/2022/07/7.png
ORGANIZER;CN="South Whitley Community Public Library":MAILTO:info@swcplib.com
END:VEVENT
BEGIN:VEVENT
DTSTART;TZID=America/Indiana/Indianapolis:20260728T103000
DTEND;TZID=America/Indiana/Indianapolis:20260728T103000
DTSTAMP:20260423T233424
CREATED:20250715T194525Z
LAST-MODIFIED:20260317T183531Z
UID:10009256-1785234600-1785234600@swcplib.com
SUMMARY:Story Time
DESCRIPTION:With the conclusion of the summer reading program\, story time moves back to its regular time of 10:30 a.m. Join Ms. Jen under the tree in the children’s room for songs and stories all summer long. After enjoying a story\, children are welcome to join the fun of making a project.
URL:https://swcplib.com/event/story-time/2026-07-28/
LOCATION:South Whitley Community Public Library\, 201 East Front Street\, South Whitley\, IN\, 46787\, United States
CATEGORIES:Children
ATTACH;FMTTYPE=image/png:https://swcplib.com/wp-content/uploads/2022/07/7.png
ORGANIZER;CN="South Whitley Community Public Library":MAILTO:info@swcplib.com
END:VEVENT
END:VCALENDAR