BEGIN:VCALENDAR
VERSION:2.0
PRODID:-//South Whitley Community Public Library - ECPv6.15.20//NONSGML v1.0//EN
CALSCALE:GREGORIAN
METHOD:PUBLISH
X-WR-CALNAME:South Whitley Community Public Library
X-ORIGINAL-URL:https://swcplib.com
X-WR-CALDESC:Events for South Whitley Community Public Library
REFRESH-INTERVAL;VALUE=DURATION:PT1H
X-Robots-Tag:noindex
X-PUBLISHED-TTL:PT1H
BEGIN:VTIMEZONE
TZID:America/Indiana/Indianapolis
BEGIN:DAYLIGHT
TZOFFSETFROM:-0500
TZOFFSETTO:-0400
TZNAME:EDT
DTSTART:20250309T070000
END:DAYLIGHT
BEGIN:STANDARD
TZOFFSETFROM:-0400
TZOFFSETTO:-0500
TZNAME:EST
DTSTART:20251102T060000
END:STANDARD
BEGIN:DAYLIGHT
TZOFFSETFROM:-0500
TZOFFSETTO:-0400
TZNAME:EDT
DTSTART:20260308T070000
END:DAYLIGHT
BEGIN:STANDARD
TZOFFSETFROM:-0400
TZOFFSETTO:-0500
TZNAME:EST
DTSTART:20261101T060000
END:STANDARD
BEGIN:DAYLIGHT
TZOFFSETFROM:-0500
TZOFFSETTO:-0400
TZNAME:EDT
DTSTART:20270314T070000
END:DAYLIGHT
BEGIN:STANDARD
TZOFFSETFROM:-0400
TZOFFSETTO:-0500
TZNAME:EST
DTSTART:20271107T060000
END:STANDARD
END:VTIMEZONE
BEGIN:VEVENT
DTSTART;TZID=America/Indiana/Indianapolis:20260303T160000
DTEND;TZID=America/Indiana/Indianapolis:20260303T160000
DTSTAMP:20260424T231433
CREATED:20260226T201025Z
LAST-MODIFIED:20260226T201025Z
UID:10011108-1772553600-1772553600@swcplib.com
SUMMARY:Kids Create
DESCRIPTION:Spring is in the air and we are celebrating with fun Kids Create projects! Join Ms. Jen and Ms. Andrea for festive spring\, St. Patrick’s Day and Easter crafts.
URL:https://swcplib.com/event/kids-create/2026-03-03/
LOCATION:South Whitley Community Public Library\, 201 East Front Street\, South Whitley\, IN\, 46787\, United States
CATEGORIES:Arts & Crafts,Children
ATTACH;FMTTYPE=image/jpeg:https://swcplib.com/wp-content/uploads/2023/03/Spring-break-drop-in.jpg
ORGANIZER;CN="South Whitley Community Public Library":MAILTO:info@swcplib.com
END:VEVENT
BEGIN:VEVENT
DTSTART;TZID=America/Indiana/Indianapolis:20260310T160000
DTEND;TZID=America/Indiana/Indianapolis:20260310T160000
DTSTAMP:20260424T231433
CREATED:20260226T201025Z
LAST-MODIFIED:20260226T201025Z
UID:10011109-1773158400-1773158400@swcplib.com
SUMMARY:Kids Create
DESCRIPTION:Spring is in the air and we are celebrating with fun Kids Create projects! Join Ms. Jen and Ms. Andrea for festive spring\, St. Patrick’s Day and Easter crafts.
URL:https://swcplib.com/event/kids-create/2026-03-10/
LOCATION:South Whitley Community Public Library\, 201 East Front Street\, South Whitley\, IN\, 46787\, United States
CATEGORIES:Arts & Crafts,Children
ATTACH;FMTTYPE=image/jpeg:https://swcplib.com/wp-content/uploads/2023/03/Spring-break-drop-in.jpg
ORGANIZER;CN="South Whitley Community Public Library":MAILTO:info@swcplib.com
END:VEVENT
BEGIN:VEVENT
DTSTART;TZID=America/Indiana/Indianapolis:20260317T160000
DTEND;TZID=America/Indiana/Indianapolis:20260317T160000
DTSTAMP:20260424T231433
CREATED:20260226T201025Z
LAST-MODIFIED:20260226T201025Z
UID:10011110-1773763200-1773763200@swcplib.com
SUMMARY:Kids Create
DESCRIPTION:Spring is in the air and we are celebrating with fun Kids Create projects! Join Ms. Jen and Ms. Andrea for festive spring\, St. Patrick’s Day and Easter crafts.
URL:https://swcplib.com/event/kids-create/2026-03-17/
LOCATION:South Whitley Community Public Library\, 201 East Front Street\, South Whitley\, IN\, 46787\, United States
CATEGORIES:Arts & Crafts,Children
ATTACH;FMTTYPE=image/jpeg:https://swcplib.com/wp-content/uploads/2023/03/Spring-break-drop-in.jpg
ORGANIZER;CN="South Whitley Community Public Library":MAILTO:info@swcplib.com
END:VEVENT
BEGIN:VEVENT
DTSTART;TZID=America/Indiana/Indianapolis:20260324T160000
DTEND;TZID=America/Indiana/Indianapolis:20260324T160000
DTSTAMP:20260424T231433
CREATED:20260226T201025Z
LAST-MODIFIED:20260226T201025Z
UID:10011111-1774368000-1774368000@swcplib.com
SUMMARY:Kids Create
DESCRIPTION:Spring is in the air and we are celebrating with fun Kids Create projects! Join Ms. Jen and Ms. Andrea for festive spring\, St. Patrick’s Day and Easter crafts.
URL:https://swcplib.com/event/kids-create/2026-03-24/
LOCATION:South Whitley Community Public Library\, 201 East Front Street\, South Whitley\, IN\, 46787\, United States
CATEGORIES:Arts & Crafts,Children
ATTACH;FMTTYPE=image/jpeg:https://swcplib.com/wp-content/uploads/2023/03/Spring-break-drop-in.jpg
ORGANIZER;CN="South Whitley Community Public Library":MAILTO:info@swcplib.com
END:VEVENT
BEGIN:VEVENT
DTSTART;TZID=America/Indiana/Indianapolis:20260331T160000
DTEND;TZID=America/Indiana/Indianapolis:20260331T160000
DTSTAMP:20260424T231433
CREATED:20260226T201025Z
LAST-MODIFIED:20260226T201025Z
UID:10011112-1774972800-1774972800@swcplib.com
SUMMARY:Kids Create
DESCRIPTION:Spring is in the air and we are celebrating with fun Kids Create projects! Join Ms. Jen and Ms. Andrea for festive spring\, St. Patrick’s Day and Easter crafts.
URL:https://swcplib.com/event/kids-create/2026-03-31/
LOCATION:South Whitley Community Public Library\, 201 East Front Street\, South Whitley\, IN\, 46787\, United States
CATEGORIES:Arts & Crafts,Children
ATTACH;FMTTYPE=image/jpeg:https://swcplib.com/wp-content/uploads/2023/03/Spring-break-drop-in.jpg
ORGANIZER;CN="South Whitley Community Public Library":MAILTO:info@swcplib.com
END:VEVENT
END:VCALENDAR