BEGIN:VCALENDAR
VERSION:2.0
PRODID:-//South Whitley Community Public Library - ECPv6.15.20//NONSGML v1.0//EN
CALSCALE:GREGORIAN
METHOD:PUBLISH
X-ORIGINAL-URL:https://swcplib.com
X-WR-CALDESC:Events for South Whitley Community Public Library
REFRESH-INTERVAL;VALUE=DURATION:PT1H
X-Robots-Tag:noindex
X-PUBLISHED-TTL:PT1H
BEGIN:VTIMEZONE
TZID:America/Indiana/Indianapolis
BEGIN:DAYLIGHT
TZOFFSETFROM:-0500
TZOFFSETTO:-0400
TZNAME:EDT
DTSTART:20290311T070000
END:DAYLIGHT
BEGIN:STANDARD
TZOFFSETFROM:-0400
TZOFFSETTO:-0500
TZNAME:EST
DTSTART:20291104T060000
END:STANDARD
BEGIN:DAYLIGHT
TZOFFSETFROM:-0500
TZOFFSETTO:-0400
TZNAME:EDT
DTSTART:20300310T070000
END:DAYLIGHT
BEGIN:STANDARD
TZOFFSETFROM:-0400
TZOFFSETTO:-0500
TZNAME:EST
DTSTART:20301103T060000
END:STANDARD
BEGIN:DAYLIGHT
TZOFFSETFROM:-0500
TZOFFSETTO:-0400
TZNAME:EDT
DTSTART:20310309T070000
END:DAYLIGHT
BEGIN:STANDARD
TZOFFSETFROM:-0400
TZOFFSETTO:-0500
TZNAME:EST
DTSTART:20311102T060000
END:STANDARD
END:VTIMEZONE
BEGIN:VEVENT
DTSTART;TZID=America/Indiana/Indianapolis:20300902T093000
DTEND;TZID=America/Indiana/Indianapolis:20300902T093000
DTSTAMP:20260425T070530
CREATED:20231116T215517Z
LAST-MODIFIED:20250520T182058Z
UID:10009766-1914571800-1914571800@swcplib.com
SUMMARY:Morning Workout
DESCRIPTION:Adults of all ages and fitness levels are welcome to join us for a high-energy\, low-impact workout including warm-up\, strength\, cardio and balance exercises.
URL:https://swcplib.com/event/morning-workout/2030-09-02/
LOCATION:IN
CATEGORIES:All Ages/General Public,Health & Wellness
ATTACH;FMTTYPE=image/png:https://swcplib.com/wp-content/uploads/2023/11/Exercise.png
END:VEVENT
BEGIN:VEVENT
DTSTART;TZID=America/Indiana/Indianapolis:20300903T140000
DTEND;TZID=America/Indiana/Indianapolis:20300903T170000
DTSTAMP:20260425T070530
CREATED:20260226T200604Z
LAST-MODIFIED:20260226T200604Z
UID:10011077-1914674400-1914685200@swcplib.com
SUMMARY:Tech Tuesdays
DESCRIPTION:Have a question about your smartphone\, tablet or laptop? We’re here to help! Bring your device and its power cord to the library and a staff member will work with you on your issue. For extended help\, please schedule an appointment by contacting the front desk.
URL:https://swcplib.com/event/tech-tuesdays/2030-09-03/
LOCATION:South Whitley Community Public Library\, 201 East Front Street\, South Whitley\, IN\, 46787\, United States
CATEGORIES:All Ages/General Public,Technology
ATTACH;FMTTYPE=image/png:https://swcplib.com/wp-content/uploads/2023/01/2.png
ORGANIZER;CN="South Whitley Community Public Library":MAILTO:info@swcplib.com
END:VEVENT
BEGIN:VEVENT
DTSTART;TZID=America/Indiana/Indianapolis:20300904T103000
DTEND;TZID=America/Indiana/Indianapolis:20300904T103000
DTSTAMP:20260425T070530
CREATED:20240513T192619Z
LAST-MODIFIED:20251126T160413Z
UID:10009767-1914748200-1914748200@swcplib.com
SUMMARY:Tai Chi / Chair Yoga
DESCRIPTION:A video-led session that allows participants to choose between tai chi or chair yoga.
URL:https://swcplib.com/event/tai-chi-for-beginners/2030-09-04/
LOCATION:South Whitley Community Public Library\, 201 East Front Street\, South Whitley\, IN\, 46787\, United States
CATEGORIES:All Ages/General Public,Health & Wellness
ATTACH;FMTTYPE=image/png:https://swcplib.com/wp-content/uploads/2024/05/Tai-Chi.png
ORGANIZER;CN="South Whitley Community Public Library":MAILTO:info@swcplib.com
END:VEVENT
BEGIN:VEVENT
DTSTART;TZID=America/Indiana/Indianapolis:20300906T103000
DTEND;TZID=America/Indiana/Indianapolis:20300906T103000
DTSTAMP:20260425T070530
CREATED:20251204T191556Z
LAST-MODIFIED:20260122T203052Z
UID:10010718-1914921000-1914921000@swcplib.com
SUMMARY:Fitness Fridays
DESCRIPTION:Adults of all ages and fitness levels are welcome to join us for a high-energy\, low-impact workout including warm-up\, strength\, cardio and balance exercises. Please enter through the auditorium doors.
URL:https://swcplib.com/event/morning-workout-2/2030-09-06/
LOCATION:IN
CATEGORIES:All Ages/General Public,Health & Wellness
ATTACH;FMTTYPE=image/png:https://swcplib.com/wp-content/uploads/2023/11/Exercise.png
END:VEVENT
BEGIN:VEVENT
DTSTART;TZID=America/Indiana/Indianapolis:20300907T100000
DTEND;TZID=America/Indiana/Indianapolis:20300907T100000
DTSTAMP:20260425T070530
CREATED:20230609T165132Z
LAST-MODIFIED:20260324T150929Z
UID:10011570-1915005600-1915005600@swcplib.com
SUMMARY:Beginner Yoga
DESCRIPTION:Our Saturday yoga class is expanding to every Saturday. Adults are welcome to join instructor Katie Shelby for a beginner yoga class that includes personal instruction as well as video instruction.
URL:https://swcplib.com/event/beginner-yoga-2-2/2030-09-07/
LOCATION:South Whitley Community Public Library\, 201 East Front Street\, South Whitley\, IN\, 46787\, United States
CATEGORIES:All Ages/General Public,Health & Wellness
ATTACH;FMTTYPE=image/png:https://swcplib.com/wp-content/uploads/2021/12/Summer-Reading-2022-7.png
ORGANIZER;CN="South Whitley Community Public Library":MAILTO:info@swcplib.com
END:VEVENT
BEGIN:VEVENT
DTSTART;TZID=America/Indiana/Indianapolis:20300909T093000
DTEND;TZID=America/Indiana/Indianapolis:20300909T093000
DTSTAMP:20260425T070530
CREATED:20231116T215517Z
LAST-MODIFIED:20250520T182058Z
UID:10009769-1915176600-1915176600@swcplib.com
SUMMARY:Morning Workout
DESCRIPTION:Adults of all ages and fitness levels are welcome to join us for a high-energy\, low-impact workout including warm-up\, strength\, cardio and balance exercises.
URL:https://swcplib.com/event/morning-workout/2030-09-09/
LOCATION:IN
CATEGORIES:All Ages/General Public,Health & Wellness
ATTACH;FMTTYPE=image/png:https://swcplib.com/wp-content/uploads/2023/11/Exercise.png
END:VEVENT
BEGIN:VEVENT
DTSTART;TZID=America/Indiana/Indianapolis:20300910T140000
DTEND;TZID=America/Indiana/Indianapolis:20300910T170000
DTSTAMP:20260425T070530
CREATED:20260226T200604Z
LAST-MODIFIED:20260226T200604Z
UID:10011078-1915279200-1915290000@swcplib.com
SUMMARY:Tech Tuesdays
DESCRIPTION:Have a question about your smartphone\, tablet or laptop? We’re here to help! Bring your device and its power cord to the library and a staff member will work with you on your issue. For extended help\, please schedule an appointment by contacting the front desk.
URL:https://swcplib.com/event/tech-tuesdays/2030-09-10/
LOCATION:South Whitley Community Public Library\, 201 East Front Street\, South Whitley\, IN\, 46787\, United States
CATEGORIES:All Ages/General Public,Technology
ATTACH;FMTTYPE=image/png:https://swcplib.com/wp-content/uploads/2023/01/2.png
ORGANIZER;CN="South Whitley Community Public Library":MAILTO:info@swcplib.com
END:VEVENT
BEGIN:VEVENT
DTSTART;TZID=America/Indiana/Indianapolis:20300911T103000
DTEND;TZID=America/Indiana/Indianapolis:20300911T103000
DTSTAMP:20260425T070530
CREATED:20240513T192619Z
LAST-MODIFIED:20251126T160413Z
UID:10009770-1915353000-1915353000@swcplib.com
SUMMARY:Tai Chi / Chair Yoga
DESCRIPTION:A video-led session that allows participants to choose between tai chi or chair yoga.
URL:https://swcplib.com/event/tai-chi-for-beginners/2030-09-11/
LOCATION:South Whitley Community Public Library\, 201 East Front Street\, South Whitley\, IN\, 46787\, United States
CATEGORIES:All Ages/General Public,Health & Wellness
ATTACH;FMTTYPE=image/png:https://swcplib.com/wp-content/uploads/2024/05/Tai-Chi.png
ORGANIZER;CN="South Whitley Community Public Library":MAILTO:info@swcplib.com
END:VEVENT
BEGIN:VEVENT
DTSTART;TZID=America/Indiana/Indianapolis:20300913T103000
DTEND;TZID=America/Indiana/Indianapolis:20300913T103000
DTSTAMP:20260425T070530
CREATED:20251204T191556Z
LAST-MODIFIED:20260122T203052Z
UID:10010719-1915525800-1915525800@swcplib.com
SUMMARY:Fitness Fridays
DESCRIPTION:Adults of all ages and fitness levels are welcome to join us for a high-energy\, low-impact workout including warm-up\, strength\, cardio and balance exercises. Please enter through the auditorium doors.
URL:https://swcplib.com/event/morning-workout-2/2030-09-13/
LOCATION:IN
CATEGORIES:All Ages/General Public,Health & Wellness
ATTACH;FMTTYPE=image/png:https://swcplib.com/wp-content/uploads/2023/11/Exercise.png
END:VEVENT
BEGIN:VEVENT
DTSTART;TZID=America/Indiana/Indianapolis:20300914T100000
DTEND;TZID=America/Indiana/Indianapolis:20300914T100000
DTSTAMP:20260425T070530
CREATED:20230609T165132Z
LAST-MODIFIED:20260324T150929Z
UID:10011571-1915610400-1915610400@swcplib.com
SUMMARY:Beginner Yoga
DESCRIPTION:Our Saturday yoga class is expanding to every Saturday. Adults are welcome to join instructor Katie Shelby for a beginner yoga class that includes personal instruction as well as video instruction.
URL:https://swcplib.com/event/beginner-yoga-2-2/2030-09-14/
LOCATION:South Whitley Community Public Library\, 201 East Front Street\, South Whitley\, IN\, 46787\, United States
CATEGORIES:All Ages/General Public,Health & Wellness
ATTACH;FMTTYPE=image/png:https://swcplib.com/wp-content/uploads/2021/12/Summer-Reading-2022-7.png
ORGANIZER;CN="South Whitley Community Public Library":MAILTO:info@swcplib.com
END:VEVENT
BEGIN:VEVENT
DTSTART;TZID=America/Indiana/Indianapolis:20300916T093000
DTEND;TZID=America/Indiana/Indianapolis:20300916T093000
DTSTAMP:20260425T070530
CREATED:20231116T215517Z
LAST-MODIFIED:20250520T182058Z
UID:10009772-1915781400-1915781400@swcplib.com
SUMMARY:Morning Workout
DESCRIPTION:Adults of all ages and fitness levels are welcome to join us for a high-energy\, low-impact workout including warm-up\, strength\, cardio and balance exercises.
URL:https://swcplib.com/event/morning-workout/2030-09-16/
LOCATION:IN
CATEGORIES:All Ages/General Public,Health & Wellness
ATTACH;FMTTYPE=image/png:https://swcplib.com/wp-content/uploads/2023/11/Exercise.png
END:VEVENT
BEGIN:VEVENT
DTSTART;TZID=America/Indiana/Indianapolis:20300917T140000
DTEND;TZID=America/Indiana/Indianapolis:20300917T170000
DTSTAMP:20260425T070530
CREATED:20260226T200604Z
LAST-MODIFIED:20260226T200604Z
UID:10011079-1915884000-1915894800@swcplib.com
SUMMARY:Tech Tuesdays
DESCRIPTION:Have a question about your smartphone\, tablet or laptop? We’re here to help! Bring your device and its power cord to the library and a staff member will work with you on your issue. For extended help\, please schedule an appointment by contacting the front desk.
URL:https://swcplib.com/event/tech-tuesdays/2030-09-17/
LOCATION:South Whitley Community Public Library\, 201 East Front Street\, South Whitley\, IN\, 46787\, United States
CATEGORIES:All Ages/General Public,Technology
ATTACH;FMTTYPE=image/png:https://swcplib.com/wp-content/uploads/2023/01/2.png
ORGANIZER;CN="South Whitley Community Public Library":MAILTO:info@swcplib.com
END:VEVENT
BEGIN:VEVENT
DTSTART;TZID=America/Indiana/Indianapolis:20300918T103000
DTEND;TZID=America/Indiana/Indianapolis:20300918T103000
DTSTAMP:20260425T070530
CREATED:20240513T192619Z
LAST-MODIFIED:20251126T160413Z
UID:10009773-1915957800-1915957800@swcplib.com
SUMMARY:Tai Chi / Chair Yoga
DESCRIPTION:A video-led session that allows participants to choose between tai chi or chair yoga.
URL:https://swcplib.com/event/tai-chi-for-beginners/2030-09-18/
LOCATION:South Whitley Community Public Library\, 201 East Front Street\, South Whitley\, IN\, 46787\, United States
CATEGORIES:All Ages/General Public,Health & Wellness
ATTACH;FMTTYPE=image/png:https://swcplib.com/wp-content/uploads/2024/05/Tai-Chi.png
ORGANIZER;CN="South Whitley Community Public Library":MAILTO:info@swcplib.com
END:VEVENT
BEGIN:VEVENT
DTSTART;TZID=America/Indiana/Indianapolis:20300920T103000
DTEND;TZID=America/Indiana/Indianapolis:20300920T103000
DTSTAMP:20260425T070530
CREATED:20251204T191556Z
LAST-MODIFIED:20260122T203052Z
UID:10010720-1916130600-1916130600@swcplib.com
SUMMARY:Fitness Fridays
DESCRIPTION:Adults of all ages and fitness levels are welcome to join us for a high-energy\, low-impact workout including warm-up\, strength\, cardio and balance exercises. Please enter through the auditorium doors.
URL:https://swcplib.com/event/morning-workout-2/2030-09-20/
LOCATION:IN
CATEGORIES:All Ages/General Public,Health & Wellness
ATTACH;FMTTYPE=image/png:https://swcplib.com/wp-content/uploads/2023/11/Exercise.png
END:VEVENT
BEGIN:VEVENT
DTSTART;TZID=America/Indiana/Indianapolis:20300921T100000
DTEND;TZID=America/Indiana/Indianapolis:20300921T100000
DTSTAMP:20260425T070530
CREATED:20230609T165132Z
LAST-MODIFIED:20260324T150929Z
UID:10011572-1916215200-1916215200@swcplib.com
SUMMARY:Beginner Yoga
DESCRIPTION:Our Saturday yoga class is expanding to every Saturday. Adults are welcome to join instructor Katie Shelby for a beginner yoga class that includes personal instruction as well as video instruction.
URL:https://swcplib.com/event/beginner-yoga-2-2/2030-09-21/
LOCATION:South Whitley Community Public Library\, 201 East Front Street\, South Whitley\, IN\, 46787\, United States
CATEGORIES:All Ages/General Public,Health & Wellness
ATTACH;FMTTYPE=image/png:https://swcplib.com/wp-content/uploads/2021/12/Summer-Reading-2022-7.png
ORGANIZER;CN="South Whitley Community Public Library":MAILTO:info@swcplib.com
END:VEVENT
BEGIN:VEVENT
DTSTART;TZID=America/Indiana/Indianapolis:20300923T093000
DTEND;TZID=America/Indiana/Indianapolis:20300923T093000
DTSTAMP:20260425T070530
CREATED:20231116T215517Z
LAST-MODIFIED:20250520T182058Z
UID:10009776-1916386200-1916386200@swcplib.com
SUMMARY:Morning Workout
DESCRIPTION:Adults of all ages and fitness levels are welcome to join us for a high-energy\, low-impact workout including warm-up\, strength\, cardio and balance exercises.
URL:https://swcplib.com/event/morning-workout/2030-09-23/
LOCATION:IN
CATEGORIES:All Ages/General Public,Health & Wellness
ATTACH;FMTTYPE=image/png:https://swcplib.com/wp-content/uploads/2023/11/Exercise.png
END:VEVENT
BEGIN:VEVENT
DTSTART;TZID=America/Indiana/Indianapolis:20300924T140000
DTEND;TZID=America/Indiana/Indianapolis:20300924T170000
DTSTAMP:20260425T070530
CREATED:20260226T200604Z
LAST-MODIFIED:20260226T200604Z
UID:10011080-1916488800-1916499600@swcplib.com
SUMMARY:Tech Tuesdays
DESCRIPTION:Have a question about your smartphone\, tablet or laptop? We’re here to help! Bring your device and its power cord to the library and a staff member will work with you on your issue. For extended help\, please schedule an appointment by contacting the front desk.
URL:https://swcplib.com/event/tech-tuesdays/2030-09-24/
LOCATION:South Whitley Community Public Library\, 201 East Front Street\, South Whitley\, IN\, 46787\, United States
CATEGORIES:All Ages/General Public,Technology
ATTACH;FMTTYPE=image/png:https://swcplib.com/wp-content/uploads/2023/01/2.png
ORGANIZER;CN="South Whitley Community Public Library":MAILTO:info@swcplib.com
END:VEVENT
BEGIN:VEVENT
DTSTART;TZID=America/Indiana/Indianapolis:20300925T103000
DTEND;TZID=America/Indiana/Indianapolis:20300925T103000
DTSTAMP:20260425T070530
CREATED:20240513T192619Z
LAST-MODIFIED:20251126T160413Z
UID:10009778-1916562600-1916562600@swcplib.com
SUMMARY:Tai Chi / Chair Yoga
DESCRIPTION:A video-led session that allows participants to choose between tai chi or chair yoga.
URL:https://swcplib.com/event/tai-chi-for-beginners/2030-09-25/
LOCATION:South Whitley Community Public Library\, 201 East Front Street\, South Whitley\, IN\, 46787\, United States
CATEGORIES:All Ages/General Public,Health & Wellness
ATTACH;FMTTYPE=image/png:https://swcplib.com/wp-content/uploads/2024/05/Tai-Chi.png
ORGANIZER;CN="South Whitley Community Public Library":MAILTO:info@swcplib.com
END:VEVENT
BEGIN:VEVENT
DTSTART;TZID=America/Indiana/Indianapolis:20300927T103000
DTEND;TZID=America/Indiana/Indianapolis:20300927T103000
DTSTAMP:20260425T070530
CREATED:20251204T191556Z
LAST-MODIFIED:20260122T203052Z
UID:10010721-1916735400-1916735400@swcplib.com
SUMMARY:Fitness Fridays
DESCRIPTION:Adults of all ages and fitness levels are welcome to join us for a high-energy\, low-impact workout including warm-up\, strength\, cardio and balance exercises. Please enter through the auditorium doors.
URL:https://swcplib.com/event/morning-workout-2/2030-09-27/
LOCATION:IN
CATEGORIES:All Ages/General Public,Health & Wellness
ATTACH;FMTTYPE=image/png:https://swcplib.com/wp-content/uploads/2023/11/Exercise.png
END:VEVENT
BEGIN:VEVENT
DTSTART;TZID=America/Indiana/Indianapolis:20300928T100000
DTEND;TZID=America/Indiana/Indianapolis:20300928T100000
DTSTAMP:20260425T070530
CREATED:20230609T165132Z
LAST-MODIFIED:20260324T150929Z
UID:10011573-1916820000-1916820000@swcplib.com
SUMMARY:Beginner Yoga
DESCRIPTION:Our Saturday yoga class is expanding to every Saturday. Adults are welcome to join instructor Katie Shelby for a beginner yoga class that includes personal instruction as well as video instruction.
URL:https://swcplib.com/event/beginner-yoga-2-2/2030-09-28/
LOCATION:South Whitley Community Public Library\, 201 East Front Street\, South Whitley\, IN\, 46787\, United States
CATEGORIES:All Ages/General Public,Health & Wellness
ATTACH;FMTTYPE=image/png:https://swcplib.com/wp-content/uploads/2021/12/Summer-Reading-2022-7.png
ORGANIZER;CN="South Whitley Community Public Library":MAILTO:info@swcplib.com
END:VEVENT
BEGIN:VEVENT
DTSTART;TZID=America/Indiana/Indianapolis:20300930T093000
DTEND;TZID=America/Indiana/Indianapolis:20300930T093000
DTSTAMP:20260425T070530
CREATED:20231116T215517Z
LAST-MODIFIED:20250520T182058Z
UID:10009786-1916991000-1916991000@swcplib.com
SUMMARY:Morning Workout
DESCRIPTION:Adults of all ages and fitness levels are welcome to join us for a high-energy\, low-impact workout including warm-up\, strength\, cardio and balance exercises.
URL:https://swcplib.com/event/morning-workout/2030-09-30/
LOCATION:IN
CATEGORIES:All Ages/General Public,Health & Wellness
ATTACH;FMTTYPE=image/png:https://swcplib.com/wp-content/uploads/2023/11/Exercise.png
END:VEVENT
END:VCALENDAR