BEGIN:VCALENDAR
VERSION:2.0
PRODID:-//South Whitley Community Public Library - ECPv6.15.20//NONSGML v1.0//EN
CALSCALE:GREGORIAN
METHOD:PUBLISH
X-ORIGINAL-URL:https://swcplib.com
X-WR-CALDESC:Events for South Whitley Community Public Library
REFRESH-INTERVAL;VALUE=DURATION:PT1H
X-Robots-Tag:noindex
X-PUBLISHED-TTL:PT1H
BEGIN:VTIMEZONE
TZID:America/Indiana/Indianapolis
BEGIN:DAYLIGHT
TZOFFSETFROM:-0500
TZOFFSETTO:-0400
TZNAME:EDT
DTSTART:20290311T070000
END:DAYLIGHT
BEGIN:STANDARD
TZOFFSETFROM:-0400
TZOFFSETTO:-0500
TZNAME:EST
DTSTART:20291104T060000
END:STANDARD
BEGIN:DAYLIGHT
TZOFFSETFROM:-0500
TZOFFSETTO:-0400
TZNAME:EDT
DTSTART:20300310T070000
END:DAYLIGHT
BEGIN:STANDARD
TZOFFSETFROM:-0400
TZOFFSETTO:-0500
TZNAME:EST
DTSTART:20301103T060000
END:STANDARD
BEGIN:DAYLIGHT
TZOFFSETFROM:-0500
TZOFFSETTO:-0400
TZNAME:EDT
DTSTART:20310309T070000
END:DAYLIGHT
BEGIN:STANDARD
TZOFFSETFROM:-0400
TZOFFSETTO:-0500
TZNAME:EST
DTSTART:20311102T060000
END:STANDARD
END:VTIMEZONE
BEGIN:VEVENT
DTSTART;TZID=America/Indiana/Indianapolis:20300201T103000
DTEND;TZID=America/Indiana/Indianapolis:20300201T103000
DTSTAMP:20260424T220556
CREATED:20251204T191556Z
LAST-MODIFIED:20260122T203052Z
UID:10010687-1896172200-1896172200@swcplib.com
SUMMARY:Fitness Fridays
DESCRIPTION:Adults of all ages and fitness levels are welcome to join us for a high-energy\, low-impact workout including warm-up\, strength\, cardio and balance exercises. Please enter through the auditorium doors.
URL:https://swcplib.com/event/morning-workout-2/2030-02-01/
LOCATION:IN
CATEGORIES:All Ages/General Public,Health & Wellness
ATTACH;FMTTYPE=image/png:https://swcplib.com/wp-content/uploads/2023/11/Exercise.png
END:VEVENT
BEGIN:VEVENT
DTSTART;TZID=America/Indiana/Indianapolis:20300202T100000
DTEND;TZID=America/Indiana/Indianapolis:20300202T100000
DTSTAMP:20260424T220556
CREATED:20230609T165132Z
LAST-MODIFIED:20260324T150929Z
UID:10011539-1896256800-1896256800@swcplib.com
SUMMARY:Beginner Yoga
DESCRIPTION:Our Saturday yoga class is expanding to every Saturday. Adults are welcome to join instructor Katie Shelby for a beginner yoga class that includes personal instruction as well as video instruction.
URL:https://swcplib.com/event/beginner-yoga-2-2/2030-02-02/
LOCATION:South Whitley Community Public Library\, 201 East Front Street\, South Whitley\, IN\, 46787\, United States
CATEGORIES:All Ages/General Public,Health & Wellness
ATTACH;FMTTYPE=image/png:https://swcplib.com/wp-content/uploads/2021/12/Summer-Reading-2022-7.png
ORGANIZER;CN="South Whitley Community Public Library":MAILTO:info@swcplib.com
END:VEVENT
BEGIN:VEVENT
DTSTART;TZID=America/Indiana/Indianapolis:20300204T093000
DTEND;TZID=America/Indiana/Indianapolis:20300204T093000
DTSTAMP:20260424T220556
CREATED:20231116T215517Z
LAST-MODIFIED:20250520T182058Z
UID:10008627-1896427800-1896427800@swcplib.com
SUMMARY:Morning Workout
DESCRIPTION:Adults of all ages and fitness levels are welcome to join us for a high-energy\, low-impact workout including warm-up\, strength\, cardio and balance exercises.
URL:https://swcplib.com/event/morning-workout/2030-02-04/
LOCATION:IN
CATEGORIES:All Ages/General Public,Health & Wellness
ATTACH;FMTTYPE=image/png:https://swcplib.com/wp-content/uploads/2023/11/Exercise.png
END:VEVENT
BEGIN:VEVENT
DTSTART;TZID=America/Indiana/Indianapolis:20300205T140000
DTEND;TZID=America/Indiana/Indianapolis:20300205T170000
DTSTAMP:20260424T220556
CREATED:20260226T200604Z
LAST-MODIFIED:20260226T200604Z
UID:10011047-1896530400-1896541200@swcplib.com
SUMMARY:Tech Tuesdays
DESCRIPTION:Have a question about your smartphone\, tablet or laptop? We’re here to help! Bring your device and its power cord to the library and a staff member will work with you on your issue. For extended help\, please schedule an appointment by contacting the front desk.
URL:https://swcplib.com/event/tech-tuesdays/2030-02-05/
LOCATION:South Whitley Community Public Library\, 201 East Front Street\, South Whitley\, IN\, 46787\, United States
CATEGORIES:All Ages/General Public,Technology
ATTACH;FMTTYPE=image/png:https://swcplib.com/wp-content/uploads/2023/01/2.png
ORGANIZER;CN="South Whitley Community Public Library":MAILTO:info@swcplib.com
END:VEVENT
BEGIN:VEVENT
DTSTART;TZID=America/Indiana/Indianapolis:20300206T103000
DTEND;TZID=America/Indiana/Indianapolis:20300206T103000
DTSTAMP:20260424T220556
CREATED:20240513T192619Z
LAST-MODIFIED:20251126T160413Z
UID:10008630-1896604200-1896604200@swcplib.com
SUMMARY:Tai Chi / Chair Yoga
DESCRIPTION:A video-led session that allows participants to choose between tai chi or chair yoga.
URL:https://swcplib.com/event/tai-chi-for-beginners/2030-02-06/
LOCATION:South Whitley Community Public Library\, 201 East Front Street\, South Whitley\, IN\, 46787\, United States
CATEGORIES:All Ages/General Public,Health & Wellness
ATTACH;FMTTYPE=image/png:https://swcplib.com/wp-content/uploads/2024/05/Tai-Chi.png
ORGANIZER;CN="South Whitley Community Public Library":MAILTO:info@swcplib.com
END:VEVENT
BEGIN:VEVENT
DTSTART;TZID=America/Indiana/Indianapolis:20300208T103000
DTEND;TZID=America/Indiana/Indianapolis:20300208T103000
DTSTAMP:20260424T220556
CREATED:20251204T191556Z
LAST-MODIFIED:20260122T203052Z
UID:10010688-1896777000-1896777000@swcplib.com
SUMMARY:Fitness Fridays
DESCRIPTION:Adults of all ages and fitness levels are welcome to join us for a high-energy\, low-impact workout including warm-up\, strength\, cardio and balance exercises. Please enter through the auditorium doors.
URL:https://swcplib.com/event/morning-workout-2/2030-02-08/
LOCATION:IN
CATEGORIES:All Ages/General Public,Health & Wellness
ATTACH;FMTTYPE=image/png:https://swcplib.com/wp-content/uploads/2023/11/Exercise.png
END:VEVENT
BEGIN:VEVENT
DTSTART;TZID=America/Indiana/Indianapolis:20300209T100000
DTEND;TZID=America/Indiana/Indianapolis:20300209T100000
DTSTAMP:20260424T220556
CREATED:20230609T165132Z
LAST-MODIFIED:20260324T150929Z
UID:10011540-1896861600-1896861600@swcplib.com
SUMMARY:Beginner Yoga
DESCRIPTION:Our Saturday yoga class is expanding to every Saturday. Adults are welcome to join instructor Katie Shelby for a beginner yoga class that includes personal instruction as well as video instruction.
URL:https://swcplib.com/event/beginner-yoga-2-2/2030-02-09/
LOCATION:South Whitley Community Public Library\, 201 East Front Street\, South Whitley\, IN\, 46787\, United States
CATEGORIES:All Ages/General Public,Health & Wellness
ATTACH;FMTTYPE=image/png:https://swcplib.com/wp-content/uploads/2021/12/Summer-Reading-2022-7.png
ORGANIZER;CN="South Whitley Community Public Library":MAILTO:info@swcplib.com
END:VEVENT
BEGIN:VEVENT
DTSTART;TZID=America/Indiana/Indianapolis:20300211T093000
DTEND;TZID=America/Indiana/Indianapolis:20300211T093000
DTSTAMP:20260424T220556
CREATED:20231116T215517Z
LAST-MODIFIED:20250520T182058Z
UID:10008634-1897032600-1897032600@swcplib.com
SUMMARY:Morning Workout
DESCRIPTION:Adults of all ages and fitness levels are welcome to join us for a high-energy\, low-impact workout including warm-up\, strength\, cardio and balance exercises.
URL:https://swcplib.com/event/morning-workout/2030-02-11/
LOCATION:IN
CATEGORIES:All Ages/General Public,Health & Wellness
ATTACH;FMTTYPE=image/png:https://swcplib.com/wp-content/uploads/2023/11/Exercise.png
END:VEVENT
BEGIN:VEVENT
DTSTART;TZID=America/Indiana/Indianapolis:20300212T140000
DTEND;TZID=America/Indiana/Indianapolis:20300212T170000
DTSTAMP:20260424T220556
CREATED:20260226T200604Z
LAST-MODIFIED:20260226T200604Z
UID:10011048-1897135200-1897146000@swcplib.com
SUMMARY:Tech Tuesdays
DESCRIPTION:Have a question about your smartphone\, tablet or laptop? We’re here to help! Bring your device and its power cord to the library and a staff member will work with you on your issue. For extended help\, please schedule an appointment by contacting the front desk.
URL:https://swcplib.com/event/tech-tuesdays/2030-02-12/
LOCATION:South Whitley Community Public Library\, 201 East Front Street\, South Whitley\, IN\, 46787\, United States
CATEGORIES:All Ages/General Public,Technology
ATTACH;FMTTYPE=image/png:https://swcplib.com/wp-content/uploads/2023/01/2.png
ORGANIZER;CN="South Whitley Community Public Library":MAILTO:info@swcplib.com
END:VEVENT
BEGIN:VEVENT
DTSTART;TZID=America/Indiana/Indianapolis:20300213T103000
DTEND;TZID=America/Indiana/Indianapolis:20300213T103000
DTSTAMP:20260424T220556
CREATED:20240513T192619Z
LAST-MODIFIED:20251126T160413Z
UID:10008637-1897209000-1897209000@swcplib.com
SUMMARY:Tai Chi / Chair Yoga
DESCRIPTION:A video-led session that allows participants to choose between tai chi or chair yoga.
URL:https://swcplib.com/event/tai-chi-for-beginners/2030-02-13/
LOCATION:South Whitley Community Public Library\, 201 East Front Street\, South Whitley\, IN\, 46787\, United States
CATEGORIES:All Ages/General Public,Health & Wellness
ATTACH;FMTTYPE=image/png:https://swcplib.com/wp-content/uploads/2024/05/Tai-Chi.png
ORGANIZER;CN="South Whitley Community Public Library":MAILTO:info@swcplib.com
END:VEVENT
BEGIN:VEVENT
DTSTART;TZID=America/Indiana/Indianapolis:20300215T103000
DTEND;TZID=America/Indiana/Indianapolis:20300215T103000
DTSTAMP:20260424T220556
CREATED:20251204T191556Z
LAST-MODIFIED:20260122T203052Z
UID:10010689-1897381800-1897381800@swcplib.com
SUMMARY:Fitness Fridays
DESCRIPTION:Adults of all ages and fitness levels are welcome to join us for a high-energy\, low-impact workout including warm-up\, strength\, cardio and balance exercises. Please enter through the auditorium doors.
URL:https://swcplib.com/event/morning-workout-2/2030-02-15/
LOCATION:IN
CATEGORIES:All Ages/General Public,Health & Wellness
ATTACH;FMTTYPE=image/png:https://swcplib.com/wp-content/uploads/2023/11/Exercise.png
END:VEVENT
BEGIN:VEVENT
DTSTART;TZID=America/Indiana/Indianapolis:20300216T100000
DTEND;TZID=America/Indiana/Indianapolis:20300216T100000
DTSTAMP:20260424T220556
CREATED:20230609T165132Z
LAST-MODIFIED:20260324T150929Z
UID:10011541-1897466400-1897466400@swcplib.com
SUMMARY:Beginner Yoga
DESCRIPTION:Our Saturday yoga class is expanding to every Saturday. Adults are welcome to join instructor Katie Shelby for a beginner yoga class that includes personal instruction as well as video instruction.
URL:https://swcplib.com/event/beginner-yoga-2-2/2030-02-16/
LOCATION:South Whitley Community Public Library\, 201 East Front Street\, South Whitley\, IN\, 46787\, United States
CATEGORIES:All Ages/General Public,Health & Wellness
ATTACH;FMTTYPE=image/png:https://swcplib.com/wp-content/uploads/2021/12/Summer-Reading-2022-7.png
ORGANIZER;CN="South Whitley Community Public Library":MAILTO:info@swcplib.com
END:VEVENT
BEGIN:VEVENT
DTSTART;TZID=America/Indiana/Indianapolis:20300218T093000
DTEND;TZID=America/Indiana/Indianapolis:20300218T093000
DTSTAMP:20260424T220556
CREATED:20231116T215517Z
LAST-MODIFIED:20250520T182058Z
UID:10008641-1897637400-1897637400@swcplib.com
SUMMARY:Morning Workout
DESCRIPTION:Adults of all ages and fitness levels are welcome to join us for a high-energy\, low-impact workout including warm-up\, strength\, cardio and balance exercises.
URL:https://swcplib.com/event/morning-workout/2030-02-18/
LOCATION:IN
CATEGORIES:All Ages/General Public,Health & Wellness
ATTACH;FMTTYPE=image/png:https://swcplib.com/wp-content/uploads/2023/11/Exercise.png
END:VEVENT
BEGIN:VEVENT
DTSTART;TZID=America/Indiana/Indianapolis:20300219T140000
DTEND;TZID=America/Indiana/Indianapolis:20300219T170000
DTSTAMP:20260424T220556
CREATED:20260226T200604Z
LAST-MODIFIED:20260226T200604Z
UID:10011049-1897740000-1897750800@swcplib.com
SUMMARY:Tech Tuesdays
DESCRIPTION:Have a question about your smartphone\, tablet or laptop? We’re here to help! Bring your device and its power cord to the library and a staff member will work with you on your issue. For extended help\, please schedule an appointment by contacting the front desk.
URL:https://swcplib.com/event/tech-tuesdays/2030-02-19/
LOCATION:South Whitley Community Public Library\, 201 East Front Street\, South Whitley\, IN\, 46787\, United States
CATEGORIES:All Ages/General Public,Technology
ATTACH;FMTTYPE=image/png:https://swcplib.com/wp-content/uploads/2023/01/2.png
ORGANIZER;CN="South Whitley Community Public Library":MAILTO:info@swcplib.com
END:VEVENT
BEGIN:VEVENT
DTSTART;TZID=America/Indiana/Indianapolis:20300220T103000
DTEND;TZID=America/Indiana/Indianapolis:20300220T103000
DTSTAMP:20260424T220556
CREATED:20240513T192619Z
LAST-MODIFIED:20251126T160413Z
UID:10008644-1897813800-1897813800@swcplib.com
SUMMARY:Tai Chi / Chair Yoga
DESCRIPTION:A video-led session that allows participants to choose between tai chi or chair yoga.
URL:https://swcplib.com/event/tai-chi-for-beginners/2030-02-20/
LOCATION:South Whitley Community Public Library\, 201 East Front Street\, South Whitley\, IN\, 46787\, United States
CATEGORIES:All Ages/General Public,Health & Wellness
ATTACH;FMTTYPE=image/png:https://swcplib.com/wp-content/uploads/2024/05/Tai-Chi.png
ORGANIZER;CN="South Whitley Community Public Library":MAILTO:info@swcplib.com
END:VEVENT
BEGIN:VEVENT
DTSTART;TZID=America/Indiana/Indianapolis:20300222T103000
DTEND;TZID=America/Indiana/Indianapolis:20300222T103000
DTSTAMP:20260424T220556
CREATED:20251204T191556Z
LAST-MODIFIED:20260122T203052Z
UID:10010690-1897986600-1897986600@swcplib.com
SUMMARY:Fitness Fridays
DESCRIPTION:Adults of all ages and fitness levels are welcome to join us for a high-energy\, low-impact workout including warm-up\, strength\, cardio and balance exercises. Please enter through the auditorium doors.
URL:https://swcplib.com/event/morning-workout-2/2030-02-22/
LOCATION:IN
CATEGORIES:All Ages/General Public,Health & Wellness
ATTACH;FMTTYPE=image/png:https://swcplib.com/wp-content/uploads/2023/11/Exercise.png
END:VEVENT
BEGIN:VEVENT
DTSTART;TZID=America/Indiana/Indianapolis:20300223T100000
DTEND;TZID=America/Indiana/Indianapolis:20300223T100000
DTSTAMP:20260424T220556
CREATED:20230609T165132Z
LAST-MODIFIED:20260324T150929Z
UID:10011542-1898071200-1898071200@swcplib.com
SUMMARY:Beginner Yoga
DESCRIPTION:Our Saturday yoga class is expanding to every Saturday. Adults are welcome to join instructor Katie Shelby for a beginner yoga class that includes personal instruction as well as video instruction.
URL:https://swcplib.com/event/beginner-yoga-2-2/2030-02-23/
LOCATION:South Whitley Community Public Library\, 201 East Front Street\, South Whitley\, IN\, 46787\, United States
CATEGORIES:All Ages/General Public,Health & Wellness
ATTACH;FMTTYPE=image/png:https://swcplib.com/wp-content/uploads/2021/12/Summer-Reading-2022-7.png
ORGANIZER;CN="South Whitley Community Public Library":MAILTO:info@swcplib.com
END:VEVENT
BEGIN:VEVENT
DTSTART;TZID=America/Indiana/Indianapolis:20300225T093000
DTEND;TZID=America/Indiana/Indianapolis:20300225T093000
DTSTAMP:20260424T220557
CREATED:20231116T215517Z
LAST-MODIFIED:20250520T182058Z
UID:10008647-1898242200-1898242200@swcplib.com
SUMMARY:Morning Workout
DESCRIPTION:Adults of all ages and fitness levels are welcome to join us for a high-energy\, low-impact workout including warm-up\, strength\, cardio and balance exercises.
URL:https://swcplib.com/event/morning-workout/2030-02-25/
LOCATION:IN
CATEGORIES:All Ages/General Public,Health & Wellness
ATTACH;FMTTYPE=image/png:https://swcplib.com/wp-content/uploads/2023/11/Exercise.png
END:VEVENT
BEGIN:VEVENT
DTSTART;TZID=America/Indiana/Indianapolis:20300226T140000
DTEND;TZID=America/Indiana/Indianapolis:20300226T170000
DTSTAMP:20260424T220557
CREATED:20260226T200604Z
LAST-MODIFIED:20260226T200604Z
UID:10011050-1898344800-1898355600@swcplib.com
SUMMARY:Tech Tuesdays
DESCRIPTION:Have a question about your smartphone\, tablet or laptop? We’re here to help! Bring your device and its power cord to the library and a staff member will work with you on your issue. For extended help\, please schedule an appointment by contacting the front desk.
URL:https://swcplib.com/event/tech-tuesdays/2030-02-26/
LOCATION:South Whitley Community Public Library\, 201 East Front Street\, South Whitley\, IN\, 46787\, United States
CATEGORIES:All Ages/General Public,Technology
ATTACH;FMTTYPE=image/png:https://swcplib.com/wp-content/uploads/2023/01/2.png
ORGANIZER;CN="South Whitley Community Public Library":MAILTO:info@swcplib.com
END:VEVENT
BEGIN:VEVENT
DTSTART;TZID=America/Indiana/Indianapolis:20300227T103000
DTEND;TZID=America/Indiana/Indianapolis:20300227T103000
DTSTAMP:20260424T220557
CREATED:20240513T192619Z
LAST-MODIFIED:20251126T160413Z
UID:10008653-1898418600-1898418600@swcplib.com
SUMMARY:Tai Chi / Chair Yoga
DESCRIPTION:A video-led session that allows participants to choose between tai chi or chair yoga.
URL:https://swcplib.com/event/tai-chi-for-beginners/2030-02-27/
LOCATION:South Whitley Community Public Library\, 201 East Front Street\, South Whitley\, IN\, 46787\, United States
CATEGORIES:All Ages/General Public,Health & Wellness
ATTACH;FMTTYPE=image/png:https://swcplib.com/wp-content/uploads/2024/05/Tai-Chi.png
ORGANIZER;CN="South Whitley Community Public Library":MAILTO:info@swcplib.com
END:VEVENT
END:VCALENDAR