BEGIN:VCALENDAR
VERSION:2.0
PRODID:-//South Whitley Community Public Library - ECPv6.15.20//NONSGML v1.0//EN
CALSCALE:GREGORIAN
METHOD:PUBLISH
X-ORIGINAL-URL:https://swcplib.com
X-WR-CALDESC:Events for South Whitley Community Public Library
REFRESH-INTERVAL;VALUE=DURATION:PT1H
X-Robots-Tag:noindex
X-PUBLISHED-TTL:PT1H
BEGIN:VTIMEZONE
TZID:America/Indiana/Indianapolis
BEGIN:DAYLIGHT
TZOFFSETFROM:-0500
TZOFFSETTO:-0400
TZNAME:EDT
DTSTART:20270314T070000
END:DAYLIGHT
BEGIN:STANDARD
TZOFFSETFROM:-0400
TZOFFSETTO:-0500
TZNAME:EST
DTSTART:20271107T060000
END:STANDARD
BEGIN:DAYLIGHT
TZOFFSETFROM:-0500
TZOFFSETTO:-0400
TZNAME:EDT
DTSTART:20280312T070000
END:DAYLIGHT
BEGIN:STANDARD
TZOFFSETFROM:-0400
TZOFFSETTO:-0500
TZNAME:EST
DTSTART:20281105T060000
END:STANDARD
BEGIN:DAYLIGHT
TZOFFSETFROM:-0500
TZOFFSETTO:-0400
TZNAME:EDT
DTSTART:20290311T070000
END:DAYLIGHT
BEGIN:STANDARD
TZOFFSETFROM:-0400
TZOFFSETTO:-0500
TZNAME:EST
DTSTART:20291104T060000
END:STANDARD
END:VTIMEZONE
BEGIN:VEVENT
DTSTART;TZID=America/Indiana/Indianapolis:20280701T100000
DTEND;TZID=America/Indiana/Indianapolis:20280701T100000
DTSTAMP:20260423T213352
CREATED:20230609T165132Z
LAST-MODIFIED:20260324T150929Z
UID:10011456-1846058400-1846058400@swcplib.com
SUMMARY:Beginner Yoga
DESCRIPTION:Our Saturday yoga class is expanding to every Saturday. Adults are welcome to join instructor Katie Shelby for a beginner yoga class that includes personal instruction as well as video instruction.
URL:https://swcplib.com/event/beginner-yoga-2-2/2028-07-01/
LOCATION:South Whitley Community Public Library\, 201 East Front Street\, South Whitley\, IN\, 46787\, United States
CATEGORIES:All Ages/General Public,Health & Wellness
ATTACH;FMTTYPE=image/png:https://swcplib.com/wp-content/uploads/2021/12/Summer-Reading-2022-7.png
ORGANIZER;CN="South Whitley Community Public Library":MAILTO:info@swcplib.com
END:VEVENT
BEGIN:VEVENT
DTSTART;TZID=America/Indiana/Indianapolis:20280703T093000
DTEND;TZID=America/Indiana/Indianapolis:20280703T093000
DTSTAMP:20260423T213352
CREATED:20231116T215517Z
LAST-MODIFIED:20250520T182058Z
UID:10004732-1846229400-1846229400@swcplib.com
SUMMARY:Morning Workout
DESCRIPTION:Adults of all ages and fitness levels are welcome to join us for a high-energy\, low-impact workout including warm-up\, strength\, cardio and balance exercises.
URL:https://swcplib.com/event/morning-workout/2028-07-03/
LOCATION:IN
CATEGORIES:All Ages/General Public,Health & Wellness
ATTACH;FMTTYPE=image/png:https://swcplib.com/wp-content/uploads/2023/11/Exercise.png
END:VEVENT
BEGIN:VEVENT
DTSTART;TZID=America/Indiana/Indianapolis:20280704T140000
DTEND;TZID=America/Indiana/Indianapolis:20280704T170000
DTSTAMP:20260423T213352
CREATED:20260226T200604Z
LAST-MODIFIED:20260226T200604Z
UID:10010964-1846332000-1846342800@swcplib.com
SUMMARY:Tech Tuesdays
DESCRIPTION:Have a question about your smartphone\, tablet or laptop? We’re here to help! Bring your device and its power cord to the library and a staff member will work with you on your issue. For extended help\, please schedule an appointment by contacting the front desk.
URL:https://swcplib.com/event/tech-tuesdays/2028-07-04/
LOCATION:South Whitley Community Public Library\, 201 East Front Street\, South Whitley\, IN\, 46787\, United States
CATEGORIES:All Ages/General Public,Technology
ATTACH;FMTTYPE=image/png:https://swcplib.com/wp-content/uploads/2023/01/2.png
ORGANIZER;CN="South Whitley Community Public Library":MAILTO:info@swcplib.com
END:VEVENT
BEGIN:VEVENT
DTSTART;TZID=America/Indiana/Indianapolis:20280705T103000
DTEND;TZID=America/Indiana/Indianapolis:20280705T103000
DTSTAMP:20260423T213352
CREATED:20240513T192619Z
LAST-MODIFIED:20251126T160413Z
UID:10005894-1846405800-1846405800@swcplib.com
SUMMARY:Tai Chi / Chair Yoga
DESCRIPTION:A video-led session that allows participants to choose between tai chi or chair yoga.
URL:https://swcplib.com/event/tai-chi-for-beginners/2028-07-05/
LOCATION:South Whitley Community Public Library\, 201 East Front Street\, South Whitley\, IN\, 46787\, United States
CATEGORIES:All Ages/General Public,Health & Wellness
ATTACH;FMTTYPE=image/png:https://swcplib.com/wp-content/uploads/2024/05/Tai-Chi.png
ORGANIZER;CN="South Whitley Community Public Library":MAILTO:info@swcplib.com
END:VEVENT
BEGIN:VEVENT
DTSTART;TZID=America/Indiana/Indianapolis:20280707T103000
DTEND;TZID=America/Indiana/Indianapolis:20280707T103000
DTSTAMP:20260423T213352
CREATED:20251204T191556Z
LAST-MODIFIED:20260122T203052Z
UID:10010605-1846578600-1846578600@swcplib.com
SUMMARY:Fitness Fridays
DESCRIPTION:Adults of all ages and fitness levels are welcome to join us for a high-energy\, low-impact workout including warm-up\, strength\, cardio and balance exercises. Please enter through the auditorium doors.
URL:https://swcplib.com/event/morning-workout-2/2028-07-07/
LOCATION:IN
CATEGORIES:All Ages/General Public,Health & Wellness
ATTACH;FMTTYPE=image/png:https://swcplib.com/wp-content/uploads/2023/11/Exercise.png
END:VEVENT
BEGIN:VEVENT
DTSTART;TZID=America/Indiana/Indianapolis:20280708T100000
DTEND;TZID=America/Indiana/Indianapolis:20280708T100000
DTSTAMP:20260423T213352
CREATED:20230609T165132Z
LAST-MODIFIED:20260324T150929Z
UID:10011457-1846663200-1846663200@swcplib.com
SUMMARY:Beginner Yoga
DESCRIPTION:Our Saturday yoga class is expanding to every Saturday. Adults are welcome to join instructor Katie Shelby for a beginner yoga class that includes personal instruction as well as video instruction.
URL:https://swcplib.com/event/beginner-yoga-2-2/2028-07-08/
LOCATION:South Whitley Community Public Library\, 201 East Front Street\, South Whitley\, IN\, 46787\, United States
CATEGORIES:All Ages/General Public,Health & Wellness
ATTACH;FMTTYPE=image/png:https://swcplib.com/wp-content/uploads/2021/12/Summer-Reading-2022-7.png
ORGANIZER;CN="South Whitley Community Public Library":MAILTO:info@swcplib.com
END:VEVENT
BEGIN:VEVENT
DTSTART;TZID=America/Indiana/Indianapolis:20280710T093000
DTEND;TZID=America/Indiana/Indianapolis:20280710T093000
DTSTAMP:20260423T213352
CREATED:20231116T215517Z
LAST-MODIFIED:20250520T182058Z
UID:10004733-1846834200-1846834200@swcplib.com
SUMMARY:Morning Workout
DESCRIPTION:Adults of all ages and fitness levels are welcome to join us for a high-energy\, low-impact workout including warm-up\, strength\, cardio and balance exercises.
URL:https://swcplib.com/event/morning-workout/2028-07-10/
LOCATION:IN
CATEGORIES:All Ages/General Public,Health & Wellness
ATTACH;FMTTYPE=image/png:https://swcplib.com/wp-content/uploads/2023/11/Exercise.png
END:VEVENT
BEGIN:VEVENT
DTSTART;TZID=America/Indiana/Indianapolis:20280711T140000
DTEND;TZID=America/Indiana/Indianapolis:20280711T170000
DTSTAMP:20260423T213352
CREATED:20260226T200604Z
LAST-MODIFIED:20260226T200604Z
UID:10010965-1846936800-1846947600@swcplib.com
SUMMARY:Tech Tuesdays
DESCRIPTION:Have a question about your smartphone\, tablet or laptop? We’re here to help! Bring your device and its power cord to the library and a staff member will work with you on your issue. For extended help\, please schedule an appointment by contacting the front desk.
URL:https://swcplib.com/event/tech-tuesdays/2028-07-11/
LOCATION:South Whitley Community Public Library\, 201 East Front Street\, South Whitley\, IN\, 46787\, United States
CATEGORIES:All Ages/General Public,Technology
ATTACH;FMTTYPE=image/png:https://swcplib.com/wp-content/uploads/2023/01/2.png
ORGANIZER;CN="South Whitley Community Public Library":MAILTO:info@swcplib.com
END:VEVENT
BEGIN:VEVENT
DTSTART;TZID=America/Indiana/Indianapolis:20280712T103000
DTEND;TZID=America/Indiana/Indianapolis:20280712T103000
DTSTAMP:20260423T213352
CREATED:20240513T192619Z
LAST-MODIFIED:20251126T160413Z
UID:10005895-1847010600-1847010600@swcplib.com
SUMMARY:Tai Chi / Chair Yoga
DESCRIPTION:A video-led session that allows participants to choose between tai chi or chair yoga.
URL:https://swcplib.com/event/tai-chi-for-beginners/2028-07-12/
LOCATION:South Whitley Community Public Library\, 201 East Front Street\, South Whitley\, IN\, 46787\, United States
CATEGORIES:All Ages/General Public,Health & Wellness
ATTACH;FMTTYPE=image/png:https://swcplib.com/wp-content/uploads/2024/05/Tai-Chi.png
ORGANIZER;CN="South Whitley Community Public Library":MAILTO:info@swcplib.com
END:VEVENT
BEGIN:VEVENT
DTSTART;TZID=America/Indiana/Indianapolis:20280713T180000
DTEND;TZID=America/Indiana/Indianapolis:20280713T190000
DTSTAMP:20260423T213352
CREATED:20221206T171534Z
LAST-MODIFIED:20250719T124258Z
UID:10008317-1847124000-1847127600@swcplib.com
SUMMARY:Library Board Meeting
DESCRIPTION:The regular meeting of the Board of Trustees.
URL:https://swcplib.com/event/library-board-meeting/2028-07-13/
LOCATION:South Whitley Community Public Library\, 201 East Front Street\, South Whitley\, IN\, 46787\, United States
CATEGORIES:All Ages/General Public
ATTACH;FMTTYPE=image/jpeg:https://swcplib.com/wp-content/uploads/2020/10/IMG_20201009_143203-scaled.jpg
ORGANIZER;CN="South Whitley Community Public Library":MAILTO:info@swcplib.com
END:VEVENT
BEGIN:VEVENT
DTSTART;TZID=America/Indiana/Indianapolis:20280714T103000
DTEND;TZID=America/Indiana/Indianapolis:20280714T103000
DTSTAMP:20260423T213352
CREATED:20251204T191556Z
LAST-MODIFIED:20260122T203052Z
UID:10010606-1847183400-1847183400@swcplib.com
SUMMARY:Fitness Fridays
DESCRIPTION:Adults of all ages and fitness levels are welcome to join us for a high-energy\, low-impact workout including warm-up\, strength\, cardio and balance exercises. Please enter through the auditorium doors.
URL:https://swcplib.com/event/morning-workout-2/2028-07-14/
LOCATION:IN
CATEGORIES:All Ages/General Public,Health & Wellness
ATTACH;FMTTYPE=image/png:https://swcplib.com/wp-content/uploads/2023/11/Exercise.png
END:VEVENT
BEGIN:VEVENT
DTSTART;TZID=America/Indiana/Indianapolis:20280715T100000
DTEND;TZID=America/Indiana/Indianapolis:20280715T100000
DTSTAMP:20260423T213352
CREATED:20230609T165132Z
LAST-MODIFIED:20260324T150929Z
UID:10011458-1847268000-1847268000@swcplib.com
SUMMARY:Beginner Yoga
DESCRIPTION:Our Saturday yoga class is expanding to every Saturday. Adults are welcome to join instructor Katie Shelby for a beginner yoga class that includes personal instruction as well as video instruction.
URL:https://swcplib.com/event/beginner-yoga-2-2/2028-07-15/
LOCATION:South Whitley Community Public Library\, 201 East Front Street\, South Whitley\, IN\, 46787\, United States
CATEGORIES:All Ages/General Public,Health & Wellness
ATTACH;FMTTYPE=image/png:https://swcplib.com/wp-content/uploads/2021/12/Summer-Reading-2022-7.png
ORGANIZER;CN="South Whitley Community Public Library":MAILTO:info@swcplib.com
END:VEVENT
BEGIN:VEVENT
DTSTART;TZID=America/Indiana/Indianapolis:20280717T093000
DTEND;TZID=America/Indiana/Indianapolis:20280717T093000
DTSTAMP:20260423T213353
CREATED:20231116T215517Z
LAST-MODIFIED:20250520T182058Z
UID:10004734-1847439000-1847439000@swcplib.com
SUMMARY:Morning Workout
DESCRIPTION:Adults of all ages and fitness levels are welcome to join us for a high-energy\, low-impact workout including warm-up\, strength\, cardio and balance exercises.
URL:https://swcplib.com/event/morning-workout/2028-07-17/
LOCATION:IN
CATEGORIES:All Ages/General Public,Health & Wellness
ATTACH;FMTTYPE=image/png:https://swcplib.com/wp-content/uploads/2023/11/Exercise.png
END:VEVENT
BEGIN:VEVENT
DTSTART;TZID=America/Indiana/Indianapolis:20280718T140000
DTEND;TZID=America/Indiana/Indianapolis:20280718T170000
DTSTAMP:20260423T213353
CREATED:20260226T200604Z
LAST-MODIFIED:20260226T200604Z
UID:10010966-1847541600-1847552400@swcplib.com
SUMMARY:Tech Tuesdays
DESCRIPTION:Have a question about your smartphone\, tablet or laptop? We’re here to help! Bring your device and its power cord to the library and a staff member will work with you on your issue. For extended help\, please schedule an appointment by contacting the front desk.
URL:https://swcplib.com/event/tech-tuesdays/2028-07-18/
LOCATION:South Whitley Community Public Library\, 201 East Front Street\, South Whitley\, IN\, 46787\, United States
CATEGORIES:All Ages/General Public,Technology
ATTACH;FMTTYPE=image/png:https://swcplib.com/wp-content/uploads/2023/01/2.png
ORGANIZER;CN="South Whitley Community Public Library":MAILTO:info@swcplib.com
END:VEVENT
BEGIN:VEVENT
DTSTART;TZID=America/Indiana/Indianapolis:20280719T103000
DTEND;TZID=America/Indiana/Indianapolis:20280719T103000
DTSTAMP:20260423T213353
CREATED:20240513T192619Z
LAST-MODIFIED:20251126T160413Z
UID:10005896-1847615400-1847615400@swcplib.com
SUMMARY:Tai Chi / Chair Yoga
DESCRIPTION:A video-led session that allows participants to choose between tai chi or chair yoga.
URL:https://swcplib.com/event/tai-chi-for-beginners/2028-07-19/
LOCATION:South Whitley Community Public Library\, 201 East Front Street\, South Whitley\, IN\, 46787\, United States
CATEGORIES:All Ages/General Public,Health & Wellness
ATTACH;FMTTYPE=image/png:https://swcplib.com/wp-content/uploads/2024/05/Tai-Chi.png
ORGANIZER;CN="South Whitley Community Public Library":MAILTO:info@swcplib.com
END:VEVENT
BEGIN:VEVENT
DTSTART;TZID=America/Indiana/Indianapolis:20280721T103000
DTEND;TZID=America/Indiana/Indianapolis:20280721T103000
DTSTAMP:20260423T213353
CREATED:20251204T191556Z
LAST-MODIFIED:20260122T203052Z
UID:10010607-1847788200-1847788200@swcplib.com
SUMMARY:Fitness Fridays
DESCRIPTION:Adults of all ages and fitness levels are welcome to join us for a high-energy\, low-impact workout including warm-up\, strength\, cardio and balance exercises. Please enter through the auditorium doors.
URL:https://swcplib.com/event/morning-workout-2/2028-07-21/
LOCATION:IN
CATEGORIES:All Ages/General Public,Health & Wellness
ATTACH;FMTTYPE=image/png:https://swcplib.com/wp-content/uploads/2023/11/Exercise.png
END:VEVENT
BEGIN:VEVENT
DTSTART;TZID=America/Indiana/Indianapolis:20280722T100000
DTEND;TZID=America/Indiana/Indianapolis:20280722T100000
DTSTAMP:20260423T213353
CREATED:20230609T165132Z
LAST-MODIFIED:20260324T150929Z
UID:10011459-1847872800-1847872800@swcplib.com
SUMMARY:Beginner Yoga
DESCRIPTION:Our Saturday yoga class is expanding to every Saturday. Adults are welcome to join instructor Katie Shelby for a beginner yoga class that includes personal instruction as well as video instruction.
URL:https://swcplib.com/event/beginner-yoga-2-2/2028-07-22/
LOCATION:South Whitley Community Public Library\, 201 East Front Street\, South Whitley\, IN\, 46787\, United States
CATEGORIES:All Ages/General Public,Health & Wellness
ATTACH;FMTTYPE=image/png:https://swcplib.com/wp-content/uploads/2021/12/Summer-Reading-2022-7.png
ORGANIZER;CN="South Whitley Community Public Library":MAILTO:info@swcplib.com
END:VEVENT
BEGIN:VEVENT
DTSTART;TZID=America/Indiana/Indianapolis:20280724T093000
DTEND;TZID=America/Indiana/Indianapolis:20280724T093000
DTSTAMP:20260423T213353
CREATED:20231116T215517Z
LAST-MODIFIED:20250520T182058Z
UID:10004735-1848043800-1848043800@swcplib.com
SUMMARY:Morning Workout
DESCRIPTION:Adults of all ages and fitness levels are welcome to join us for a high-energy\, low-impact workout including warm-up\, strength\, cardio and balance exercises.
URL:https://swcplib.com/event/morning-workout/2028-07-24/
LOCATION:IN
CATEGORIES:All Ages/General Public,Health & Wellness
ATTACH;FMTTYPE=image/png:https://swcplib.com/wp-content/uploads/2023/11/Exercise.png
END:VEVENT
BEGIN:VEVENT
DTSTART;TZID=America/Indiana/Indianapolis:20280725T140000
DTEND;TZID=America/Indiana/Indianapolis:20280725T170000
DTSTAMP:20260423T213353
CREATED:20260226T200604Z
LAST-MODIFIED:20260226T200604Z
UID:10010967-1848146400-1848157200@swcplib.com
SUMMARY:Tech Tuesdays
DESCRIPTION:Have a question about your smartphone\, tablet or laptop? We’re here to help! Bring your device and its power cord to the library and a staff member will work with you on your issue. For extended help\, please schedule an appointment by contacting the front desk.
URL:https://swcplib.com/event/tech-tuesdays/2028-07-25/
LOCATION:South Whitley Community Public Library\, 201 East Front Street\, South Whitley\, IN\, 46787\, United States
CATEGORIES:All Ages/General Public,Technology
ATTACH;FMTTYPE=image/png:https://swcplib.com/wp-content/uploads/2023/01/2.png
ORGANIZER;CN="South Whitley Community Public Library":MAILTO:info@swcplib.com
END:VEVENT
BEGIN:VEVENT
DTSTART;TZID=America/Indiana/Indianapolis:20280726T103000
DTEND;TZID=America/Indiana/Indianapolis:20280726T103000
DTSTAMP:20260423T213353
CREATED:20240513T192619Z
LAST-MODIFIED:20251126T160413Z
UID:10005897-1848220200-1848220200@swcplib.com
SUMMARY:Tai Chi / Chair Yoga
DESCRIPTION:A video-led session that allows participants to choose between tai chi or chair yoga.
URL:https://swcplib.com/event/tai-chi-for-beginners/2028-07-26/
LOCATION:South Whitley Community Public Library\, 201 East Front Street\, South Whitley\, IN\, 46787\, United States
CATEGORIES:All Ages/General Public,Health & Wellness
ATTACH;FMTTYPE=image/png:https://swcplib.com/wp-content/uploads/2024/05/Tai-Chi.png
ORGANIZER;CN="South Whitley Community Public Library":MAILTO:info@swcplib.com
END:VEVENT
BEGIN:VEVENT
DTSTART;TZID=America/Indiana/Indianapolis:20280728T103000
DTEND;TZID=America/Indiana/Indianapolis:20280728T103000
DTSTAMP:20260423T213353
CREATED:20251204T191556Z
LAST-MODIFIED:20260122T203052Z
UID:10010608-1848393000-1848393000@swcplib.com
SUMMARY:Fitness Fridays
DESCRIPTION:Adults of all ages and fitness levels are welcome to join us for a high-energy\, low-impact workout including warm-up\, strength\, cardio and balance exercises. Please enter through the auditorium doors.
URL:https://swcplib.com/event/morning-workout-2/2028-07-28/
LOCATION:IN
CATEGORIES:All Ages/General Public,Health & Wellness
ATTACH;FMTTYPE=image/png:https://swcplib.com/wp-content/uploads/2023/11/Exercise.png
END:VEVENT
BEGIN:VEVENT
DTSTART;TZID=America/Indiana/Indianapolis:20280729T100000
DTEND;TZID=America/Indiana/Indianapolis:20280729T100000
DTSTAMP:20260423T213353
CREATED:20230609T165132Z
LAST-MODIFIED:20260324T150929Z
UID:10011460-1848477600-1848477600@swcplib.com
SUMMARY:Beginner Yoga
DESCRIPTION:Our Saturday yoga class is expanding to every Saturday. Adults are welcome to join instructor Katie Shelby for a beginner yoga class that includes personal instruction as well as video instruction.
URL:https://swcplib.com/event/beginner-yoga-2-2/2028-07-29/
LOCATION:South Whitley Community Public Library\, 201 East Front Street\, South Whitley\, IN\, 46787\, United States
CATEGORIES:All Ages/General Public,Health & Wellness
ATTACH;FMTTYPE=image/png:https://swcplib.com/wp-content/uploads/2021/12/Summer-Reading-2022-7.png
ORGANIZER;CN="South Whitley Community Public Library":MAILTO:info@swcplib.com
END:VEVENT
BEGIN:VEVENT
DTSTART;TZID=America/Indiana/Indianapolis:20280731T093000
DTEND;TZID=America/Indiana/Indianapolis:20280731T093000
DTSTAMP:20260423T213353
CREATED:20231116T215517Z
LAST-MODIFIED:20250520T182058Z
UID:10004736-1848648600-1848648600@swcplib.com
SUMMARY:Morning Workout
DESCRIPTION:Adults of all ages and fitness levels are welcome to join us for a high-energy\, low-impact workout including warm-up\, strength\, cardio and balance exercises.
URL:https://swcplib.com/event/morning-workout/2028-07-31/
LOCATION:IN
CATEGORIES:All Ages/General Public,Health & Wellness
ATTACH;FMTTYPE=image/png:https://swcplib.com/wp-content/uploads/2023/11/Exercise.png
END:VEVENT
END:VCALENDAR