BEGIN:VCALENDAR
VERSION:2.0
PRODID:-//South Whitley Community Public Library - ECPv6.15.20//NONSGML v1.0//EN
CALSCALE:GREGORIAN
METHOD:PUBLISH
X-WR-CALNAME:South Whitley Community Public Library
X-ORIGINAL-URL:https://swcplib.com
X-WR-CALDESC:Events for South Whitley Community Public Library
REFRESH-INTERVAL;VALUE=DURATION:PT1H
X-Robots-Tag:noindex
X-PUBLISHED-TTL:PT1H
BEGIN:VTIMEZONE
TZID:America/Indiana/Indianapolis
BEGIN:DAYLIGHT
TZOFFSETFROM:-0500
TZOFFSETTO:-0400
TZNAME:EDT
DTSTART:20270314T070000
END:DAYLIGHT
BEGIN:STANDARD
TZOFFSETFROM:-0400
TZOFFSETTO:-0500
TZNAME:EST
DTSTART:20271107T060000
END:STANDARD
BEGIN:DAYLIGHT
TZOFFSETFROM:-0500
TZOFFSETTO:-0400
TZNAME:EDT
DTSTART:20280312T070000
END:DAYLIGHT
BEGIN:STANDARD
TZOFFSETFROM:-0400
TZOFFSETTO:-0500
TZNAME:EST
DTSTART:20281105T060000
END:STANDARD
BEGIN:DAYLIGHT
TZOFFSETFROM:-0500
TZOFFSETTO:-0400
TZNAME:EDT
DTSTART:20290311T070000
END:DAYLIGHT
BEGIN:STANDARD
TZOFFSETFROM:-0400
TZOFFSETTO:-0500
TZNAME:EST
DTSTART:20291104T060000
END:STANDARD
END:VTIMEZONE
BEGIN:VEVENT
DTSTART;TZID=America/Indiana/Indianapolis:20280301T103000
DTEND;TZID=America/Indiana/Indianapolis:20280301T103000
DTSTAMP:20260423T161829
CREATED:20240513T192619Z
LAST-MODIFIED:20251126T160413Z
UID:10005876-1835519400-1835519400@swcplib.com
SUMMARY:Tai Chi / Chair Yoga
DESCRIPTION:A video-led session that allows participants to choose between tai chi or chair yoga.
URL:https://swcplib.com/event/tai-chi-for-beginners/2028-03-01/
LOCATION:South Whitley Community Public Library\, 201 East Front Street\, South Whitley\, IN\, 46787\, United States
CATEGORIES:All Ages/General Public,Health & Wellness
ATTACH;FMTTYPE=image/png:https://swcplib.com/wp-content/uploads/2024/05/Tai-Chi.png
ORGANIZER;CN="South Whitley Community Public Library":MAILTO:info@swcplib.com
END:VEVENT
BEGIN:VEVENT
DTSTART;TZID=America/Indiana/Indianapolis:20280303T103000
DTEND;TZID=America/Indiana/Indianapolis:20280303T103000
DTSTAMP:20260423T161829
CREATED:20251204T191556Z
LAST-MODIFIED:20260122T203052Z
UID:10010587-1835692200-1835692200@swcplib.com
SUMMARY:Fitness Fridays
DESCRIPTION:Adults of all ages and fitness levels are welcome to join us for a high-energy\, low-impact workout including warm-up\, strength\, cardio and balance exercises. Please enter through the auditorium doors.
URL:https://swcplib.com/event/morning-workout-2/2028-03-03/
LOCATION:IN
CATEGORIES:All Ages/General Public,Health & Wellness
ATTACH;FMTTYPE=image/png:https://swcplib.com/wp-content/uploads/2023/11/Exercise.png
END:VEVENT
BEGIN:VEVENT
DTSTART;TZID=America/Indiana/Indianapolis:20280304T100000
DTEND;TZID=America/Indiana/Indianapolis:20280304T100000
DTSTAMP:20260423T161829
CREATED:20230609T165132Z
LAST-MODIFIED:20260324T150929Z
UID:10011439-1835776800-1835776800@swcplib.com
SUMMARY:Beginner Yoga
DESCRIPTION:Our Saturday yoga class is expanding to every Saturday. Adults are welcome to join instructor Katie Shelby for a beginner yoga class that includes personal instruction as well as video instruction.
URL:https://swcplib.com/event/beginner-yoga-2-2/2028-03-04/
LOCATION:South Whitley Community Public Library\, 201 East Front Street\, South Whitley\, IN\, 46787\, United States
CATEGORIES:All Ages/General Public,Health & Wellness
ATTACH;FMTTYPE=image/png:https://swcplib.com/wp-content/uploads/2021/12/Summer-Reading-2022-7.png
ORGANIZER;CN="South Whitley Community Public Library":MAILTO:info@swcplib.com
END:VEVENT
BEGIN:VEVENT
DTSTART;TZID=America/Indiana/Indianapolis:20280306T093000
DTEND;TZID=America/Indiana/Indianapolis:20280306T093000
DTSTAMP:20260423T161829
CREATED:20231116T215517Z
LAST-MODIFIED:20250520T182058Z
UID:10004715-1835947800-1835947800@swcplib.com
SUMMARY:Morning Workout
DESCRIPTION:Adults of all ages and fitness levels are welcome to join us for a high-energy\, low-impact workout including warm-up\, strength\, cardio and balance exercises.
URL:https://swcplib.com/event/morning-workout/2028-03-06/
LOCATION:IN
CATEGORIES:All Ages/General Public,Health & Wellness
ATTACH;FMTTYPE=image/png:https://swcplib.com/wp-content/uploads/2023/11/Exercise.png
END:VEVENT
BEGIN:VEVENT
DTSTART;TZID=America/Indiana/Indianapolis:20280307T140000
DTEND;TZID=America/Indiana/Indianapolis:20280307T170000
DTSTAMP:20260423T161829
CREATED:20260226T200604Z
LAST-MODIFIED:20260226T200604Z
UID:10010947-1836050400-1836061200@swcplib.com
SUMMARY:Tech Tuesdays
DESCRIPTION:Have a question about your smartphone\, tablet or laptop? We’re here to help! Bring your device and its power cord to the library and a staff member will work with you on your issue. For extended help\, please schedule an appointment by contacting the front desk.
URL:https://swcplib.com/event/tech-tuesdays/2028-03-07/
LOCATION:South Whitley Community Public Library\, 201 East Front Street\, South Whitley\, IN\, 46787\, United States
CATEGORIES:All Ages/General Public,Technology
ATTACH;FMTTYPE=image/png:https://swcplib.com/wp-content/uploads/2023/01/2.png
ORGANIZER;CN="South Whitley Community Public Library":MAILTO:info@swcplib.com
END:VEVENT
BEGIN:VEVENT
DTSTART;TZID=America/Indiana/Indianapolis:20280308T103000
DTEND;TZID=America/Indiana/Indianapolis:20280308T103000
DTSTAMP:20260423T161829
CREATED:20240513T192619Z
LAST-MODIFIED:20251126T160413Z
UID:10005877-1836124200-1836124200@swcplib.com
SUMMARY:Tai Chi / Chair Yoga
DESCRIPTION:A video-led session that allows participants to choose between tai chi or chair yoga.
URL:https://swcplib.com/event/tai-chi-for-beginners/2028-03-08/
LOCATION:South Whitley Community Public Library\, 201 East Front Street\, South Whitley\, IN\, 46787\, United States
CATEGORIES:All Ages/General Public,Health & Wellness
ATTACH;FMTTYPE=image/png:https://swcplib.com/wp-content/uploads/2024/05/Tai-Chi.png
ORGANIZER;CN="South Whitley Community Public Library":MAILTO:info@swcplib.com
END:VEVENT
BEGIN:VEVENT
DTSTART;TZID=America/Indiana/Indianapolis:20280309T180000
DTEND;TZID=America/Indiana/Indianapolis:20280309T190000
DTSTAMP:20260423T161829
CREATED:20221206T171534Z
LAST-MODIFIED:20250719T124258Z
UID:10008313-1836237600-1836241200@swcplib.com
SUMMARY:Library Board Meeting
DESCRIPTION:The regular meeting of the Board of Trustees.
URL:https://swcplib.com/event/library-board-meeting/2028-03-09/
LOCATION:South Whitley Community Public Library\, 201 East Front Street\, South Whitley\, IN\, 46787\, United States
CATEGORIES:All Ages/General Public
ATTACH;FMTTYPE=image/jpeg:https://swcplib.com/wp-content/uploads/2020/10/IMG_20201009_143203-scaled.jpg
ORGANIZER;CN="South Whitley Community Public Library":MAILTO:info@swcplib.com
END:VEVENT
BEGIN:VEVENT
DTSTART;TZID=America/Indiana/Indianapolis:20280310T103000
DTEND;TZID=America/Indiana/Indianapolis:20280310T103000
DTSTAMP:20260423T161829
CREATED:20251204T191556Z
LAST-MODIFIED:20260122T203052Z
UID:10010588-1836297000-1836297000@swcplib.com
SUMMARY:Fitness Fridays
DESCRIPTION:Adults of all ages and fitness levels are welcome to join us for a high-energy\, low-impact workout including warm-up\, strength\, cardio and balance exercises. Please enter through the auditorium doors.
URL:https://swcplib.com/event/morning-workout-2/2028-03-10/
LOCATION:IN
CATEGORIES:All Ages/General Public,Health & Wellness
ATTACH;FMTTYPE=image/png:https://swcplib.com/wp-content/uploads/2023/11/Exercise.png
END:VEVENT
BEGIN:VEVENT
DTSTART;TZID=America/Indiana/Indianapolis:20280311T100000
DTEND;TZID=America/Indiana/Indianapolis:20280311T100000
DTSTAMP:20260423T161829
CREATED:20230609T165132Z
LAST-MODIFIED:20260324T150929Z
UID:10011440-1836381600-1836381600@swcplib.com
SUMMARY:Beginner Yoga
DESCRIPTION:Our Saturday yoga class is expanding to every Saturday. Adults are welcome to join instructor Katie Shelby for a beginner yoga class that includes personal instruction as well as video instruction.
URL:https://swcplib.com/event/beginner-yoga-2-2/2028-03-11/
LOCATION:South Whitley Community Public Library\, 201 East Front Street\, South Whitley\, IN\, 46787\, United States
CATEGORIES:All Ages/General Public,Health & Wellness
ATTACH;FMTTYPE=image/png:https://swcplib.com/wp-content/uploads/2021/12/Summer-Reading-2022-7.png
ORGANIZER;CN="South Whitley Community Public Library":MAILTO:info@swcplib.com
END:VEVENT
BEGIN:VEVENT
DTSTART;TZID=America/Indiana/Indianapolis:20280313T093000
DTEND;TZID=America/Indiana/Indianapolis:20280313T093000
DTSTAMP:20260423T161829
CREATED:20231116T215517Z
LAST-MODIFIED:20250520T182058Z
UID:10004716-1836552600-1836552600@swcplib.com
SUMMARY:Morning Workout
DESCRIPTION:Adults of all ages and fitness levels are welcome to join us for a high-energy\, low-impact workout including warm-up\, strength\, cardio and balance exercises.
URL:https://swcplib.com/event/morning-workout/2028-03-13/
LOCATION:IN
CATEGORIES:All Ages/General Public,Health & Wellness
ATTACH;FMTTYPE=image/png:https://swcplib.com/wp-content/uploads/2023/11/Exercise.png
END:VEVENT
BEGIN:VEVENT
DTSTART;TZID=America/Indiana/Indianapolis:20280314T140000
DTEND;TZID=America/Indiana/Indianapolis:20280314T170000
DTSTAMP:20260423T161829
CREATED:20260226T200604Z
LAST-MODIFIED:20260226T200604Z
UID:10010948-1836655200-1836666000@swcplib.com
SUMMARY:Tech Tuesdays
DESCRIPTION:Have a question about your smartphone\, tablet or laptop? We’re here to help! Bring your device and its power cord to the library and a staff member will work with you on your issue. For extended help\, please schedule an appointment by contacting the front desk.
URL:https://swcplib.com/event/tech-tuesdays/2028-03-14/
LOCATION:South Whitley Community Public Library\, 201 East Front Street\, South Whitley\, IN\, 46787\, United States
CATEGORIES:All Ages/General Public,Technology
ATTACH;FMTTYPE=image/png:https://swcplib.com/wp-content/uploads/2023/01/2.png
ORGANIZER;CN="South Whitley Community Public Library":MAILTO:info@swcplib.com
END:VEVENT
BEGIN:VEVENT
DTSTART;TZID=America/Indiana/Indianapolis:20280315T103000
DTEND;TZID=America/Indiana/Indianapolis:20280315T103000
DTSTAMP:20260423T161829
CREATED:20240513T192619Z
LAST-MODIFIED:20251126T160413Z
UID:10005878-1836729000-1836729000@swcplib.com
SUMMARY:Tai Chi / Chair Yoga
DESCRIPTION:A video-led session that allows participants to choose between tai chi or chair yoga.
URL:https://swcplib.com/event/tai-chi-for-beginners/2028-03-15/
LOCATION:South Whitley Community Public Library\, 201 East Front Street\, South Whitley\, IN\, 46787\, United States
CATEGORIES:All Ages/General Public,Health & Wellness
ATTACH;FMTTYPE=image/png:https://swcplib.com/wp-content/uploads/2024/05/Tai-Chi.png
ORGANIZER;CN="South Whitley Community Public Library":MAILTO:info@swcplib.com
END:VEVENT
BEGIN:VEVENT
DTSTART;TZID=America/Indiana/Indianapolis:20280317T103000
DTEND;TZID=America/Indiana/Indianapolis:20280317T103000
DTSTAMP:20260423T161829
CREATED:20251204T191556Z
LAST-MODIFIED:20260122T203052Z
UID:10010589-1836901800-1836901800@swcplib.com
SUMMARY:Fitness Fridays
DESCRIPTION:Adults of all ages and fitness levels are welcome to join us for a high-energy\, low-impact workout including warm-up\, strength\, cardio and balance exercises. Please enter through the auditorium doors.
URL:https://swcplib.com/event/morning-workout-2/2028-03-17/
LOCATION:IN
CATEGORIES:All Ages/General Public,Health & Wellness
ATTACH;FMTTYPE=image/png:https://swcplib.com/wp-content/uploads/2023/11/Exercise.png
END:VEVENT
BEGIN:VEVENT
DTSTART;TZID=America/Indiana/Indianapolis:20280318T100000
DTEND;TZID=America/Indiana/Indianapolis:20280318T100000
DTSTAMP:20260423T161829
CREATED:20230609T165132Z
LAST-MODIFIED:20260324T150929Z
UID:10011441-1836986400-1836986400@swcplib.com
SUMMARY:Beginner Yoga
DESCRIPTION:Our Saturday yoga class is expanding to every Saturday. Adults are welcome to join instructor Katie Shelby for a beginner yoga class that includes personal instruction as well as video instruction.
URL:https://swcplib.com/event/beginner-yoga-2-2/2028-03-18/
LOCATION:South Whitley Community Public Library\, 201 East Front Street\, South Whitley\, IN\, 46787\, United States
CATEGORIES:All Ages/General Public,Health & Wellness
ATTACH;FMTTYPE=image/png:https://swcplib.com/wp-content/uploads/2021/12/Summer-Reading-2022-7.png
ORGANIZER;CN="South Whitley Community Public Library":MAILTO:info@swcplib.com
END:VEVENT
BEGIN:VEVENT
DTSTART;TZID=America/Indiana/Indianapolis:20280320T093000
DTEND;TZID=America/Indiana/Indianapolis:20280320T093000
DTSTAMP:20260423T161829
CREATED:20231116T215517Z
LAST-MODIFIED:20250520T182058Z
UID:10004717-1837157400-1837157400@swcplib.com
SUMMARY:Morning Workout
DESCRIPTION:Adults of all ages and fitness levels are welcome to join us for a high-energy\, low-impact workout including warm-up\, strength\, cardio and balance exercises.
URL:https://swcplib.com/event/morning-workout/2028-03-20/
LOCATION:IN
CATEGORIES:All Ages/General Public,Health & Wellness
ATTACH;FMTTYPE=image/png:https://swcplib.com/wp-content/uploads/2023/11/Exercise.png
END:VEVENT
BEGIN:VEVENT
DTSTART;TZID=America/Indiana/Indianapolis:20280321T140000
DTEND;TZID=America/Indiana/Indianapolis:20280321T170000
DTSTAMP:20260423T161829
CREATED:20260226T200604Z
LAST-MODIFIED:20260226T200604Z
UID:10010949-1837260000-1837270800@swcplib.com
SUMMARY:Tech Tuesdays
DESCRIPTION:Have a question about your smartphone\, tablet or laptop? We’re here to help! Bring your device and its power cord to the library and a staff member will work with you on your issue. For extended help\, please schedule an appointment by contacting the front desk.
URL:https://swcplib.com/event/tech-tuesdays/2028-03-21/
LOCATION:South Whitley Community Public Library\, 201 East Front Street\, South Whitley\, IN\, 46787\, United States
CATEGORIES:All Ages/General Public,Technology
ATTACH;FMTTYPE=image/png:https://swcplib.com/wp-content/uploads/2023/01/2.png
ORGANIZER;CN="South Whitley Community Public Library":MAILTO:info@swcplib.com
END:VEVENT
BEGIN:VEVENT
DTSTART;TZID=America/Indiana/Indianapolis:20280322T103000
DTEND;TZID=America/Indiana/Indianapolis:20280322T103000
DTSTAMP:20260423T161829
CREATED:20240513T192619Z
LAST-MODIFIED:20251126T160413Z
UID:10005879-1837333800-1837333800@swcplib.com
SUMMARY:Tai Chi / Chair Yoga
DESCRIPTION:A video-led session that allows participants to choose between tai chi or chair yoga.
URL:https://swcplib.com/event/tai-chi-for-beginners/2028-03-22/
LOCATION:South Whitley Community Public Library\, 201 East Front Street\, South Whitley\, IN\, 46787\, United States
CATEGORIES:All Ages/General Public,Health & Wellness
ATTACH;FMTTYPE=image/png:https://swcplib.com/wp-content/uploads/2024/05/Tai-Chi.png
ORGANIZER;CN="South Whitley Community Public Library":MAILTO:info@swcplib.com
END:VEVENT
BEGIN:VEVENT
DTSTART;TZID=America/Indiana/Indianapolis:20280324T103000
DTEND;TZID=America/Indiana/Indianapolis:20280324T103000
DTSTAMP:20260423T161829
CREATED:20251204T191556Z
LAST-MODIFIED:20260122T203052Z
UID:10010590-1837506600-1837506600@swcplib.com
SUMMARY:Fitness Fridays
DESCRIPTION:Adults of all ages and fitness levels are welcome to join us for a high-energy\, low-impact workout including warm-up\, strength\, cardio and balance exercises. Please enter through the auditorium doors.
URL:https://swcplib.com/event/morning-workout-2/2028-03-24/
LOCATION:IN
CATEGORIES:All Ages/General Public,Health & Wellness
ATTACH;FMTTYPE=image/png:https://swcplib.com/wp-content/uploads/2023/11/Exercise.png
END:VEVENT
BEGIN:VEVENT
DTSTART;TZID=America/Indiana/Indianapolis:20280325T100000
DTEND;TZID=America/Indiana/Indianapolis:20280325T100000
DTSTAMP:20260423T161829
CREATED:20230609T165132Z
LAST-MODIFIED:20260324T150929Z
UID:10011442-1837591200-1837591200@swcplib.com
SUMMARY:Beginner Yoga
DESCRIPTION:Our Saturday yoga class is expanding to every Saturday. Adults are welcome to join instructor Katie Shelby for a beginner yoga class that includes personal instruction as well as video instruction.
URL:https://swcplib.com/event/beginner-yoga-2-2/2028-03-25/
LOCATION:South Whitley Community Public Library\, 201 East Front Street\, South Whitley\, IN\, 46787\, United States
CATEGORIES:All Ages/General Public,Health & Wellness
ATTACH;FMTTYPE=image/png:https://swcplib.com/wp-content/uploads/2021/12/Summer-Reading-2022-7.png
ORGANIZER;CN="South Whitley Community Public Library":MAILTO:info@swcplib.com
END:VEVENT
BEGIN:VEVENT
DTSTART;TZID=America/Indiana/Indianapolis:20280327T093000
DTEND;TZID=America/Indiana/Indianapolis:20280327T093000
DTSTAMP:20260423T161829
CREATED:20231116T215517Z
LAST-MODIFIED:20250520T182058Z
UID:10004718-1837762200-1837762200@swcplib.com
SUMMARY:Morning Workout
DESCRIPTION:Adults of all ages and fitness levels are welcome to join us for a high-energy\, low-impact workout including warm-up\, strength\, cardio and balance exercises.
URL:https://swcplib.com/event/morning-workout/2028-03-27/
LOCATION:IN
CATEGORIES:All Ages/General Public,Health & Wellness
ATTACH;FMTTYPE=image/png:https://swcplib.com/wp-content/uploads/2023/11/Exercise.png
END:VEVENT
BEGIN:VEVENT
DTSTART;TZID=America/Indiana/Indianapolis:20280328T140000
DTEND;TZID=America/Indiana/Indianapolis:20280328T170000
DTSTAMP:20260423T161829
CREATED:20260226T200604Z
LAST-MODIFIED:20260226T200604Z
UID:10010950-1837864800-1837875600@swcplib.com
SUMMARY:Tech Tuesdays
DESCRIPTION:Have a question about your smartphone\, tablet or laptop? We’re here to help! Bring your device and its power cord to the library and a staff member will work with you on your issue. For extended help\, please schedule an appointment by contacting the front desk.
URL:https://swcplib.com/event/tech-tuesdays/2028-03-28/
LOCATION:South Whitley Community Public Library\, 201 East Front Street\, South Whitley\, IN\, 46787\, United States
CATEGORIES:All Ages/General Public,Technology
ATTACH;FMTTYPE=image/png:https://swcplib.com/wp-content/uploads/2023/01/2.png
ORGANIZER;CN="South Whitley Community Public Library":MAILTO:info@swcplib.com
END:VEVENT
BEGIN:VEVENT
DTSTART;TZID=America/Indiana/Indianapolis:20280329T103000
DTEND;TZID=America/Indiana/Indianapolis:20280329T103000
DTSTAMP:20260423T161829
CREATED:20240513T192619Z
LAST-MODIFIED:20251126T160413Z
UID:10005880-1837938600-1837938600@swcplib.com
SUMMARY:Tai Chi / Chair Yoga
DESCRIPTION:A video-led session that allows participants to choose between tai chi or chair yoga.
URL:https://swcplib.com/event/tai-chi-for-beginners/2028-03-29/
LOCATION:South Whitley Community Public Library\, 201 East Front Street\, South Whitley\, IN\, 46787\, United States
CATEGORIES:All Ages/General Public,Health & Wellness
ATTACH;FMTTYPE=image/png:https://swcplib.com/wp-content/uploads/2024/05/Tai-Chi.png
ORGANIZER;CN="South Whitley Community Public Library":MAILTO:info@swcplib.com
END:VEVENT
BEGIN:VEVENT
DTSTART;TZID=America/Indiana/Indianapolis:20280331T103000
DTEND;TZID=America/Indiana/Indianapolis:20280331T103000
DTSTAMP:20260423T161829
CREATED:20251204T191556Z
LAST-MODIFIED:20260122T203052Z
UID:10010591-1838111400-1838111400@swcplib.com
SUMMARY:Fitness Fridays
DESCRIPTION:Adults of all ages and fitness levels are welcome to join us for a high-energy\, low-impact workout including warm-up\, strength\, cardio and balance exercises. Please enter through the auditorium doors.
URL:https://swcplib.com/event/morning-workout-2/2028-03-31/
LOCATION:IN
CATEGORIES:All Ages/General Public,Health & Wellness
ATTACH;FMTTYPE=image/png:https://swcplib.com/wp-content/uploads/2023/11/Exercise.png
END:VEVENT
END:VCALENDAR