BEGIN:VCALENDAR
VERSION:2.0
PRODID:-//South Whitley Community Public Library - ECPv6.15.20//NONSGML v1.0//EN
CALSCALE:GREGORIAN
METHOD:PUBLISH
X-ORIGINAL-URL:https://swcplib.com
X-WR-CALDESC:Events for South Whitley Community Public Library
REFRESH-INTERVAL;VALUE=DURATION:PT1H
X-Robots-Tag:noindex
X-PUBLISHED-TTL:PT1H
BEGIN:VTIMEZONE
TZID:America/Indiana/Indianapolis
BEGIN:DAYLIGHT
TZOFFSETFROM:-0500
TZOFFSETTO:-0400
TZNAME:EDT
DTSTART:20260308T070000
END:DAYLIGHT
BEGIN:STANDARD
TZOFFSETFROM:-0400
TZOFFSETTO:-0500
TZNAME:EST
DTSTART:20261101T060000
END:STANDARD
BEGIN:DAYLIGHT
TZOFFSETFROM:-0500
TZOFFSETTO:-0400
TZNAME:EDT
DTSTART:20270314T070000
END:DAYLIGHT
BEGIN:STANDARD
TZOFFSETFROM:-0400
TZOFFSETTO:-0500
TZNAME:EST
DTSTART:20271107T060000
END:STANDARD
BEGIN:DAYLIGHT
TZOFFSETFROM:-0500
TZOFFSETTO:-0400
TZNAME:EDT
DTSTART:20280312T070000
END:DAYLIGHT
BEGIN:STANDARD
TZOFFSETFROM:-0400
TZOFFSETTO:-0500
TZNAME:EST
DTSTART:20281105T060000
END:STANDARD
END:VTIMEZONE
BEGIN:VEVENT
DTSTART;TZID=America/Indiana/Indianapolis:20270402T103000
DTEND;TZID=America/Indiana/Indianapolis:20270402T103000
DTSTAMP:20260423T015705
CREATED:20251204T191556Z
LAST-MODIFIED:20260122T203052Z
UID:10010539-1806661800-1806661800@swcplib.com
SUMMARY:Fitness Fridays
DESCRIPTION:Adults of all ages and fitness levels are welcome to join us for a high-energy\, low-impact workout including warm-up\, strength\, cardio and balance exercises. Please enter through the auditorium doors.
URL:https://swcplib.com/event/morning-workout-2/2027-04-02/
LOCATION:IN
CATEGORIES:All Ages/General Public,Health & Wellness
ATTACH;FMTTYPE=image/png:https://swcplib.com/wp-content/uploads/2023/11/Exercise.png
END:VEVENT
BEGIN:VEVENT
DTSTART;TZID=America/Indiana/Indianapolis:20270403T100000
DTEND;TZID=America/Indiana/Indianapolis:20270403T100000
DTSTAMP:20260423T015705
CREATED:20230609T165132Z
LAST-MODIFIED:20260324T150929Z
UID:10011391-1806746400-1806746400@swcplib.com
SUMMARY:Beginner Yoga
DESCRIPTION:Our Saturday yoga class is expanding to every Saturday. Adults are welcome to join instructor Katie Shelby for a beginner yoga class that includes personal instruction as well as video instruction.
URL:https://swcplib.com/event/beginner-yoga-2-2/2027-04-03/
LOCATION:South Whitley Community Public Library\, 201 East Front Street\, South Whitley\, IN\, 46787\, United States
CATEGORIES:All Ages/General Public,Health & Wellness
ATTACH;FMTTYPE=image/png:https://swcplib.com/wp-content/uploads/2021/12/Summer-Reading-2022-7.png
ORGANIZER;CN="South Whitley Community Public Library":MAILTO:info@swcplib.com
END:VEVENT
BEGIN:VEVENT
DTSTART;TZID=America/Indiana/Indianapolis:20270405T093000
DTEND;TZID=America/Indiana/Indianapolis:20270405T093000
DTSTAMP:20260423T015705
CREATED:20231116T215517Z
LAST-MODIFIED:20250520T182058Z
UID:10004667-1806917400-1806917400@swcplib.com
SUMMARY:Morning Workout
DESCRIPTION:Adults of all ages and fitness levels are welcome to join us for a high-energy\, low-impact workout including warm-up\, strength\, cardio and balance exercises.
URL:https://swcplib.com/event/morning-workout/2027-04-05/
LOCATION:IN
CATEGORIES:All Ages/General Public,Health & Wellness
ATTACH;FMTTYPE=image/png:https://swcplib.com/wp-content/uploads/2023/11/Exercise.png
END:VEVENT
BEGIN:VEVENT
DTSTART;TZID=America/Indiana/Indianapolis:20270406T140000
DTEND;TZID=America/Indiana/Indianapolis:20270406T170000
DTSTAMP:20260423T015705
CREATED:20260226T200604Z
LAST-MODIFIED:20260226T200604Z
UID:10010899-1807020000-1807030800@swcplib.com
SUMMARY:Tech Tuesdays
DESCRIPTION:Have a question about your smartphone\, tablet or laptop? We’re here to help! Bring your device and its power cord to the library and a staff member will work with you on your issue. For extended help\, please schedule an appointment by contacting the front desk.
URL:https://swcplib.com/event/tech-tuesdays/2027-04-06/
LOCATION:South Whitley Community Public Library\, 201 East Front Street\, South Whitley\, IN\, 46787\, United States
CATEGORIES:All Ages/General Public,Technology
ATTACH;FMTTYPE=image/png:https://swcplib.com/wp-content/uploads/2023/01/2.png
ORGANIZER;CN="South Whitley Community Public Library":MAILTO:info@swcplib.com
END:VEVENT
BEGIN:VEVENT
DTSTART;TZID=America/Indiana/Indianapolis:20270407T103000
DTEND;TZID=America/Indiana/Indianapolis:20270407T103000
DTSTAMP:20260423T015705
CREATED:20240513T192619Z
LAST-MODIFIED:20251126T160413Z
UID:10005829-1807093800-1807093800@swcplib.com
SUMMARY:Tai Chi / Chair Yoga
DESCRIPTION:A video-led session that allows participants to choose between tai chi or chair yoga.
URL:https://swcplib.com/event/tai-chi-for-beginners/2027-04-07/
LOCATION:South Whitley Community Public Library\, 201 East Front Street\, South Whitley\, IN\, 46787\, United States
CATEGORIES:All Ages/General Public,Health & Wellness
ATTACH;FMTTYPE=image/png:https://swcplib.com/wp-content/uploads/2024/05/Tai-Chi.png
ORGANIZER;CN="South Whitley Community Public Library":MAILTO:info@swcplib.com
END:VEVENT
BEGIN:VEVENT
DTSTART;TZID=America/Indiana/Indianapolis:20270408T180000
DTEND;TZID=America/Indiana/Indianapolis:20270408T190000
DTSTAMP:20260423T015705
CREATED:20221206T171534Z
LAST-MODIFIED:20250719T124258Z
UID:10008302-1807207200-1807210800@swcplib.com
SUMMARY:Library Board Meeting
DESCRIPTION:The regular meeting of the Board of Trustees.
URL:https://swcplib.com/event/library-board-meeting/2027-04-08/
LOCATION:South Whitley Community Public Library\, 201 East Front Street\, South Whitley\, IN\, 46787\, United States
CATEGORIES:All Ages/General Public
ATTACH;FMTTYPE=image/jpeg:https://swcplib.com/wp-content/uploads/2020/10/IMG_20201009_143203-scaled.jpg
ORGANIZER;CN="South Whitley Community Public Library":MAILTO:info@swcplib.com
END:VEVENT
BEGIN:VEVENT
DTSTART;TZID=America/Indiana/Indianapolis:20270409T103000
DTEND;TZID=America/Indiana/Indianapolis:20270409T103000
DTSTAMP:20260423T015705
CREATED:20251204T191556Z
LAST-MODIFIED:20260122T203052Z
UID:10010540-1807266600-1807266600@swcplib.com
SUMMARY:Fitness Fridays
DESCRIPTION:Adults of all ages and fitness levels are welcome to join us for a high-energy\, low-impact workout including warm-up\, strength\, cardio and balance exercises. Please enter through the auditorium doors.
URL:https://swcplib.com/event/morning-workout-2/2027-04-09/
LOCATION:IN
CATEGORIES:All Ages/General Public,Health & Wellness
ATTACH;FMTTYPE=image/png:https://swcplib.com/wp-content/uploads/2023/11/Exercise.png
END:VEVENT
BEGIN:VEVENT
DTSTART;TZID=America/Indiana/Indianapolis:20270410T100000
DTEND;TZID=America/Indiana/Indianapolis:20270410T100000
DTSTAMP:20260423T015705
CREATED:20230609T165132Z
LAST-MODIFIED:20260324T150929Z
UID:10011392-1807351200-1807351200@swcplib.com
SUMMARY:Beginner Yoga
DESCRIPTION:Our Saturday yoga class is expanding to every Saturday. Adults are welcome to join instructor Katie Shelby for a beginner yoga class that includes personal instruction as well as video instruction.
URL:https://swcplib.com/event/beginner-yoga-2-2/2027-04-10/
LOCATION:South Whitley Community Public Library\, 201 East Front Street\, South Whitley\, IN\, 46787\, United States
CATEGORIES:All Ages/General Public,Health & Wellness
ATTACH;FMTTYPE=image/png:https://swcplib.com/wp-content/uploads/2021/12/Summer-Reading-2022-7.png
ORGANIZER;CN="South Whitley Community Public Library":MAILTO:info@swcplib.com
END:VEVENT
BEGIN:VEVENT
DTSTART;TZID=America/Indiana/Indianapolis:20270412T093000
DTEND;TZID=America/Indiana/Indianapolis:20270412T093000
DTSTAMP:20260423T015705
CREATED:20231116T215517Z
LAST-MODIFIED:20250520T182058Z
UID:10004668-1807522200-1807522200@swcplib.com
SUMMARY:Morning Workout
DESCRIPTION:Adults of all ages and fitness levels are welcome to join us for a high-energy\, low-impact workout including warm-up\, strength\, cardio and balance exercises.
URL:https://swcplib.com/event/morning-workout/2027-04-12/
LOCATION:IN
CATEGORIES:All Ages/General Public,Health & Wellness
ATTACH;FMTTYPE=image/png:https://swcplib.com/wp-content/uploads/2023/11/Exercise.png
END:VEVENT
BEGIN:VEVENT
DTSTART;TZID=America/Indiana/Indianapolis:20270413T140000
DTEND;TZID=America/Indiana/Indianapolis:20270413T170000
DTSTAMP:20260423T015705
CREATED:20260226T200604Z
LAST-MODIFIED:20260226T200604Z
UID:10010900-1807624800-1807635600@swcplib.com
SUMMARY:Tech Tuesdays
DESCRIPTION:Have a question about your smartphone\, tablet or laptop? We’re here to help! Bring your device and its power cord to the library and a staff member will work with you on your issue. For extended help\, please schedule an appointment by contacting the front desk.
URL:https://swcplib.com/event/tech-tuesdays/2027-04-13/
LOCATION:South Whitley Community Public Library\, 201 East Front Street\, South Whitley\, IN\, 46787\, United States
CATEGORIES:All Ages/General Public,Technology
ATTACH;FMTTYPE=image/png:https://swcplib.com/wp-content/uploads/2023/01/2.png
ORGANIZER;CN="South Whitley Community Public Library":MAILTO:info@swcplib.com
END:VEVENT
BEGIN:VEVENT
DTSTART;TZID=America/Indiana/Indianapolis:20270414T103000
DTEND;TZID=America/Indiana/Indianapolis:20270414T103000
DTSTAMP:20260423T015705
CREATED:20240513T192619Z
LAST-MODIFIED:20251126T160413Z
UID:10005830-1807698600-1807698600@swcplib.com
SUMMARY:Tai Chi / Chair Yoga
DESCRIPTION:A video-led session that allows participants to choose between tai chi or chair yoga.
URL:https://swcplib.com/event/tai-chi-for-beginners/2027-04-14/
LOCATION:South Whitley Community Public Library\, 201 East Front Street\, South Whitley\, IN\, 46787\, United States
CATEGORIES:All Ages/General Public,Health & Wellness
ATTACH;FMTTYPE=image/png:https://swcplib.com/wp-content/uploads/2024/05/Tai-Chi.png
ORGANIZER;CN="South Whitley Community Public Library":MAILTO:info@swcplib.com
END:VEVENT
BEGIN:VEVENT
DTSTART;TZID=America/Indiana/Indianapolis:20270416T103000
DTEND;TZID=America/Indiana/Indianapolis:20270416T103000
DTSTAMP:20260423T015705
CREATED:20251204T191556Z
LAST-MODIFIED:20260122T203052Z
UID:10010541-1807871400-1807871400@swcplib.com
SUMMARY:Fitness Fridays
DESCRIPTION:Adults of all ages and fitness levels are welcome to join us for a high-energy\, low-impact workout including warm-up\, strength\, cardio and balance exercises. Please enter through the auditorium doors.
URL:https://swcplib.com/event/morning-workout-2/2027-04-16/
LOCATION:IN
CATEGORIES:All Ages/General Public,Health & Wellness
ATTACH;FMTTYPE=image/png:https://swcplib.com/wp-content/uploads/2023/11/Exercise.png
END:VEVENT
BEGIN:VEVENT
DTSTART;TZID=America/Indiana/Indianapolis:20270417T100000
DTEND;TZID=America/Indiana/Indianapolis:20270417T100000
DTSTAMP:20260423T015705
CREATED:20230609T165132Z
LAST-MODIFIED:20260324T150929Z
UID:10011393-1807956000-1807956000@swcplib.com
SUMMARY:Beginner Yoga
DESCRIPTION:Our Saturday yoga class is expanding to every Saturday. Adults are welcome to join instructor Katie Shelby for a beginner yoga class that includes personal instruction as well as video instruction.
URL:https://swcplib.com/event/beginner-yoga-2-2/2027-04-17/
LOCATION:South Whitley Community Public Library\, 201 East Front Street\, South Whitley\, IN\, 46787\, United States
CATEGORIES:All Ages/General Public,Health & Wellness
ATTACH;FMTTYPE=image/png:https://swcplib.com/wp-content/uploads/2021/12/Summer-Reading-2022-7.png
ORGANIZER;CN="South Whitley Community Public Library":MAILTO:info@swcplib.com
END:VEVENT
BEGIN:VEVENT
DTSTART;TZID=America/Indiana/Indianapolis:20270419T093000
DTEND;TZID=America/Indiana/Indianapolis:20270419T093000
DTSTAMP:20260423T015705
CREATED:20231116T215517Z
LAST-MODIFIED:20250520T182058Z
UID:10004669-1808127000-1808127000@swcplib.com
SUMMARY:Morning Workout
DESCRIPTION:Adults of all ages and fitness levels are welcome to join us for a high-energy\, low-impact workout including warm-up\, strength\, cardio and balance exercises.
URL:https://swcplib.com/event/morning-workout/2027-04-19/
LOCATION:IN
CATEGORIES:All Ages/General Public,Health & Wellness
ATTACH;FMTTYPE=image/png:https://swcplib.com/wp-content/uploads/2023/11/Exercise.png
END:VEVENT
BEGIN:VEVENT
DTSTART;TZID=America/Indiana/Indianapolis:20270420T140000
DTEND;TZID=America/Indiana/Indianapolis:20270420T170000
DTSTAMP:20260423T015705
CREATED:20260226T200604Z
LAST-MODIFIED:20260226T200604Z
UID:10010901-1808229600-1808240400@swcplib.com
SUMMARY:Tech Tuesdays
DESCRIPTION:Have a question about your smartphone\, tablet or laptop? We’re here to help! Bring your device and its power cord to the library and a staff member will work with you on your issue. For extended help\, please schedule an appointment by contacting the front desk.
URL:https://swcplib.com/event/tech-tuesdays/2027-04-20/
LOCATION:South Whitley Community Public Library\, 201 East Front Street\, South Whitley\, IN\, 46787\, United States
CATEGORIES:All Ages/General Public,Technology
ATTACH;FMTTYPE=image/png:https://swcplib.com/wp-content/uploads/2023/01/2.png
ORGANIZER;CN="South Whitley Community Public Library":MAILTO:info@swcplib.com
END:VEVENT
BEGIN:VEVENT
DTSTART;TZID=America/Indiana/Indianapolis:20270421T103000
DTEND;TZID=America/Indiana/Indianapolis:20270421T103000
DTSTAMP:20260423T015705
CREATED:20240513T192619Z
LAST-MODIFIED:20251126T160413Z
UID:10005831-1808303400-1808303400@swcplib.com
SUMMARY:Tai Chi / Chair Yoga
DESCRIPTION:A video-led session that allows participants to choose between tai chi or chair yoga.
URL:https://swcplib.com/event/tai-chi-for-beginners/2027-04-21/
LOCATION:South Whitley Community Public Library\, 201 East Front Street\, South Whitley\, IN\, 46787\, United States
CATEGORIES:All Ages/General Public,Health & Wellness
ATTACH;FMTTYPE=image/png:https://swcplib.com/wp-content/uploads/2024/05/Tai-Chi.png
ORGANIZER;CN="South Whitley Community Public Library":MAILTO:info@swcplib.com
END:VEVENT
BEGIN:VEVENT
DTSTART;TZID=America/Indiana/Indianapolis:20270423T103000
DTEND;TZID=America/Indiana/Indianapolis:20270423T103000
DTSTAMP:20260423T015705
CREATED:20251204T191556Z
LAST-MODIFIED:20260122T203052Z
UID:10010542-1808476200-1808476200@swcplib.com
SUMMARY:Fitness Fridays
DESCRIPTION:Adults of all ages and fitness levels are welcome to join us for a high-energy\, low-impact workout including warm-up\, strength\, cardio and balance exercises. Please enter through the auditorium doors.
URL:https://swcplib.com/event/morning-workout-2/2027-04-23/
LOCATION:IN
CATEGORIES:All Ages/General Public,Health & Wellness
ATTACH;FMTTYPE=image/png:https://swcplib.com/wp-content/uploads/2023/11/Exercise.png
END:VEVENT
BEGIN:VEVENT
DTSTART;TZID=America/Indiana/Indianapolis:20270424T100000
DTEND;TZID=America/Indiana/Indianapolis:20270424T100000
DTSTAMP:20260423T015705
CREATED:20230609T165132Z
LAST-MODIFIED:20260324T150929Z
UID:10011394-1808560800-1808560800@swcplib.com
SUMMARY:Beginner Yoga
DESCRIPTION:Our Saturday yoga class is expanding to every Saturday. Adults are welcome to join instructor Katie Shelby for a beginner yoga class that includes personal instruction as well as video instruction.
URL:https://swcplib.com/event/beginner-yoga-2-2/2027-04-24/
LOCATION:South Whitley Community Public Library\, 201 East Front Street\, South Whitley\, IN\, 46787\, United States
CATEGORIES:All Ages/General Public,Health & Wellness
ATTACH;FMTTYPE=image/png:https://swcplib.com/wp-content/uploads/2021/12/Summer-Reading-2022-7.png
ORGANIZER;CN="South Whitley Community Public Library":MAILTO:info@swcplib.com
END:VEVENT
BEGIN:VEVENT
DTSTART;TZID=America/Indiana/Indianapolis:20270426T093000
DTEND;TZID=America/Indiana/Indianapolis:20270426T093000
DTSTAMP:20260423T015705
CREATED:20231116T215517Z
LAST-MODIFIED:20250520T182058Z
UID:10004670-1808731800-1808731800@swcplib.com
SUMMARY:Morning Workout
DESCRIPTION:Adults of all ages and fitness levels are welcome to join us for a high-energy\, low-impact workout including warm-up\, strength\, cardio and balance exercises.
URL:https://swcplib.com/event/morning-workout/2027-04-26/
LOCATION:IN
CATEGORIES:All Ages/General Public,Health & Wellness
ATTACH;FMTTYPE=image/png:https://swcplib.com/wp-content/uploads/2023/11/Exercise.png
END:VEVENT
BEGIN:VEVENT
DTSTART;TZID=America/Indiana/Indianapolis:20270427T140000
DTEND;TZID=America/Indiana/Indianapolis:20270427T170000
DTSTAMP:20260423T015705
CREATED:20260226T200604Z
LAST-MODIFIED:20260226T200604Z
UID:10010902-1808834400-1808845200@swcplib.com
SUMMARY:Tech Tuesdays
DESCRIPTION:Have a question about your smartphone\, tablet or laptop? We’re here to help! Bring your device and its power cord to the library and a staff member will work with you on your issue. For extended help\, please schedule an appointment by contacting the front desk.
URL:https://swcplib.com/event/tech-tuesdays/2027-04-27/
LOCATION:South Whitley Community Public Library\, 201 East Front Street\, South Whitley\, IN\, 46787\, United States
CATEGORIES:All Ages/General Public,Technology
ATTACH;FMTTYPE=image/png:https://swcplib.com/wp-content/uploads/2023/01/2.png
ORGANIZER;CN="South Whitley Community Public Library":MAILTO:info@swcplib.com
END:VEVENT
BEGIN:VEVENT
DTSTART;TZID=America/Indiana/Indianapolis:20270428T103000
DTEND;TZID=America/Indiana/Indianapolis:20270428T103000
DTSTAMP:20260423T015705
CREATED:20240513T192619Z
LAST-MODIFIED:20251126T160413Z
UID:10005832-1808908200-1808908200@swcplib.com
SUMMARY:Tai Chi / Chair Yoga
DESCRIPTION:A video-led session that allows participants to choose between tai chi or chair yoga.
URL:https://swcplib.com/event/tai-chi-for-beginners/2027-04-28/
LOCATION:South Whitley Community Public Library\, 201 East Front Street\, South Whitley\, IN\, 46787\, United States
CATEGORIES:All Ages/General Public,Health & Wellness
ATTACH;FMTTYPE=image/png:https://swcplib.com/wp-content/uploads/2024/05/Tai-Chi.png
ORGANIZER;CN="South Whitley Community Public Library":MAILTO:info@swcplib.com
END:VEVENT
BEGIN:VEVENT
DTSTART;TZID=America/Indiana/Indianapolis:20270430T103000
DTEND;TZID=America/Indiana/Indianapolis:20270430T103000
DTSTAMP:20260423T015705
CREATED:20251204T191556Z
LAST-MODIFIED:20260122T203052Z
UID:10010543-1809081000-1809081000@swcplib.com
SUMMARY:Fitness Fridays
DESCRIPTION:Adults of all ages and fitness levels are welcome to join us for a high-energy\, low-impact workout including warm-up\, strength\, cardio and balance exercises. Please enter through the auditorium doors.
URL:https://swcplib.com/event/morning-workout-2/2027-04-30/
LOCATION:IN
CATEGORIES:All Ages/General Public,Health & Wellness
ATTACH;FMTTYPE=image/png:https://swcplib.com/wp-content/uploads/2023/11/Exercise.png
END:VEVENT
END:VCALENDAR